From mboxrd@z Thu Jan  1 00:00:00 1970
Return-Path: <test-report-bounces@dpdk.org>
Received: from mails.dpdk.org (mails.dpdk.org [217.70.189.124])
	by inbox.dpdk.org (Postfix) with ESMTP id 777D7456A5
	for <public@inbox.dpdk.org>; Thu, 25 Jul 2024 00:06:13 +0200 (CEST)
Received: from mails.dpdk.org (localhost [127.0.0.1])
	by mails.dpdk.org (Postfix) with ESMTP id 735D940648;
	Thu, 25 Jul 2024 00:06:13 +0200 (CEST)
Received: from mail-qv1-f99.google.com (mail-qv1-f99.google.com
 [209.85.219.99]) by mails.dpdk.org (Postfix) with ESMTP id 8EF7D402CF
 for <test-report@dpdk.org>; Thu, 25 Jul 2024 00:06:12 +0200 (CEST)
Received: by mail-qv1-f99.google.com with SMTP id
 6a1803df08f44-6b7acf213a3so1391066d6.1
 for <test-report@dpdk.org>; Wed, 24 Jul 2024 15:06:12 -0700 (PDT)
DKIM-Signature: v=1; a=rsa-sha256; c=relaxed/relaxed;
 d=iol.unh.edu; s=unh-iol; t=1721858772; x=1722463572; darn=dpdk.org;
 h=references:in-reply-to:cc:to:from:subject:message-id:date:from:to
 :cc:subject:date:message-id:reply-to;
 bh=vrwEl5jtYl2t4VUuLIDK1hnRV0IljmJO68sy/fmRf8E=;
 b=i8kRAB6r7rlhJ1D4AS37YhQTADXl4oFSOUFcLzZaumcSIfu/7L/VKJ/fk8p3CI4131
 eFIZHNWw4uLRe9mobVEHRLfzj7pQhVFWPhIYW+V1VE4r0S362bm2hBYCjiR7UssUZbs2
 A0XVbZe4uRdwKw/T9PKusNerw+cTKM82rYpBo=
X-Google-DKIM-Signature: v=1; a=rsa-sha256; c=relaxed/relaxed;
 d=1e100.net; s=20230601; t=1721858772; x=1722463572;
 h=references:in-reply-to:cc:to:from:subject:message-id:date
 :x-gm-message-state:from:to:cc:subject:date:message-id:reply-to;
 bh=vrwEl5jtYl2t4VUuLIDK1hnRV0IljmJO68sy/fmRf8E=;
 b=XJEIxz7jOUTqWLDn1/m2pFTmbXp8h55pSbspMlRkfal5xemyEeie5H/pQaJT4i+Dyx
 hQK4nlTOF6PS1p2b85QMou1IDesBCF3ntn7QEpHPiuzaEUFM7UbXNR+QVEHgh4RPz0nq
 PxzomJTCqbKiX5pHIveUnj+ReKfX+BFL4SQKY502sj+8NzUN1Gl5Ozm14tJOEYUCA9bM
 yiYjhKQKEQ0SyYomWPM9zmQ47NYS9bO6GkIqkl/4X5C8/KCkMPPW+fio2Mj+t0+Wgfkb
 Y+c+O+L07edpluTIv1T+0GZwBniqgUcVc8S82LX+jaczrLeyYu8ALuUeynZVG6kDGhGF
 WlSQ==
X-Gm-Message-State: AOJu0YxBuEPzS1XTG51WPwGDLhDddIHRcpt6HAgdFgtZI1u5dMaqB366
 qjjadx+JRPIVq3fr/4hxySQK/bI+ri+LFFRkAelB1JaFCfmeHVeQj8/wYz1lQ7mL8wkT8Dnm0zn
 CA+K3CSVya9tLG114ZPn+7+lhA5T8yk3ricJKcm69
X-Google-Smtp-Source: AGHT+IHAzbZ6w8X7FobHaqmMYSBELmPtndAWHW33MFyqJApVBBH+RPGN1SEvHPbEBoA1z7FwSDvZT17owiTo
X-Received: by 2002:a05:6214:2249:b0:6b0:729c:5efc with SMTP id
 6a1803df08f44-6bb3cad5a8bmr8735866d6.56.1721858771899; 
 Wed, 24 Jul 2024 15:06:11 -0700 (PDT)
Received: from postal.iol.unh.edu (postal.iol.unh.edu. [132.177.123.84])
 by smtp-relay.gmail.com with ESMTPS id
 6a1803df08f44-6bb3f8fb851sm59716d6.18.2024.07.24.15.06.11
 (version=TLS1_2 cipher=ECDHE-ECDSA-AES128-GCM-SHA256 bits=128/128);
 Wed, 24 Jul 2024 15:06:11 -0700 (PDT)
X-Relaying-Domain: iol.unh.edu
Date: Wed, 24 Jul 2024 15:06:11 -0700 (PDT)
Message-ID: <66a17ad3.050a0220.18c5a1.0396SMTPIN_ADDED_MISSING@mx.google.com>
Received: from [172.21.0.8] (unknown [172.18.0.240])
 by postal.iol.unh.edu (Postfix) with ESMTP id 8D501605C351;
 Wed, 24 Jul 2024 18:06:11 -0400 (EDT)
Subject: |PENDING| pw142686 [PATCH] [v1] net/ntnic: add missing SPDX tag
From: dpdklab@iol.unh.edu
To: Test Report <test-report@dpdk.org>
Cc: dpdk-test-reports@iol.unh.edu
In-Reply-To: <20240724131445.510743-1-mko-plv@napatech.com>
References: <20240724131445.510743-1-mko-plv@napatech.com>
Content-Type: text/plain
X-BeenThere: test-report@dpdk.org
X-Mailman-Version: 2.1.29
Precedence: list
List-Id: automatic DPDK test reports <test-report.dpdk.org>
List-Unsubscribe: <https://mails.dpdk.org/options/test-report>,
 <mailto:test-report-request@dpdk.org?subject=unsubscribe>
List-Archive: <http://mails.dpdk.org/archives/test-report/>
List-Post: <mailto:test-report@dpdk.org>
List-Help: <mailto:test-report-request@dpdk.org?subject=help>
List-Subscribe: <https://mails.dpdk.org/listinfo/test-report>,
 <mailto:test-report-request@dpdk.org?subject=subscribe>
Errors-To: test-report-bounces@dpdk.org

Test-Label: iol-abi-testing
Test-Status: PENDING
http://dpdk.org/patch/142686

_Testing pending_

Submitter: Mykola Kostenok <mko-plv@napatech.com>
Date: Wednesday, July 24 2024 13:14:43 
DPDK git baseline: Repo:dpdk
  Branch: master
  CommitID:82c47f005b9a0a1e3a649664b7713443d18abe43

142686 --> testing pending

Upstream job id: Generic-DPDK-Compile-ABI#100293

Test environment and result as below:

+-------------------+----------+
|    Environment    | abi_test |
+===================+==========+
| CentOS Stream 8   | PASS     |
+-------------------+----------+
| CentOS Stream 9   | PASS     |
+-------------------+----------+
| Debian Bullseye   | PASS     |
+-------------------+----------+
| Debian 12         | PASS     |
+-------------------+----------+
| Fedora 37         | PASS     |
+-------------------+----------+
| Fedora 38 (Clang) | PASS     |
+-------------------+----------+
| Fedora 38         | PASS     |
+-------------------+----------+
| Fedora 39 (Clang) | PASS     |
+-------------------+----------+
| Fedora 40 (Clang) | PASS     |
+-------------------+----------+
| Fedora 39         | PASS     |
+-------------------+----------+
| Fedora 40         | PEND     |
+-------------------+----------+
| openSUSE Leap 15  | PASS     |
+-------------------+----------+
| RHEL8             | PASS     |
+-------------------+----------+
| RHEL9             | PASS     |
+-------------------+----------+
| Ubuntu 22.04      | PASS     |
+-------------------+----------+
| Ubuntu 24.04      | PEND     |
+-------------------+----------+


CentOS Stream 8
	Kernel: 5.4.0-167-generic
	Compiler: gcc 8.5.0 20210514

CentOS Stream 9
	Kernel: 5.4.0-167-generic
	Compiler: gcc 11.4.1 20230605

Debian Bullseye
	Kernel: 5.4.0-167-generic
	Compiler: gcc 10.2.1-6

Debian 12
	Kernel: Container Host Kernel
	Compiler: gcc 12.2.0

Fedora 37
	Kernel: Depends on container host system
	Compiler: gcc 12.3.1

Fedora 38 (Clang)
	Kernel: Depends on container host
	Compiler: clang 16.0.6

Fedora 38
	Kernel: Depends on container host
	Compiler: gcc 13.2.1

Fedora 39 (Clang)
	Kernel: Depends on container host
	Compiler: clang 17.0.6

Fedora 40 (Clang)
	Kernel: Depends on container host
	Compiler: clang 18.1.6

Fedora 39
	Kernel: Depends on container host
	Compiler: gcc 13.2.1

Fedora 40
	Kernel: Depends on container host
	Compiler: gcc 14.1.1

openSUSE Leap 15
	Kernel: 5.4.0-167-generic
	Compiler: gcc 7.5.0

RHEL8
	Kernel: 5.4.0-167-generic
	Compiler: gcc 8.5.0 20210514 (Red Hat 8.5.0-20)

RHEL9
	Kernel: Depends on container host
	Compiler: gcc 11.4.1

Ubuntu 22.04
	Kernel: 5.4.0-167-generic
	Compiler: gcc 11.4.0

Ubuntu 24.04
	Kernel: 5.4.0-167-generic
	Compiler: gcc 13.2.0

To view detailed results, visit:
https://lab.dpdk.org/results/dashboard/patchsets/30606/

UNH-IOL DPDK Community Lab

To manage your email subscriptions, visit: 
https://lab.dpdk.org/results/dashboard/preferences/subscriptions/