From mboxrd@z Thu Jan  1 00:00:00 1970
Return-Path: <test-report-bounces@dpdk.org>
Received: from mails.dpdk.org (mails.dpdk.org [217.70.189.124])
	by inbox.dpdk.org (Postfix) with ESMTP id C8687456A5
	for <public@inbox.dpdk.org>; Thu, 25 Jul 2024 01:08:10 +0200 (CEST)
Received: from mails.dpdk.org (localhost [127.0.0.1])
	by mails.dpdk.org (Postfix) with ESMTP id BE56040648;
	Thu, 25 Jul 2024 01:08:10 +0200 (CEST)
Received: from mail-il1-f226.google.com (mail-il1-f226.google.com
 [209.85.166.226])
 by mails.dpdk.org (Postfix) with ESMTP id 08D70402CF
 for <test-report@dpdk.org>; Thu, 25 Jul 2024 01:07:51 +0200 (CEST)
Received: by mail-il1-f226.google.com with SMTP id
 e9e14a558f8ab-397580fa3bcso638555ab.1
 for <test-report@dpdk.org>; Wed, 24 Jul 2024 16:07:50 -0700 (PDT)
DKIM-Signature: v=1; a=rsa-sha256; c=relaxed/relaxed;
 d=iol.unh.edu; s=unh-iol; t=1721862470; x=1722467270; darn=dpdk.org;
 h=references:in-reply-to:cc:to:from:subject:message-id:date:from:to
 :cc:subject:date:message-id:reply-to;
 bh=nOikOSLXGsJgd8fixfdtlNwgUUGN3maBMofIn0knnGA=;
 b=KKMOcHIg9X8N9ZFl+S4Q6jGIGlKNE0R36km6+FCPLB3ph7ewiupQY+hyo60MYHdrzU
 kvdBNYO7QKfjs8aQK43Wej8wur8rCa8jtudw9orJ5/N5H3A5MfRxsL1ISbs58e/1EJp9
 jzZRPwVmkseOW/td420GCnjdDyCRnZpg+KEmw=
X-Google-DKIM-Signature: v=1; a=rsa-sha256; c=relaxed/relaxed;
 d=1e100.net; s=20230601; t=1721862470; x=1722467270;
 h=references:in-reply-to:cc:to:from:subject:message-id:date
 :x-gm-message-state:from:to:cc:subject:date:message-id:reply-to;
 bh=nOikOSLXGsJgd8fixfdtlNwgUUGN3maBMofIn0knnGA=;
 b=uHF5wAsPzmpi/D71vuCFYbvJAKFQRkYXkppqf35tg/01k44dAnF8dp2tD3VXg8wPmx
 ZDCgSt3Y1xJWKcHZzRTnnNUSh/TGInBVcdj+8kOgIKFYGC59SzX0oJaPO1dDc+mNvMpF
 pab3QLXOgMaPghdaJSFHmYVv7lTCZLCqYwPUsBCMdkZRAJk0gwfoI93QtIEIgKSkwosw
 kEhWrUzVMVhAlbky+icTL+RITENOaaVJEN/SUqfMAyd/iU7YPclkPpVuQjO1m9z2WPnD
 2CgwB/j3YgpJs8Ye/IgPwmuXG9CGYoWpRU2V6ckg8n2F+Mk0TO+ozZ2nfnooAVr5y/E2
 di/Q==
X-Gm-Message-State: AOJu0YxMcHDiG/yD2m4YkcwDnjeI+43iLbdEeYkxxsJgNRnhMYz4Pkfi
 K11dt0sCm5X9J+XOBjaoVRvOVASFb024EQATgW3FnU/s1dlbdkT/hLSSdcHLuwSGF2UpQn0jYpf
 4lsz1iHHR1zuEoz4LLzVEm4XXMafgbiyOiJJ+IckQJQEZSF+xvyqBqDzn
X-Google-Smtp-Source: AGHT+IGOuBTObf6HwCB1YAzMgdT6k97tZtWc2n6WnghA4Zw0T0+bQYl3grN8Mjgb+ZEH8PYQY0PbonXcD9gn
X-Received: by 2002:a05:6e02:1aa7:b0:396:e8b8:88d with SMTP id
 e9e14a558f8ab-39a217f749fmr13639185ab.11.1721862470348; 
 Wed, 24 Jul 2024 16:07:50 -0700 (PDT)
Received: from postal.iol.unh.edu (postal.iol.unh.edu.
 [2606:4100:3880:1234::84]) by smtp-relay.gmail.com with ESMTPS id
 8926c6da1cb9f-4c29fc050cdsm7943173.68.2024.07.24.16.07.50
 (version=TLS1_2 cipher=ECDHE-ECDSA-AES128-GCM-SHA256 bits=128/128);
 Wed, 24 Jul 2024 16:07:50 -0700 (PDT)
X-Relaying-Domain: iol.unh.edu
Date: Wed, 24 Jul 2024 16:07:50 -0700 (PDT)
Message-ID: <66a18946.050a0220.26daeb.0505SMTPIN_ADDED_MISSING@mx.google.com>
Received: from [172.21.0.9] (unknown [172.18.0.240])
 by postal.iol.unh.edu (Postfix) with ESMTP id 97773605C351;
 Wed, 24 Jul 2024 19:07:49 -0400 (EDT)
Subject: |PENDING| pw142688-142690 [PATCH] [v5,3/3] dts: Improve logging for 
From: dpdklab@iol.unh.edu
To: Test Report <test-report@dpdk.org>
Cc: dpdk-test-reports@iol.unh.edu
In-Reply-To: <20240724140838.171012-4-jspewock@iol.unh.edu>
References: <20240724140838.171012-4-jspewock@iol.unh.edu>
Content-Type: text/plain
X-BeenThere: test-report@dpdk.org
X-Mailman-Version: 2.1.29
Precedence: list
List-Id: automatic DPDK test reports <test-report.dpdk.org>
List-Unsubscribe: <https://mails.dpdk.org/options/test-report>,
 <mailto:test-report-request@dpdk.org?subject=unsubscribe>
List-Archive: <http://mails.dpdk.org/archives/test-report/>
List-Post: <mailto:test-report@dpdk.org>
List-Help: <mailto:test-report-request@dpdk.org?subject=help>
List-Subscribe: <https://mails.dpdk.org/listinfo/test-report>,
 <mailto:test-report-request@dpdk.org?subject=subscribe>
Errors-To: test-report-bounces@dpdk.org

Test-Label: iol-unit-arm64-testing
Test-Status: PENDING
http://dpdk.org/patch/142690

_Testing pending_

Submitter: Jeremy Spewock <jspewock@iol.unh.edu>
Date: Wednesday, July 24 2024 14:08:38 
DPDK git baseline: Repo:dpdk
  Branch: master
  CommitID:82c47f005b9a0a1e3a649664b7713443d18abe43

142688-142690 --> testing pending

Upstream job id: Generic-Unit-Test-DPDK#244345

Test environment and result as below:

+-----------------------------+------------------------------+---------------------------+----------------+--------------+
|         Environment         | cryptodev_sw_snow3g_autotest | cryptodev_sw_zuc_autotest | dpdk_unit_test | lpm_autotest |
+=============================+==============================+===========================+================+==============+
| Debian 12 (arm)             | PASS                         | PASS                      | PASS           | SKIPPED      |
+-----------------------------+------------------------------+---------------------------+----------------+--------------+
| 32-bit Ubuntu 20.04.4 (ARM) | SKIPPED                      | SKIPPED                   | PASS           | SKIPPED      |
+-----------------------------+------------------------------+---------------------------+----------------+--------------+
| Debian 11 (Buster) (ARM)    | SKIPPED                      | SKIPPED                   | PASS           | SKIPPED      |
+-----------------------------+------------------------------+---------------------------+----------------+--------------+
| CentOS Stream 9 (ARM)       | SKIPPED                      | SKIPPED                   | PASS           | SKIPPED      |
+-----------------------------+------------------------------+---------------------------+----------------+--------------+
| Fedora 38 (ARM Clang)       | SKIPPED                      | SKIPPED                   | PEND           | SKIPPED      |
+-----------------------------+------------------------------+---------------------------+----------------+--------------+
| Fedora 37 (ARM)             | SKIPPED                      | SKIPPED                   | PASS           | SKIPPED      |
+-----------------------------+------------------------------+---------------------------+----------------+--------------+
| Fedora 38 (ARM)             | SKIPPED                      | SKIPPED                   | PASS           | SKIPPED      |
+-----------------------------+------------------------------+---------------------------+----------------+--------------+
| Fedora 39 (ARM)             | SKIPPED                      | SKIPPED                   | PASS           | SKIPPED      |
+-----------------------------+------------------------------+---------------------------+----------------+--------------+
| Fedora 39 (ARM Clang)       | SKIPPED                      | SKIPPED                   | PEND           | SKIPPED      |
+-----------------------------+------------------------------+---------------------------+----------------+--------------+
| Fedora 40 (ARM)             | SKIPPED                      | SKIPPED                   | PEND           | SKIPPED      |
+-----------------------------+------------------------------+---------------------------+----------------+--------------+
| Fedora 40 (ARM Clang)       | SKIPPED                      | SKIPPED                   | PEND           | SKIPPED      |
+-----------------------------+------------------------------+---------------------------+----------------+--------------+
| RHEL9 (ARM)                 | SKIPPED                      | SKIPPED                   | PEND           | SKIPPED      |
+-----------------------------+------------------------------+---------------------------+----------------+--------------+
| Ubuntu 24.04 (ARM)          | SKIPPED                      | SKIPPED                   | PEND           | SKIPPED      |
+-----------------------------+------------------------------+---------------------------+----------------+--------------+
| Ubuntu 22.04 (ARM)          | SKIPPED                      | SKIPPED                   | PEND           | SKIPPED      |
+-----------------------------+------------------------------+---------------------------+----------------+--------------+
| Ubuntu 20.04 (ARM)          | SKIPPED                      | SKIPPED                   | PEND           | SKIPPED      |
+-----------------------------+------------------------------+---------------------------+----------------+--------------+
| Ubuntu 20.04 ARM SVE        | SKIPPED                      | SKIPPED                   | SKIPPED        | PEND         |
+-----------------------------+------------------------------+---------------------------+----------------+--------------+


Debian 12 (arm)
	Kernel: Container Host Kernel
	Compiler: gcc 12.2.0

32-bit Ubuntu 20.04.4 (ARM)
	Kernel: 5.4.0-155-generic aarch64
	Compiler: gcc 9.4

Debian 11 (Buster) (ARM)
	Kernel: Container Host Kernel
	Compiler: gcc 10.2.1

CentOS Stream 9 (ARM)
	Kernel: Container Host Kernel
	Compiler: gcc 11.4.1

Fedora 38 (ARM Clang)
	Kernel: Depends on container host
	Compiler: clang 16.0.6

Fedora 37 (ARM)
	Kernel: Depends on container host
	Compiler: gcc 12.3.1

Fedora 38 (ARM)
	Kernel: Depends on container host
	Compiler: gcc 13.2.1

Fedora 39 (ARM)
	Kernel: Depends on container host
	Compiler: gcc 13.2.1

Fedora 39 (ARM Clang)
	Kernel: Depends on container host
	Compiler: clang 17.0.6

Fedora 40 (ARM)
	Kernel: Depends on container host
	Compiler: gcc 14.1.1

Fedora 40 (ARM Clang)
	Kernel: Depends on container host
	Compiler: clang 18.1.6

RHEL9 (ARM)
	Kernel: Depends on container host
	Compiler: gcc 11.4.1

Ubuntu 24.04 (ARM)
	Kernel: 5.4.0-167-generic
	Compiler: gcc 13.2.0

Ubuntu 22.04 (ARM)
	Kernel: Container Host Kernel
	Compiler: gcc 11.4.0

Ubuntu 20.04 (ARM)
	Kernel: Container Host Kernel
	Compiler: gcc 9.4.0

Ubuntu 20.04 ARM SVE
	Kernel: 5.4.0-167-generic
	Compiler: gcc (Ubuntu 10.5.0-1ubuntu1~20.04) 10.5.0

To view detailed results, visit:
https://lab.dpdk.org/results/dashboard/patchsets/30608/

UNH-IOL DPDK Community Lab

To manage your email subscriptions, visit: 
https://lab.dpdk.org/results/dashboard/preferences/subscriptions/