From mboxrd@z Thu Jan  1 00:00:00 1970
Return-Path: <test-report-bounces@dpdk.org>
Received: from mails.dpdk.org (mails.dpdk.org [217.70.189.124])
	by inbox.dpdk.org (Postfix) with ESMTP id 83ADD456A5
	for <public@inbox.dpdk.org>; Thu, 25 Jul 2024 02:26:41 +0200 (CEST)
Received: from mails.dpdk.org (localhost [127.0.0.1])
	by mails.dpdk.org (Postfix) with ESMTP id 7DAD840648;
	Thu, 25 Jul 2024 02:26:41 +0200 (CEST)
Received: from mail-io1-f97.google.com (mail-io1-f97.google.com
 [209.85.166.97]) by mails.dpdk.org (Postfix) with ESMTP id 8FEF9402CF
 for <test-report@dpdk.org>; Thu, 25 Jul 2024 02:26:40 +0200 (CEST)
Received: by mail-io1-f97.google.com with SMTP id
 ca18e2360f4ac-819c1f53617so14221039f.2
 for <test-report@dpdk.org>; Wed, 24 Jul 2024 17:26:40 -0700 (PDT)
DKIM-Signature: v=1; a=rsa-sha256; c=relaxed/relaxed;
 d=iol.unh.edu; s=unh-iol; t=1721867200; x=1722472000; darn=dpdk.org;
 h=references:in-reply-to:cc:to:from:subject:message-id:date:from:to
 :cc:subject:date:message-id:reply-to;
 bh=SPQUQynJMkdUGbCY5LyBRDdOg9JsbgzTZA5oK3Eatqo=;
 b=gYMYoUe+ZMxVwkpPbfjOuFvVVdiRjFDsP2emOsuWzPWIX2iXj+wge5ZILcjjaT5xPA
 ZlSe6t+1FJ+kr/EwMUT7WDjPSRw4kT4/kfqI3G4JOH6S6EUPkedXrJm0QFK6miRdKZQC
 GeXYxMIqQT9jZadjcXVFUSgT4DIqDEySB7K7E=
X-Google-DKIM-Signature: v=1; a=rsa-sha256; c=relaxed/relaxed;
 d=1e100.net; s=20230601; t=1721867200; x=1722472000;
 h=references:in-reply-to:cc:to:from:subject:message-id:date
 :x-gm-message-state:from:to:cc:subject:date:message-id:reply-to;
 bh=SPQUQynJMkdUGbCY5LyBRDdOg9JsbgzTZA5oK3Eatqo=;
 b=YvWiRgFnVa+ggvCyYke5lqTPHYR2C9aBgQ/FK++hEe6IHAV9RucqTJHNyIQsA/E++s
 pJokOw2gbs+pMHEfIsaTPlqjNaeo/fW84RbsJED0veCfkND0sRLVrNB5I/waLcKt+VLK
 Gf1Q3UkgYTT66VMGgn2ptCiB06Lmc/C/WQ3ourMje66Gzkuck8+Da8Gbakc21Vuzh4FX
 YuFozgtJ5hKXIWv0XXuMUw3Bh63AsluHZTrffZj1hQSCNT33qyg7rHMmX1Xte/URXU0a
 K40+iLAdJjlE8ewyyywCWbFiGX5dshYp7XwqL/+yz959CDOx620183FVFx7dI/vJYVr6
 j24Q==
X-Gm-Message-State: AOJu0YyxEeOA68pMSyqyuLchzt7gvR37HMBaGkwuaOmcgKaWYyw6LYsv
 tMntvBAKTZIdcSruRQZB+ekCCrnBeMEUJDpPSxJvTzAorpKrP1i4iLF0CoZrQ2rt148v5bLFbrc
 WI1EfwEDwBdsUnJdyZl53qjKXthSava5fFnCkVDJY
X-Google-Smtp-Source: AGHT+IHrV/NS95+HIY21vuW7rojgDmef12dfYqf6fYsEqG0KUiJKDPGckLf8E5EzR2XOjrlSkkXig46+TD+a
X-Received: by 2002:a05:6602:1503:b0:804:411a:16fa with SMTP id
 ca18e2360f4ac-81f7bd38b70mr193629139f.9.1721867199939; 
 Wed, 24 Jul 2024 17:26:39 -0700 (PDT)
Received: from postal.iol.unh.edu (postal.iol.unh.edu. [132.177.123.84])
 by smtp-relay.gmail.com with ESMTPS id
 8926c6da1cb9f-4c29fa42bd9sm16101173.10.2024.07.24.17.26.39
 (version=TLS1_2 cipher=ECDHE-ECDSA-AES128-GCM-SHA256 bits=128/128);
 Wed, 24 Jul 2024 17:26:39 -0700 (PDT)
X-Relaying-Domain: iol.unh.edu
Date: Wed, 24 Jul 2024 17:26:39 -0700 (PDT)
Message-ID: <66a19bbf.050a0220.2e4115.0af7SMTPIN_ADDED_MISSING@mx.google.com>
Received: from [172.21.0.6] (unknown [172.18.0.240])
 by postal.iol.unh.edu (Postfix) with ESMTP id 852F3605C351;
 Wed, 24 Jul 2024 20:26:39 -0400 (EDT)
Subject: |PENDING| pw142699-142700 [PATCH] [v3,2/2] dts: add dual_vlan test s
From: dpdklab@iol.unh.edu
To: Test Report <test-report@dpdk.org>
Cc: dpdk-test-reports@iol.unh.edu
In-Reply-To: <20240724171345.341495-3-jspewock@iol.unh.edu>
References: <20240724171345.341495-3-jspewock@iol.unh.edu>
Content-Type: text/plain
X-BeenThere: test-report@dpdk.org
X-Mailman-Version: 2.1.29
Precedence: list
List-Id: automatic DPDK test reports <test-report.dpdk.org>
List-Unsubscribe: <https://mails.dpdk.org/options/test-report>,
 <mailto:test-report-request@dpdk.org?subject=unsubscribe>
List-Archive: <http://mails.dpdk.org/archives/test-report/>
List-Post: <mailto:test-report@dpdk.org>
List-Help: <mailto:test-report-request@dpdk.org?subject=help>
List-Subscribe: <https://mails.dpdk.org/listinfo/test-report>,
 <mailto:test-report-request@dpdk.org?subject=subscribe>
Errors-To: test-report-bounces@dpdk.org

Test-Label: iol-abi-testing
Test-Status: PENDING
http://dpdk.org/patch/142700

_Testing pending_

Submitter: Jeremy Spewock <jspewock@iol.unh.edu>
Date: Wednesday, July 24 2024 17:13:45 
DPDK git baseline: Repo:dpdk
  Branch: master
  CommitID:82c47f005b9a0a1e3a649664b7713443d18abe43

142699-142700 --> testing pending

Upstream job id: Generic-DPDK-Compile-ABI#100304

Test environment and result as below:

+-------------------+----------+
|    Environment    | abi_test |
+===================+==========+
| CentOS Stream 9   | PASS     |
+-------------------+----------+
| CentOS Stream 8   | PASS     |
+-------------------+----------+
| Debian 12         | PASS     |
+-------------------+----------+
| Debian Bullseye   | PASS     |
+-------------------+----------+
| Fedora 37         | PASS     |
+-------------------+----------+
| Fedora 40 (Clang) | PEND     |
+-------------------+----------+
| Fedora 38         | PEND     |
+-------------------+----------+
| Fedora 38 (Clang) | PEND     |
+-------------------+----------+
| Fedora 39         | PEND     |
+-------------------+----------+
| Fedora 39 (Clang) | PEND     |
+-------------------+----------+
| Ubuntu 24.04      | PEND     |
+-------------------+----------+
| RHEL8             | PASS     |
+-------------------+----------+
| RHEL9             | PEND     |
+-------------------+----------+
| Fedora 40         | PEND     |
+-------------------+----------+
| openSUSE Leap 15  | PASS     |
+-------------------+----------+
| Ubuntu 22.04      | PEND     |
+-------------------+----------+


CentOS Stream 9
	Kernel: 5.4.0-167-generic
	Compiler: gcc 11.4.1 20230605

CentOS Stream 8
	Kernel: 5.4.0-167-generic
	Compiler: gcc 8.5.0 20210514

Debian 12
	Kernel: Container Host Kernel
	Compiler: gcc 12.2.0

Debian Bullseye
	Kernel: 5.4.0-167-generic
	Compiler: gcc 10.2.1-6

Fedora 37
	Kernel: Depends on container host system
	Compiler: gcc 12.3.1

Fedora 40 (Clang)
	Kernel: Depends on container host
	Compiler: clang 18.1.6

Fedora 38
	Kernel: Depends on container host
	Compiler: gcc 13.2.1

Fedora 38 (Clang)
	Kernel: Depends on container host
	Compiler: clang 16.0.6

Fedora 39
	Kernel: Depends on container host
	Compiler: gcc 13.2.1

Fedora 39 (Clang)
	Kernel: Depends on container host
	Compiler: clang 17.0.6

Ubuntu 24.04
	Kernel: 5.4.0-167-generic
	Compiler: gcc 13.2.0

RHEL8
	Kernel: 5.4.0-167-generic
	Compiler: gcc 8.5.0 20210514 (Red Hat 8.5.0-20)

RHEL9
	Kernel: Depends on container host
	Compiler: gcc 11.4.1

Fedora 40
	Kernel: Depends on container host
	Compiler: gcc 14.1.1

openSUSE Leap 15
	Kernel: 5.4.0-167-generic
	Compiler: gcc 7.5.0

Ubuntu 22.04
	Kernel: 5.4.0-167-generic
	Compiler: gcc 11.4.0

To view detailed results, visit:
https://lab.dpdk.org/results/dashboard/patchsets/30612/

UNH-IOL DPDK Community Lab

To manage your email subscriptions, visit: 
https://lab.dpdk.org/results/dashboard/preferences/subscriptions/