From mboxrd@z Thu Jan  1 00:00:00 1970
Return-Path: <test-report-bounces@dpdk.org>
Received: from mails.dpdk.org (mails.dpdk.org [217.70.189.124])
	by inbox.dpdk.org (Postfix) with ESMTP id B7786456A5
	for <public@inbox.dpdk.org>; Thu, 25 Jul 2024 02:43:33 +0200 (CEST)
Received: from mails.dpdk.org (localhost [127.0.0.1])
	by mails.dpdk.org (Postfix) with ESMTP id B4BE640648;
	Thu, 25 Jul 2024 02:43:33 +0200 (CEST)
Received: from mail-io1-f98.google.com (mail-io1-f98.google.com
 [209.85.166.98]) by mails.dpdk.org (Postfix) with ESMTP id 2818E402CF
 for <test-report@dpdk.org>; Thu, 25 Jul 2024 02:43:13 +0200 (CEST)
Received: by mail-io1-f98.google.com with SMTP id
 ca18e2360f4ac-807007b8dd1so15179839f.2
 for <test-report@dpdk.org>; Wed, 24 Jul 2024 17:43:13 -0700 (PDT)
DKIM-Signature: v=1; a=rsa-sha256; c=relaxed/relaxed;
 d=iol.unh.edu; s=unh-iol; t=1721868192; x=1722472992; darn=dpdk.org;
 h=references:in-reply-to:cc:to:from:subject:message-id:date:from:to
 :cc:subject:date:message-id:reply-to;
 bh=QDbE1GkHpsVTjmM6KvxV8pYNhWWT/6zATXh4gVVWt7s=;
 b=ANZ643GCoqDNcrgQeGJnSyUeIS/T3ZI5BYCj7SwPHZ3/iPD1369XFiopAIYgXBLqaY
 DHk8+pnnBZWDxr5nWGBAlA2qT3ss8KE+0VY8DShDHMhBhcA9rJDAOzRecqWa5rw5Nt8p
 FqMF8tIJS3nuDYsck+CNhGBsdlK06rBdKSQGU=
X-Google-DKIM-Signature: v=1; a=rsa-sha256; c=relaxed/relaxed;
 d=1e100.net; s=20230601; t=1721868192; x=1722472992;
 h=references:in-reply-to:cc:to:from:subject:message-id:date
 :x-gm-message-state:from:to:cc:subject:date:message-id:reply-to;
 bh=QDbE1GkHpsVTjmM6KvxV8pYNhWWT/6zATXh4gVVWt7s=;
 b=n/QzMlhUp5nPtaaEhvxsLalbODebjzGI65Zay2+NnnZXs/oyVaVzgFd4tmoID9J69U
 W/BLa7B4BjTrZbGNuHIaTYZWTqLasMf4qUJqpDarIjnXF2L/IH/W+qBZKL0o344g557S
 5Oi58qdr4eoAIjY+jutZSOFMAnSl7vqmvwueWUMhoqGlYx4H2oNHsiz2cqxd5YzUDg1N
 YYKhldmBv+ie1WC9pjNE4fUDruuqqi3HeQnlZmRjQTjChn+LHOcCO2gqpcw/zfWfEU5x
 WrIrimwbVS5jzoEBCcLRHW4JOPIFYjpS6PNZ3ojFFkFNhUs6ySIIHGGrO29en1nvQF+h
 x2JA==
X-Gm-Message-State: AOJu0YwDNBbD43aRwXSdxRb7wktwKaegHu6chzMHgTcy73k8CCmlNRFm
 YaX3e+DNwpDzqnzDdS0sePmhBtqURJ2zr57qi90hNYKpNN6shROfHFgJAcV8hBGLTBsce1/fd9e
 yYvmkCxIUTD3/ZFg6Pq/Lwih4/Vge/aXMwraourt/
X-Google-Smtp-Source: AGHT+IHXAd0CYJJUdsfLQHNsll4FCVP8eZN7cnkxEBJEuGeb7C23P3YhCfZbgstiD/ixQU/QrCBPI5Om2hp7
X-Received: by 2002:a05:6602:3425:b0:804:c529:8601 with SMTP id
 ca18e2360f4ac-81f7e3e2c56mr63160739f.3.1721868192491; 
 Wed, 24 Jul 2024 17:43:12 -0700 (PDT)
Received: from postal.iol.unh.edu (postal.iol.unh.edu. [132.177.123.84])
 by smtp-relay.gmail.com with ESMTPS id
 8926c6da1cb9f-4c29fc6449esm15356173.83.2024.07.24.17.43.12
 (version=TLS1_2 cipher=ECDHE-ECDSA-AES128-GCM-SHA256 bits=128/128);
 Wed, 24 Jul 2024 17:43:12 -0700 (PDT)
X-Relaying-Domain: iol.unh.edu
Date: Wed, 24 Jul 2024 17:43:12 -0700 (PDT)
Message-ID: <66a19fa0.020a0220.1b7e5d.09faSMTPIN_ADDED_MISSING@mx.google.com>
Received: from [172.21.0.8] (unknown [172.18.0.240])
 by postal.iol.unh.edu (Postfix) with ESMTP id 01FF8605C351;
 Wed, 24 Jul 2024 20:43:12 -0400 (EDT)
Subject: |PENDING| pw142696-142698 [PATCH] [v12,3/3] dts: config schema
From: dpdklab@iol.unh.edu
To: Test Report <test-report@dpdk.org>
Cc: dpdk-test-reports@iol.unh.edu
In-Reply-To: <20240724163004.5681-4-dmarx@iol.unh.edu>
References: <20240724163004.5681-4-dmarx@iol.unh.edu>
Content-Type: text/plain
X-BeenThere: test-report@dpdk.org
X-Mailman-Version: 2.1.29
Precedence: list
List-Id: automatic DPDK test reports <test-report.dpdk.org>
List-Unsubscribe: <https://mails.dpdk.org/options/test-report>,
 <mailto:test-report-request@dpdk.org?subject=unsubscribe>
List-Archive: <http://mails.dpdk.org/archives/test-report/>
List-Post: <mailto:test-report@dpdk.org>
List-Help: <mailto:test-report-request@dpdk.org?subject=help>
List-Subscribe: <https://mails.dpdk.org/listinfo/test-report>,
 <mailto:test-report-request@dpdk.org?subject=subscribe>
Errors-To: test-report-bounces@dpdk.org

Test-Label: iol-abi-testing
Test-Status: PENDING
http://dpdk.org/patch/142698

_Testing pending_

Submitter: Dean Marx <dmarx@iol.unh.edu>
Date: Wednesday, July 24 2024 16:30:04 
DPDK git baseline: Repo:dpdk
  Branch: master
  CommitID:82c47f005b9a0a1e3a649664b7713443d18abe43

142696-142698 --> testing pending

Upstream job id: Generic-DPDK-Compile-ABI#100318

Test environment and result as below:

+-------------------+----------+
|    Environment    | abi_test |
+===================+==========+
| Fedora 39         | PEND     |
+-------------------+----------+
| Debian 12         | PASS     |
+-------------------+----------+
| Fedora 37         | PEND     |
+-------------------+----------+
| Debian Bullseye   | PASS     |
+-------------------+----------+
| Fedora 38 (Clang) | PEND     |
+-------------------+----------+
| CentOS Stream 9   | PASS     |
+-------------------+----------+
| CentOS Stream 8   | PEND     |
+-------------------+----------+
| Fedora 38         | PEND     |
+-------------------+----------+
| Fedora 39 (Clang) | PEND     |
+-------------------+----------+
| Fedora 40 (Clang) | PEND     |
+-------------------+----------+
| RHEL8             | PEND     |
+-------------------+----------+
| openSUSE Leap 15  | PEND     |
+-------------------+----------+
| Fedora 40         | PEND     |
+-------------------+----------+
| RHEL9             | PEND     |
+-------------------+----------+
| Ubuntu 22.04      | PEND     |
+-------------------+----------+
| Ubuntu 24.04      | PEND     |
+-------------------+----------+


Fedora 39
	Kernel: Depends on container host
	Compiler: gcc 13.2.1

Debian 12
	Kernel: Container Host Kernel
	Compiler: gcc 12.2.0

Fedora 37
	Kernel: Depends on container host system
	Compiler: gcc 12.3.1

Debian Bullseye
	Kernel: 5.4.0-167-generic
	Compiler: gcc 10.2.1-6

Fedora 38 (Clang)
	Kernel: Depends on container host
	Compiler: clang 16.0.6

CentOS Stream 9
	Kernel: 5.4.0-167-generic
	Compiler: gcc 11.4.1 20230605

CentOS Stream 8
	Kernel: 5.4.0-167-generic
	Compiler: gcc 8.5.0 20210514

Fedora 38
	Kernel: Depends on container host
	Compiler: gcc 13.2.1

Fedora 39 (Clang)
	Kernel: Depends on container host
	Compiler: clang 17.0.6

Fedora 40 (Clang)
	Kernel: Depends on container host
	Compiler: clang 18.1.6

RHEL8
	Kernel: 5.4.0-167-generic
	Compiler: gcc 8.5.0 20210514 (Red Hat 8.5.0-20)

openSUSE Leap 15
	Kernel: 5.4.0-167-generic
	Compiler: gcc 7.5.0

Fedora 40
	Kernel: Depends on container host
	Compiler: gcc 14.1.1

RHEL9
	Kernel: Depends on container host
	Compiler: gcc 11.4.1

Ubuntu 22.04
	Kernel: 5.4.0-167-generic
	Compiler: gcc 11.4.0

Ubuntu 24.04
	Kernel: 5.4.0-167-generic
	Compiler: gcc 13.2.0

To view detailed results, visit:
https://lab.dpdk.org/results/dashboard/patchsets/30611/

UNH-IOL DPDK Community Lab

To manage your email subscriptions, visit: 
https://lab.dpdk.org/results/dashboard/preferences/subscriptions/