From mboxrd@z Thu Jan  1 00:00:00 1970
Return-Path: <test-report-bounces@dpdk.org>
Received: from mails.dpdk.org (mails.dpdk.org [217.70.189.124])
	by inbox.dpdk.org (Postfix) with ESMTP id 96417456A5
	for <public@inbox.dpdk.org>; Thu, 25 Jul 2024 03:02:44 +0200 (CEST)
Received: from mails.dpdk.org (localhost [127.0.0.1])
	by mails.dpdk.org (Postfix) with ESMTP id 92D2C40648;
	Thu, 25 Jul 2024 03:02:44 +0200 (CEST)
Received: from mail-yw1-f228.google.com (mail-yw1-f228.google.com
 [209.85.128.228])
 by mails.dpdk.org (Postfix) with ESMTP id 23140402CF
 for <test-report@dpdk.org>; Thu, 25 Jul 2024 03:02:25 +0200 (CEST)
Received: by mail-yw1-f228.google.com with SMTP id
 00721157ae682-6687f2f0986so4199007b3.0
 for <test-report@dpdk.org>; Wed, 24 Jul 2024 18:02:25 -0700 (PDT)
DKIM-Signature: v=1; a=rsa-sha256; c=relaxed/relaxed;
 d=iol.unh.edu; s=unh-iol; t=1721869344; x=1722474144; darn=dpdk.org;
 h=references:in-reply-to:cc:to:from:subject:message-id:date:from:to
 :cc:subject:date:message-id:reply-to;
 bh=ChImo3sJa9NyDKjVSJnRbU/ufA1n9/5IEkEF4QuNNkE=;
 b=Nuxia+iXzYPKFJtoCme14dFKOyac7d1UlwSz7BVxYa+OhPeJn/4bUOno3j8nzchrCG
 NqEZJNrZATGFpNS8t6J6YwnqWUz+uAXwqLH3hsOWN69zDm7gJCIOluKwCBAS13uKPt/3
 t3AizEV43DnzWMf5YJap8yspQm8QY7AQnxrQ8=
X-Google-DKIM-Signature: v=1; a=rsa-sha256; c=relaxed/relaxed;
 d=1e100.net; s=20230601; t=1721869344; x=1722474144;
 h=references:in-reply-to:cc:to:from:subject:message-id:date
 :x-gm-message-state:from:to:cc:subject:date:message-id:reply-to;
 bh=ChImo3sJa9NyDKjVSJnRbU/ufA1n9/5IEkEF4QuNNkE=;
 b=sDYHC7Bfpr4MiGmikYVTlslW06Dq5+fzKDSQGYNnqUP8rm6a4p6c81C8Ng/H+Dp6sg
 oRg9IHAB79XsXqcc2dJksxWhGpgz50WQxVt3BgZw93mSWb+T7u5nN4jOg27Y5P2Dxdpj
 p6kjoKeyG/3CQn9gKjzT6OoF/vZrc9FxlOLntjHNRLHKS/hR8qANZW+GVbMbXNMugedQ
 293LKDCqvVratH/4V/UceWMRQdSvbtxRpy0jahB+UKfR4MJ1xBHPzRGM0bGEkygO0KaD
 iLoRPWN98FvHq98FmPE3sf3l3wY4tG0rkdr4lwYGLdaBpdTx/DgZxh9qygwLjV5VGTkp
 QLVw==
X-Gm-Message-State: AOJu0YwGB6cconr+vaCbLqt4njjyEV2clNKxYjMDGLEYVembQQZLz+6F
 xV66CcfhF0IOpoNtNmTu/leQZ4OoigpIAxqNaJHmu6CWTZRIlZYstvgZc2TPpunn6bs8UmLfTvI
 4GaO/hvi2QYTmbiBY/FEJcKTzdCMAxewf80VCY2TE
X-Google-Smtp-Source: AGHT+IEZp4AoEkmJwYTMSE6KUotxmDr1fp6VMwCtgvYhbLM+AlSkuc8xNeiPSOuIzmqBbvIoYDr7QqC7o164
X-Received: by 2002:a0d:ef47:0:b0:664:a85d:47c6 with SMTP id
 00721157ae682-675b9b6051fmr2736017b3.33.1721869344401; 
 Wed, 24 Jul 2024 18:02:24 -0700 (PDT)
Received: from postal.iol.unh.edu (postal.iol.unh.edu. [132.177.123.84])
 by smtp-relay.gmail.com with ESMTPS id
 00721157ae682-6756ad42783sm485417b3.55.2024.07.24.18.02.24
 (version=TLS1_2 cipher=ECDHE-ECDSA-AES128-GCM-SHA256 bits=128/128);
 Wed, 24 Jul 2024 18:02:24 -0700 (PDT)
X-Relaying-Domain: iol.unh.edu
Date: Wed, 24 Jul 2024 18:02:24 -0700 (PDT)
Message-ID: <66a1a420.0d0a0220.1d54e6.219dSMTPIN_ADDED_MISSING@mx.google.com>
Received: from [172.21.0.6] (unknown [172.18.0.240])
 by postal.iol.unh.edu (Postfix) with ESMTP id BC0C9605C351;
 Wed, 24 Jul 2024 21:02:23 -0400 (EDT)
Subject: |PENDING| pw142696-142698 [PATCH] [v12,3/3] dts: config schema
From: dpdklab@iol.unh.edu
To: Test Report <test-report@dpdk.org>
Cc: dpdk-test-reports@iol.unh.edu
In-Reply-To: <20240724163004.5681-4-dmarx@iol.unh.edu>
References: <20240724163004.5681-4-dmarx@iol.unh.edu>
Content-Type: text/plain
X-BeenThere: test-report@dpdk.org
X-Mailman-Version: 2.1.29
Precedence: list
List-Id: automatic DPDK test reports <test-report.dpdk.org>
List-Unsubscribe: <https://mails.dpdk.org/options/test-report>,
 <mailto:test-report-request@dpdk.org?subject=unsubscribe>
List-Archive: <http://mails.dpdk.org/archives/test-report/>
List-Post: <mailto:test-report@dpdk.org>
List-Help: <mailto:test-report-request@dpdk.org?subject=help>
List-Subscribe: <https://mails.dpdk.org/listinfo/test-report>,
 <mailto:test-report-request@dpdk.org?subject=subscribe>
Errors-To: test-report-bounces@dpdk.org

Test-Label: iol-abi-testing
Test-Status: PENDING
http://dpdk.org/patch/142698

_Testing pending_

Submitter: Dean Marx <dmarx@iol.unh.edu>
Date: Wednesday, July 24 2024 16:30:04 
DPDK git baseline: Repo:dpdk
  Branch: master
  CommitID:82c47f005b9a0a1e3a649664b7713443d18abe43

142696-142698 --> testing pending

Upstream job id: Generic-DPDK-Compile-ABI#100322

Test environment and result as below:

+-------------------+----------+
|    Environment    | abi_test |
+===================+==========+
| Fedora 39         | PASS     |
+-------------------+----------+
| Debian 12         | PASS     |
+-------------------+----------+
| Fedora 37         | PASS     |
+-------------------+----------+
| Debian Bullseye   | PASS     |
+-------------------+----------+
| Fedora 38 (Clang) | PASS     |
+-------------------+----------+
| CentOS Stream 9   | PASS     |
+-------------------+----------+
| CentOS Stream 8   | PEND     |
+-------------------+----------+
| Fedora 38         | PASS     |
+-------------------+----------+
| Fedora 39 (Clang) | PEND     |
+-------------------+----------+
| Fedora 40 (Clang) | PEND     |
+-------------------+----------+
| RHEL8             | PEND     |
+-------------------+----------+
| openSUSE Leap 15  | PEND     |
+-------------------+----------+
| Fedora 40         | PEND     |
+-------------------+----------+
| RHEL9             | PEND     |
+-------------------+----------+
| Ubuntu 22.04      | PEND     |
+-------------------+----------+
| Ubuntu 24.04      | PEND     |
+-------------------+----------+


Fedora 39
	Kernel: Depends on container host
	Compiler: gcc 13.2.1

Debian 12
	Kernel: Container Host Kernel
	Compiler: gcc 12.2.0

Fedora 37
	Kernel: Depends on container host system
	Compiler: gcc 12.3.1

Debian Bullseye
	Kernel: 5.4.0-167-generic
	Compiler: gcc 10.2.1-6

Fedora 38 (Clang)
	Kernel: Depends on container host
	Compiler: clang 16.0.6

CentOS Stream 9
	Kernel: 5.4.0-167-generic
	Compiler: gcc 11.4.1 20230605

CentOS Stream 8
	Kernel: 5.4.0-167-generic
	Compiler: gcc 8.5.0 20210514

Fedora 38
	Kernel: Depends on container host
	Compiler: gcc 13.2.1

Fedora 39 (Clang)
	Kernel: Depends on container host
	Compiler: clang 17.0.6

Fedora 40 (Clang)
	Kernel: Depends on container host
	Compiler: clang 18.1.6

RHEL8
	Kernel: 5.4.0-167-generic
	Compiler: gcc 8.5.0 20210514 (Red Hat 8.5.0-20)

openSUSE Leap 15
	Kernel: 5.4.0-167-generic
	Compiler: gcc 7.5.0

Fedora 40
	Kernel: Depends on container host
	Compiler: gcc 14.1.1

RHEL9
	Kernel: Depends on container host
	Compiler: gcc 11.4.1

Ubuntu 22.04
	Kernel: 5.4.0-167-generic
	Compiler: gcc 11.4.0

Ubuntu 24.04
	Kernel: 5.4.0-167-generic
	Compiler: gcc 13.2.0

To view detailed results, visit:
https://lab.dpdk.org/results/dashboard/patchsets/30611/

UNH-IOL DPDK Community Lab

To manage your email subscriptions, visit: 
https://lab.dpdk.org/results/dashboard/preferences/subscriptions/