From mboxrd@z Thu Jan  1 00:00:00 1970
Return-Path: <test-report-bounces@dpdk.org>
Received: from mails.dpdk.org (mails.dpdk.org [217.70.189.124])
	by inbox.dpdk.org (Postfix) with ESMTP id 4BF82456A5
	for <public@inbox.dpdk.org>; Thu, 25 Jul 2024 03:20:57 +0200 (CEST)
Received: from mails.dpdk.org (localhost [127.0.0.1])
	by mails.dpdk.org (Postfix) with ESMTP id 4394C42DF1;
	Thu, 25 Jul 2024 03:20:57 +0200 (CEST)
Received: from mail-oi1-f226.google.com (mail-oi1-f226.google.com
 [209.85.167.226])
 by mails.dpdk.org (Postfix) with ESMTP id A7DEF40614
 for <test-report@dpdk.org>; Thu, 25 Jul 2024 03:20:45 +0200 (CEST)
Received: by mail-oi1-f226.google.com with SMTP id
 5614622812f47-3daf0e73a5bso267638b6e.0
 for <test-report@dpdk.org>; Wed, 24 Jul 2024 18:20:45 -0700 (PDT)
DKIM-Signature: v=1; a=rsa-sha256; c=relaxed/relaxed;
 d=iol.unh.edu; s=unh-iol; t=1721870445; x=1722475245; darn=dpdk.org;
 h=references:in-reply-to:cc:to:from:subject:message-id:date:from:to
 :cc:subject:date:message-id:reply-to;
 bh=/0w7iWTtvAsCjeAagYZPPf4zPW20/ewBS02X8p5ca7g=;
 b=Gwkcxbz17Aqg4qEYy8XlzblUdxl510E0a9fXhLHWiZCGbSBBpdXxQQrfUU+QrRavqw
 s6+H1fgwodVpy+AI/vvaNTu9vCvEfDLzoKQWW6kcBN9ETH8UI1g+9QZm5KpiNSI5lWXJ
 gJ9SqjYdKGyO1TbzTaSqkomnhhDUkDjSuTnbI=
X-Google-DKIM-Signature: v=1; a=rsa-sha256; c=relaxed/relaxed;
 d=1e100.net; s=20230601; t=1721870445; x=1722475245;
 h=references:in-reply-to:cc:to:from:subject:message-id:date
 :x-gm-message-state:from:to:cc:subject:date:message-id:reply-to;
 bh=/0w7iWTtvAsCjeAagYZPPf4zPW20/ewBS02X8p5ca7g=;
 b=MNWwIwnKXCkq5j5RJH7EpTZVsdNebMUazD+Jj9nmHCs6vluK9ot7fSrGHhDlP4z7Cg
 eCXAnAexSt8FiauVyvXeSiAnER6YccwjTnLwyC5OocY/gWHXsoV+UIHMwI/Al+/N6HVZ
 OXYq2WF9Z0luWyy9+yy2s4S5vrrrHdKMDKO4NJRVYXNPEM+87LRH38yX30S73Ud/UyUl
 Dw9PuiFLbaelt2sVWtSXz5PTG7T5mGKjAd7AbsBCeO9BHlJdsncS38O55eln8CFgTtN5
 T689WMThZnTenfVpvA4FnGkFdNuYkg9ovrR1XOoTIq/kzZ5kYRtyBhq5GMRxVa75rWQd
 6o6Q==
X-Gm-Message-State: AOJu0YwaDELXTgsskH8QRSAge2wO02sDhuES5z3Cg4JMqMusGiWGNchL
 cs6NhX9wgLm/FNI6ToR8OXfi7KHrZCs+iDe6LjQN3NwrRZouuH40OjGyI0Q1SigzMkcy2A//QAD
 BRmt9pC4hzKTqzw7gnvmQB9uPH35iEVw/Y3M442udB158UunIYAyZNahB
X-Google-Smtp-Source: AGHT+IEbjm8CxyknNYB5/zEejpmP+cpgp0eCfAbyHY8BWY4+rYYG1N7yrLxzU7ONycRsC1QeqMfj7hcyhrzy
X-Received: by 2002:a05:6808:1901:b0:3d9:dc98:c84b with SMTP id
 5614622812f47-3db14031ffemr673063b6e.5.1721870444853; 
 Wed, 24 Jul 2024 18:20:44 -0700 (PDT)
Received: from postal.iol.unh.edu (postal.iol.unh.edu.
 [2606:4100:3880:1234::84]) by smtp-relay.gmail.com with ESMTPS id
 41be03b00d2f7-7a9f7d7abc0sm29422a12.14.2024.07.24.18.20.44
 (version=TLS1_2 cipher=ECDHE-ECDSA-AES128-GCM-SHA256 bits=128/128);
 Wed, 24 Jul 2024 18:20:44 -0700 (PDT)
X-Relaying-Domain: iol.unh.edu
Date: Wed, 24 Jul 2024 18:20:44 -0700 (PDT)
Message-ID: <66a1a86c.630a0220.1c28e8.15e8SMTPIN_ADDED_MISSING@mx.google.com>
Received: from [172.21.0.7] (unknown [172.18.0.240])
 by postal.iol.unh.edu (Postfix) with ESMTP id EEC68605C351;
 Wed, 24 Jul 2024 21:20:43 -0400 (EDT)
Subject: |PENDING| pw142687 [PATCH] net/gve: Fix TX/RX queue setup and stop
From: dpdklab@iol.unh.edu
To: Test Report <test-report@dpdk.org>
Cc: dpdk-test-reports@iol.unh.edu
In-Reply-To: <1721828129-2393364-1-git-send-email-tathagat.dpdk@gmail.com>
References: <1721828129-2393364-1-git-send-email-tathagat.dpdk@gmail.com>
Content-Type: text/plain
X-BeenThere: test-report@dpdk.org
X-Mailman-Version: 2.1.29
Precedence: list
List-Id: automatic DPDK test reports <test-report.dpdk.org>
List-Unsubscribe: <https://mails.dpdk.org/options/test-report>,
 <mailto:test-report-request@dpdk.org?subject=unsubscribe>
List-Archive: <http://mails.dpdk.org/archives/test-report/>
List-Post: <mailto:test-report@dpdk.org>
List-Help: <mailto:test-report-request@dpdk.org?subject=help>
List-Subscribe: <https://mails.dpdk.org/listinfo/test-report>,
 <mailto:test-report-request@dpdk.org?subject=subscribe>
Errors-To: test-report-bounces@dpdk.org

Test-Label: iol-compile-amd64-testing
Test-Status: PENDING
http://dpdk.org/patch/142687

_Testing pending_

Submitter: Tathagat Priyadarshi <tathagat.dpdk@gmail.com>
Date: Wednesday, July 24 2024 13:35:29 
DPDK git baseline: Repo:dpdk
  Branch: master
  CommitID:82c47f005b9a0a1e3a649664b7713443d18abe43

142687 --> testing pending

Upstream job id: Generic-DPDK-Compile-Meson#279366

Test environment and result as below:

+---------------------+--------------------+----------------------+-------------------+------------------+-------------------+
|     Environment     | dpdk_meson_compile | dpdk_mingw64_compile | dpdk_msvc_compile | dpdk_compile_ovs | dpdk_compile_spdk |
+=====================+====================+======================+===================+==================+===================+
| Windows Server 2022 | PASS               | PASS                 | PASS              | SKIPPED          | SKIPPED           |
+---------------------+--------------------+----------------------+-------------------+------------------+-------------------+
| FreeBSD 13.3        | PASS               | SKIPPED              | SKIPPED           | SKIPPED          | SKIPPED           |
+---------------------+--------------------+----------------------+-------------------+------------------+-------------------+
| FreeBSD 14.1        | PASS               | SKIPPED              | SKIPPED           | SKIPPED          | SKIPPED           |
+---------------------+--------------------+----------------------+-------------------+------------------+-------------------+
| Windows Server 2019 | PASS               | PASS                 | SKIPPED           | SKIPPED          | SKIPPED           |
+---------------------+--------------------+----------------------+-------------------+------------------+-------------------+
| CentOS Stream 8     | PASS               | SKIPPED              | SKIPPED           | PASS             | PASS              |
+---------------------+--------------------+----------------------+-------------------+------------------+-------------------+
| CentOS Stream 9     | PEND               | SKIPPED              | SKIPPED           | PEND             | PEND              |
+---------------------+--------------------+----------------------+-------------------+------------------+-------------------+
| Debian Bullseye     | PASS               | SKIPPED              | SKIPPED           | PASS             | PASS              |
+---------------------+--------------------+----------------------+-------------------+------------------+-------------------+
| Debian 12           | PEND               | SKIPPED              | SKIPPED           | PEND             | PEND              |
+---------------------+--------------------+----------------------+-------------------+------------------+-------------------+
| Fedora 37           | PEND               | SKIPPED              | SKIPPED           | PEND             | PEND              |
+---------------------+--------------------+----------------------+-------------------+------------------+-------------------+
| Fedora 38 (Clang)   | PEND               | SKIPPED              | SKIPPED           | PEND             | PEND              |
+---------------------+--------------------+----------------------+-------------------+------------------+-------------------+
| Fedora 38           | PEND               | SKIPPED              | SKIPPED           | PEND             | PEND              |
+---------------------+--------------------+----------------------+-------------------+------------------+-------------------+
| Fedora 39 (Clang)   | PEND               | SKIPPED              | SKIPPED           | PEND             | PEND              |
+---------------------+--------------------+----------------------+-------------------+------------------+-------------------+
| Fedora 39           | PEND               | SKIPPED              | SKIPPED           | PEND             | PEND              |
+---------------------+--------------------+----------------------+-------------------+------------------+-------------------+
| Fedora 40 (Clang)   | PEND               | SKIPPED              | SKIPPED           | PEND             | PEND              |
+---------------------+--------------------+----------------------+-------------------+------------------+-------------------+
| Fedora 40           | PEND               | SKIPPED              | SKIPPED           | PEND             | PEND              |
+---------------------+--------------------+----------------------+-------------------+------------------+-------------------+
| openSUSE Leap 15    | PEND               | SKIPPED              | SKIPPED           | PEND             | SKIPPED           |
+---------------------+--------------------+----------------------+-------------------+------------------+-------------------+
| RHEL8               | PEND               | SKIPPED              | SKIPPED           | PEND             | SKIPPED           |
+---------------------+--------------------+----------------------+-------------------+------------------+-------------------+
| RHEL9               | PEND               | SKIPPED              | SKIPPED           | PEND             | SKIPPED           |
+---------------------+--------------------+----------------------+-------------------+------------------+-------------------+
| Ubuntu 20.04        | PEND               | SKIPPED              | SKIPPED           | PEND             | SKIPPED           |
+---------------------+--------------------+----------------------+-------------------+------------------+-------------------+
| Ubuntu 22.04        | PEND               | SKIPPED              | SKIPPED           | PEND             | PEND              |
+---------------------+--------------------+----------------------+-------------------+------------------+-------------------+
| Ubuntu 24.04        | PEND               | SKIPPED              | SKIPPED           | PEND             | PEND              |
+---------------------+--------------------+----------------------+-------------------+------------------+-------------------+
| Alpine              | PEND               | SKIPPED              | SKIPPED           | PEND             | SKIPPED           |
+---------------------+--------------------+----------------------+-------------------+------------------+-------------------+


Windows Server 2022
	Kernel: 10.0.20348.2031
	Compiler: clang 15.0.7, gcc 8.1.0 (MinGW), and MSVC VS 17.9

FreeBSD 13.3
	Kernel: 13.3-RELEASE-p1
	Compiler: clang 17.0.6

FreeBSD 14.1
	Kernel: 14.1
	Compiler: clang 18.1.5

Windows Server 2019
	Kernel: 10.0.17763
	Compiler: clang 14.0 and gcc 8.1.0 (MinGW)

CentOS Stream 8
	Kernel: 5.4.0-167-generic
	Compiler: gcc 8.5.0 20210514

CentOS Stream 9
	Kernel: 5.4.0-167-generic
	Compiler: gcc 11.4.1 20230605

Debian Bullseye
	Kernel: 5.4.0-167-generic
	Compiler: gcc 10.2.1-6

Debian 12
	Kernel: Container Host Kernel
	Compiler: gcc 12.2.0

Fedora 37
	Kernel: Depends on container host system
	Compiler: gcc 12.3.1

Fedora 38 (Clang)
	Kernel: Depends on container host
	Compiler: clang 16.0.6

Fedora 38
	Kernel: Depends on container host
	Compiler: gcc 13.2.1

Fedora 39 (Clang)
	Kernel: Depends on container host
	Compiler: clang 17.0.6

Fedora 39
	Kernel: Depends on container host
	Compiler: gcc 13.2.1

Fedora 40 (Clang)
	Kernel: Depends on container host
	Compiler: clang 18.1.6

Fedora 40
	Kernel: Depends on container host
	Compiler: gcc 14.1.1

openSUSE Leap 15
	Kernel: 5.4.0-167-generic
	Compiler: gcc 7.5.0

RHEL8
	Kernel: 5.4.0-167-generic
	Compiler: gcc 8.5.0 20210514 (Red Hat 8.5.0-20)

RHEL9
	Kernel: Depends on container host
	Compiler: gcc 11.4.1

Ubuntu 20.04
	Kernel: 5.4.0-167-generic
	Compiler: gcc 9.4.0-1ubuntu1~20.04.1

Ubuntu 22.04
	Kernel: 5.4.0-167-generic
	Compiler: gcc 11.4.0

Ubuntu 24.04
	Kernel: 5.4.0-167-generic
	Compiler: gcc 13.2.0

Alpine
	Kernel: 5.4.0-167-generic
	Compiler: gcc (Alpine 13.2.1_git20231014) 13.2.1 20231014

To view detailed results, visit:
https://lab.dpdk.org/results/dashboard/patchsets/30607/

UNH-IOL DPDK Community Lab

To manage your email subscriptions, visit: 
https://lab.dpdk.org/results/dashboard/preferences/subscriptions/