From mboxrd@z Thu Jan  1 00:00:00 1970
Return-Path: <test-report-bounces@dpdk.org>
Received: from mails.dpdk.org (mails.dpdk.org [217.70.189.124])
	by inbox.dpdk.org (Postfix) with ESMTP id ECF0A456A5
	for <public@inbox.dpdk.org>; Thu, 25 Jul 2024 03:28:40 +0200 (CEST)
Received: from mails.dpdk.org (localhost [127.0.0.1])
	by mails.dpdk.org (Postfix) with ESMTP id EA1D042DF1;
	Thu, 25 Jul 2024 03:28:40 +0200 (CEST)
Received: from mail-io1-f97.google.com (mail-io1-f97.google.com
 [209.85.166.97]) by mails.dpdk.org (Postfix) with ESMTP id 3708640614
 for <test-report@dpdk.org>; Thu, 25 Jul 2024 03:28:21 +0200 (CEST)
Received: by mail-io1-f97.google.com with SMTP id
 ca18e2360f4ac-816d9285ebdso17562639f.0
 for <test-report@dpdk.org>; Wed, 24 Jul 2024 18:28:21 -0700 (PDT)
DKIM-Signature: v=1; a=rsa-sha256; c=relaxed/relaxed;
 d=iol.unh.edu; s=unh-iol; t=1721870900; x=1722475700; darn=dpdk.org;
 h=references:in-reply-to:cc:to:from:subject:message-id:date:from:to
 :cc:subject:date:message-id:reply-to;
 bh=tjTVskRyjFu+f+XeGLUk3LsRpIA1LETqCM3OptfEtpQ=;
 b=SxkzeyiheteEpZGRYRMxG2x8JGNH37REw1pAOKWqCtZMPp3qjz41TIHG01SLiue7ea
 t4pBJyKkqfT7zHW30+5H6pZ1IjxJfy34i3kEf6PGbM9wZudDlKGDtsEHUyk8WTpl8Npr
 CYrUJIPTZI+B+RGTg2BRRzi0vIM92QJICdIk0=
X-Google-DKIM-Signature: v=1; a=rsa-sha256; c=relaxed/relaxed;
 d=1e100.net; s=20230601; t=1721870900; x=1722475700;
 h=references:in-reply-to:cc:to:from:subject:message-id:date
 :x-gm-message-state:from:to:cc:subject:date:message-id:reply-to;
 bh=tjTVskRyjFu+f+XeGLUk3LsRpIA1LETqCM3OptfEtpQ=;
 b=r7IHeElUfc3kG3sk2IbVpGBs2FNxuJNHbetUnGexZTRi9Y2EDskSpFDi0izba443xG
 ojntWtQM8rjjB0Kykgw9zNFcLE1TgHrhT73oK70I8ALq1XD/dLEGIvPI/SSPI/sTJHsw
 QXFIRMbQ9lC1QrGAqF703xzTehBf5KGPx/tE/6tOWZwQMW9nhtXrhoEYkCtaH3TH2wu+
 CRftz7JXTdikMNyQvKXYfdv2QlmmE7p6QMCb+pBjZgBRJS73jN8aIjE6PJTBMxWFDtpb
 sYNJoY5vu7HkWHlCp6KaTs7kyCpE01uu4Q8r1G33h2nBM+dZ+cymcb1Wb1QnnY5Ud2TP
 c6mw==
X-Gm-Message-State: AOJu0YxjdAQk9AslO8rJcpkmcjxJWcCuEPMeAxkEGoynumJ4/SVkBUNN
 OlVV1+vaWrh9dLHhYU1ORnpUoBVYamHEppit0D4/mBvP+5p45VS3aXfa74qF6uNY/OsiixDFQ+2
 99XbVzSabPUqaJpp36ywDkL5t303DM4PRRQ6HcVv1
X-Google-Smtp-Source: AGHT+IGBQ6YpPpWQOh9J4t+8/v/mctOg0NdvHjC7WxnCHu3xXfmQ/aYw7hxpeXaKN7Gh8dpzo/piczqiSHFG
X-Received: by 2002:a05:6602:6c06:b0:7f6:2d58:8d6a with SMTP id
 ca18e2360f4ac-81f7bd06b65mr211586439f.7.1721870900533; 
 Wed, 24 Jul 2024 18:28:20 -0700 (PDT)
Received: from postal.iol.unh.edu (postal.iol.unh.edu. [132.177.123.84])
 by smtp-relay.gmail.com with ESMTPS id
 8926c6da1cb9f-4c29fc050cdsm21510173.68.2024.07.24.18.28.20
 (version=TLS1_2 cipher=ECDHE-ECDSA-AES128-GCM-SHA256 bits=128/128);
 Wed, 24 Jul 2024 18:28:20 -0700 (PDT)
X-Relaying-Domain: iol.unh.edu
Date: Wed, 24 Jul 2024 18:28:20 -0700 (PDT)
Message-ID: <66a1aa34.050a0220.26daeb.0d63SMTPIN_ADDED_MISSING@mx.google.com>
Received: from [172.21.0.8] (unknown [172.18.0.240])
 by postal.iol.unh.edu (Postfix) with ESMTP id 217A3605C351;
 Wed, 24 Jul 2024 21:28:20 -0400 (EDT)
Subject: |PENDING| pw142686 [PATCH] [v1] net/ntnic: add missing SPDX tag
From: dpdklab@iol.unh.edu
To: Test Report <test-report@dpdk.org>
Cc: dpdk-test-reports@iol.unh.edu
In-Reply-To: <20240724131445.510743-1-mko-plv@napatech.com>
References: <20240724131445.510743-1-mko-plv@napatech.com>
Content-Type: text/plain
X-BeenThere: test-report@dpdk.org
X-Mailman-Version: 2.1.29
Precedence: list
List-Id: automatic DPDK test reports <test-report.dpdk.org>
List-Unsubscribe: <https://mails.dpdk.org/options/test-report>,
 <mailto:test-report-request@dpdk.org?subject=unsubscribe>
List-Archive: <http://mails.dpdk.org/archives/test-report/>
List-Post: <mailto:test-report@dpdk.org>
List-Help: <mailto:test-report-request@dpdk.org?subject=help>
List-Subscribe: <https://mails.dpdk.org/listinfo/test-report>,
 <mailto:test-report-request@dpdk.org?subject=subscribe>
Errors-To: test-report-bounces@dpdk.org

Test-Label: iol-unit-amd64-testing
Test-Status: PENDING
http://dpdk.org/patch/142686

_Testing pending_

Submitter: Mykola Kostenok <mko-plv@napatech.com>
Date: Wednesday, July 24 2024 13:14:43 
DPDK git baseline: Repo:dpdk
  Branch: master
  CommitID:82c47f005b9a0a1e3a649664b7713443d18abe43

142686 --> testing pending

Upstream job id: Generic-Unit-Test-DPDK#244421

Test environment and result as below:

+---------------------+----------------+
|     Environment     | dpdk_unit_test |
+=====================+================+
| Windows Server 2019 | PASS           |
+---------------------+----------------+
| Windows Server 2022 | PASS           |
+---------------------+----------------+
| CentOS Stream 8     | PASS           |
+---------------------+----------------+
| CentOS Stream 9     | PASS           |
+---------------------+----------------+
| Debian Bullseye     | PASS           |
+---------------------+----------------+
| Debian 12           | PASS           |
+---------------------+----------------+
| Fedora 37           | PASS           |
+---------------------+----------------+
| Fedora 38           | PASS           |
+---------------------+----------------+
| Fedora 38 (Clang)   | PASS           |
+---------------------+----------------+
| Fedora 39           | PASS           |
+---------------------+----------------+
| Fedora 39 (Clang)   | PASS           |
+---------------------+----------------+
| Fedora 40           | PASS           |
+---------------------+----------------+
| Fedora 40 (Clang)   | PEND           |
+---------------------+----------------+
| RHEL8               | PASS           |
+---------------------+----------------+
| openSUSE Leap 15    | PASS           |
+---------------------+----------------+
| Ubuntu 20.04        | PEND           |
+---------------------+----------------+
| Ubuntu 22.04        | PEND           |
+---------------------+----------------+
| Ubuntu 24.04        | PEND           |
+---------------------+----------------+


Windows Server 2019
	Kernel: 10.0.17763
	Compiler: clang 14.0 and gcc 8.1.0 (MinGW)

Windows Server 2022
	Kernel: 10.0.20348.2031
	Compiler: clang 15.0.7, gcc 8.1.0 (MinGW), and MSVC VS 17.9

CentOS Stream 8
	Kernel: 5.4.0-167-generic
	Compiler: gcc 8.5.0 20210514

CentOS Stream 9
	Kernel: 5.4.0-167-generic
	Compiler: gcc 11.4.1 20230605

Debian Bullseye
	Kernel: 5.4.0-167-generic
	Compiler: gcc 10.2.1-6

Debian 12
	Kernel: Container Host Kernel
	Compiler: gcc 12.2.0

Fedora 37
	Kernel: Depends on container host system
	Compiler: gcc 12.3.1

Fedora 38
	Kernel: Depends on container host
	Compiler: gcc 13.2.1

Fedora 38 (Clang)
	Kernel: Depends on container host
	Compiler: clang 16.0.6

Fedora 39
	Kernel: Depends on container host
	Compiler: gcc 13.2.1

Fedora 39 (Clang)
	Kernel: Depends on container host
	Compiler: clang 17.0.6

Fedora 40
	Kernel: Depends on container host
	Compiler: gcc 14.1.1

Fedora 40 (Clang)
	Kernel: Depends on container host
	Compiler: clang 18.1.6

RHEL8
	Kernel: 5.4.0-167-generic
	Compiler: gcc 8.5.0 20210514 (Red Hat 8.5.0-20)

openSUSE Leap 15
	Kernel: 5.4.0-167-generic
	Compiler: gcc 7.5.0

Ubuntu 20.04
	Kernel: 5.4.0-167-generic
	Compiler: gcc 9.4.0-1ubuntu1~20.04.1

Ubuntu 22.04
	Kernel: 5.4.0-167-generic
	Compiler: gcc 11.4.0

Ubuntu 24.04
	Kernel: 5.4.0-167-generic
	Compiler: gcc 13.2.0

To view detailed results, visit:
https://lab.dpdk.org/results/dashboard/patchsets/30606/

UNH-IOL DPDK Community Lab

To manage your email subscriptions, visit: 
https://lab.dpdk.org/results/dashboard/preferences/subscriptions/