From mboxrd@z Thu Jan  1 00:00:00 1970
Return-Path: <test-report-bounces@dpdk.org>
Received: from mails.dpdk.org (mails.dpdk.org [217.70.189.124])
	by inbox.dpdk.org (Postfix) with ESMTP id C6811456A5
	for <public@inbox.dpdk.org>; Thu, 25 Jul 2024 03:42:57 +0200 (CEST)
Received: from mails.dpdk.org (localhost [127.0.0.1])
	by mails.dpdk.org (Postfix) with ESMTP id BED1042DF1;
	Thu, 25 Jul 2024 03:42:57 +0200 (CEST)
Received: from mail-yw1-f228.google.com (mail-yw1-f228.google.com
 [209.85.128.228])
 by mails.dpdk.org (Postfix) with ESMTP id 2D13840614
 for <test-report@dpdk.org>; Thu, 25 Jul 2024 03:42:49 +0200 (CEST)
Received: by mail-yw1-f228.google.com with SMTP id
 00721157ae682-66c7aeac627so4668627b3.1
 for <test-report@dpdk.org>; Wed, 24 Jul 2024 18:42:49 -0700 (PDT)
DKIM-Signature: v=1; a=rsa-sha256; c=relaxed/relaxed;
 d=iol.unh.edu; s=unh-iol; t=1721871768; x=1722476568; darn=dpdk.org;
 h=references:in-reply-to:cc:to:from:subject:message-id:date:from:to
 :cc:subject:date:message-id:reply-to;
 bh=7hM+aQtuGWpM4cH/Mu5+MEi+2khoDlQHlzxw1Ow/Krs=;
 b=QyLFZgEMmjxb5o5uIvEVMNHeGCMcVQO0tNuXupDYJ8xvgeCWS8bOvV9V6qw6/JcUSR
 RXnQvGazaz8ezNcxlGgQd5GU73FKAggycYOxyVvKvkmsDXz1YU1L2OlfQTti1GHFcLGf
 IxzOL1x3uuDlbeD43++QLX8bOLCAX8I/TaqO0=
X-Google-DKIM-Signature: v=1; a=rsa-sha256; c=relaxed/relaxed;
 d=1e100.net; s=20230601; t=1721871768; x=1722476568;
 h=references:in-reply-to:cc:to:from:subject:message-id:date
 :x-gm-message-state:from:to:cc:subject:date:message-id:reply-to;
 bh=7hM+aQtuGWpM4cH/Mu5+MEi+2khoDlQHlzxw1Ow/Krs=;
 b=a6bwGFhsi+CRJ0b5H5uuY3ilAuWRGFLhcVe2CJId4aFpRiYNQxBEn1xIv/LCp4vgTZ
 Mv5mfgXqog+WLyczW1Nd4QWzfngNhfPddeQIl2h6r0mRunjSV9vYyZZWUtPhHYmcWTbe
 LVQ9XZM9gx9UpoqYPgfgzF3XYK7STU8k8Zp82jTNbUjYOjKOyGbNI1ItGY36kGXzSTm5
 dVdl3V2Yt6xdzg4cCOPFWBNVOYE528BBPTKMCdAX2dwZe0PNN5hmiy3MXPjEpFexuxps
 YsZpA8FUo0ERSjihbRUMmEL23W1YYIriXIHuoOIi46bne4CQvYauMgJMoFeLh6f3G6E0
 9msQ==
X-Gm-Message-State: AOJu0YypH0ihi4yTdWiExB14RYvxYqpKU+rpY+smtAaXoP4pGodT0k2/
 qSWbS3YR8C9uX6B+84emdAfY2iIrq3wK/0swMeVQdC8Cdb5vUzEqBs/6w855ZIGKcB8MYqGPSvc
 Kl9g8+tNdFLVYeOL5vyzthwQrTED3yuNQvKhgTxRB2AAxLCnhXIcYOqFC
X-Google-Smtp-Source: AGHT+IGTyu61zWvRe3Lp6L1BWLBtndEbwMXCCX0YDBATKKORlyu7IGv0FTUiRJQz7sI8qyNahhio1UaeMoF8
X-Received: by 2002:a81:9c12:0:b0:64b:7e17:b339 with SMTP id
 00721157ae682-675b43ae4acmr3804577b3.15.1721871768617; 
 Wed, 24 Jul 2024 18:42:48 -0700 (PDT)
Received: from postal.iol.unh.edu (postal.iol.unh.edu.
 [2606:4100:3880:1234::84]) by smtp-relay.gmail.com with ESMTPS id
 00721157ae682-675683f35edsm389667b3.34.2024.07.24.18.42.48
 (version=TLS1_2 cipher=ECDHE-ECDSA-AES128-GCM-SHA256 bits=128/128);
 Wed, 24 Jul 2024 18:42:48 -0700 (PDT)
X-Relaying-Domain: iol.unh.edu
Date: Wed, 24 Jul 2024 18:42:48 -0700 (PDT)
Message-ID: <66a1ad98.810a0220.747b7.1178SMTPIN_ADDED_MISSING@mx.google.com>
Received: from [172.21.0.7] (unknown [172.18.0.240])
 by postal.iol.unh.edu (Postfix) with ESMTP id 43E90605C351;
 Wed, 24 Jul 2024 21:42:48 -0400 (EDT)
Subject: |PENDING| pw142687 [PATCH] net/gve: Fix TX/RX queue setup and stop
From: dpdklab@iol.unh.edu
To: Test Report <test-report@dpdk.org>
Cc: dpdk-test-reports@iol.unh.edu
In-Reply-To: <1721828129-2393364-1-git-send-email-tathagat.dpdk@gmail.com>
References: <1721828129-2393364-1-git-send-email-tathagat.dpdk@gmail.com>
Content-Type: text/plain
X-BeenThere: test-report@dpdk.org
X-Mailman-Version: 2.1.29
Precedence: list
List-Id: automatic DPDK test reports <test-report.dpdk.org>
List-Unsubscribe: <https://mails.dpdk.org/options/test-report>,
 <mailto:test-report-request@dpdk.org?subject=unsubscribe>
List-Archive: <http://mails.dpdk.org/archives/test-report/>
List-Post: <mailto:test-report@dpdk.org>
List-Help: <mailto:test-report-request@dpdk.org?subject=help>
List-Subscribe: <https://mails.dpdk.org/listinfo/test-report>,
 <mailto:test-report-request@dpdk.org?subject=subscribe>
Errors-To: test-report-bounces@dpdk.org

Test-Label: iol-compile-arm64-testing
Test-Status: PENDING
http://dpdk.org/patch/142687

_Testing pending_

Submitter: Tathagat Priyadarshi <tathagat.dpdk@gmail.com>
Date: Wednesday, July 24 2024 13:35:29 
DPDK git baseline: Repo:dpdk
  Branch: master
  CommitID:82c47f005b9a0a1e3a649664b7713443d18abe43

142687 --> testing pending

Upstream job id: Generic-DPDK-Compile-Meson#279402

Test environment and result as below:

+----------------------------------------+--------------------+
|              Environment               | dpdk_meson_compile |
+========================================+====================+
| RHEL9 (ARM)                            | PASS               |
+----------------------------------------+--------------------+
| Ubuntu 20.04 ARM GCC Cross Compile     | PEND               |
+----------------------------------------+--------------------+
| Ubuntu 20.04 ARM SVE                   | PASS               |
+----------------------------------------+--------------------+
| Debian 12 with MUSDK                   | PASS               |
+----------------------------------------+--------------------+
| Fedora 37 (ARM)                        | PASS               |
+----------------------------------------+--------------------+
| Fedora 38 (ARM)                        | PASS               |
+----------------------------------------+--------------------+
| Fedora 38 (ARM Clang)                  | PEND               |
+----------------------------------------+--------------------+
| Fedora 39 (ARM)                        | PASS               |
+----------------------------------------+--------------------+
| Fedora 39 (ARM Clang)                  | PEND               |
+----------------------------------------+--------------------+
| Fedora 40 (ARM)                        | PASS               |
+----------------------------------------+--------------------+
| Fedora 40 (ARM Clang)                  | PEND               |
+----------------------------------------+--------------------+
| Ubuntu 20.04 (ARM)                     | PASS               |
+----------------------------------------+--------------------+
| Ubuntu 22.04 (ARM)                     | PASS               |
+----------------------------------------+--------------------+
| Ubuntu 24.04 (ARM)                     | PASS               |
+----------------------------------------+--------------------+
| CentOS Stream 9 (ARM)                  | PASS               |
+----------------------------------------+--------------------+
| Debian 11 (Buster) (ARM)               | PASS               |
+----------------------------------------+--------------------+
| Debian 12 (arm)                        | PASS               |
+----------------------------------------+--------------------+
| Ubuntu 20.04 ARM Clang Cross Compile   | PEND               |
+----------------------------------------+--------------------+
| Ubuntu 20.04 aarch32 GCC Cross Compile | PASS               |
+----------------------------------------+--------------------+


RHEL9 (ARM)
	Kernel: Depends on container host
	Compiler: gcc 11.4.1

Ubuntu 20.04 ARM GCC Cross Compile
	Kernel: 5.4.0-167-generic
	Compiler: aarch64-linux-gnu-gcc (Ubuntu 9.4.0-1ubuntu1~20.04.2) 9.4.0

Ubuntu 20.04 ARM SVE
	Kernel: 5.4.0-167-generic
	Compiler: gcc (Ubuntu 10.5.0-1ubuntu1~20.04) 10.5.0

Debian 12 with MUSDK
	Kernel: Container Host Kernel
	Compiler: gcc 12.2.0

Fedora 37 (ARM)
	Kernel: Depends on container host
	Compiler: gcc 12.3.1

Fedora 38 (ARM)
	Kernel: Depends on container host
	Compiler: gcc 13.2.1

Fedora 38 (ARM Clang)
	Kernel: Depends on container host
	Compiler: clang 16.0.6

Fedora 39 (ARM)
	Kernel: Depends on container host
	Compiler: gcc 13.2.1

Fedora 39 (ARM Clang)
	Kernel: Depends on container host
	Compiler: clang 17.0.6

Fedora 40 (ARM)
	Kernel: Depends on container host
	Compiler: gcc 14.1.1

Fedora 40 (ARM Clang)
	Kernel: Depends on container host
	Compiler: clang 18.1.6

Ubuntu 20.04 (ARM)
	Kernel: Container Host Kernel
	Compiler: gcc 9.4.0

Ubuntu 22.04 (ARM)
	Kernel: Container Host Kernel
	Compiler: gcc 11.4.0

Ubuntu 24.04 (ARM)
	Kernel: 5.4.0-167-generic
	Compiler: gcc 13.2.0

CentOS Stream 9 (ARM)
	Kernel: Container Host Kernel
	Compiler: gcc 11.4.1

Debian 11 (Buster) (ARM)
	Kernel: Container Host Kernel
	Compiler: gcc 10.2.1

Debian 12 (arm)
	Kernel: Container Host Kernel
	Compiler: gcc 12.2.0

Ubuntu 20.04 ARM Clang Cross Compile
	Kernel: 5.4.0-72-generic
	Compiler: clang 10.0.0-4ubuntu1

Ubuntu 20.04 aarch32 GCC Cross Compile
	Kernel: 5.4.0-167-generic
	Compiler: gcc 9.4.0

To view detailed results, visit:
https://lab.dpdk.org/results/dashboard/patchsets/30607/

UNH-IOL DPDK Community Lab

To manage your email subscriptions, visit: 
https://lab.dpdk.org/results/dashboard/preferences/subscriptions/