From mboxrd@z Thu Jan  1 00:00:00 1970
Return-Path: <test-report-bounces@dpdk.org>
Received: from mails.dpdk.org (mails.dpdk.org [217.70.189.124])
	by inbox.dpdk.org (Postfix) with ESMTP id 0E7CB456A7
	for <public@inbox.dpdk.org>; Thu, 25 Jul 2024 04:08:07 +0200 (CEST)
Received: from mails.dpdk.org (localhost [127.0.0.1])
	by mails.dpdk.org (Postfix) with ESMTP id 04E7B43534;
	Thu, 25 Jul 2024 04:08:07 +0200 (CEST)
Received: from mail-oi1-f228.google.com (mail-oi1-f228.google.com
 [209.85.167.228])
 by mails.dpdk.org (Postfix) with ESMTP id 60E6D40614
 for <test-report@dpdk.org>; Thu, 25 Jul 2024 04:07:35 +0200 (CEST)
Received: by mail-oi1-f228.google.com with SMTP id
 5614622812f47-3daf0e739b2so333564b6e.0
 for <test-report@dpdk.org>; Wed, 24 Jul 2024 19:07:35 -0700 (PDT)
DKIM-Signature: v=1; a=rsa-sha256; c=relaxed/relaxed;
 d=iol.unh.edu; s=unh-iol; t=1721873254; x=1722478054; darn=dpdk.org;
 h=references:in-reply-to:cc:to:from:subject:message-id:date:from:to
 :cc:subject:date:message-id:reply-to;
 bh=6IEhPSYdz/9YGCE6XXJ9yRXBqrh6C5IxeL7G9VELvmc=;
 b=VJ8AP6kRTRU+ZperjizOvBf9ZajigjFtMlWO038DBJjjRnBN/P9GkibvhAY91moKZ4
 nz5lLcAgQWPYe+MjxhTgXDHqqvS0B2bFS065WRUlM+53XcB/pgu1I5ojlytdp48B0x7W
 pk0MZrX4Qatt/PStlVR0FELYF6SZTsi3LhYjw=
X-Google-DKIM-Signature: v=1; a=rsa-sha256; c=relaxed/relaxed;
 d=1e100.net; s=20230601; t=1721873254; x=1722478054;
 h=references:in-reply-to:cc:to:from:subject:message-id:date
 :x-gm-message-state:from:to:cc:subject:date:message-id:reply-to;
 bh=6IEhPSYdz/9YGCE6XXJ9yRXBqrh6C5IxeL7G9VELvmc=;
 b=RjIa8Jn/b+IVupkILNGdS0LJdOWS52l2XnMg2wvPt7HvBwziNRJG8c2vzIAg7JDtnS
 YVUR5jOZSuEq2vKzLHy5H7K6Tx+BfOogTabMTr9PFgkbzfQKQjQaP4wLw9Ym4AgXCz+U
 OVP61WAJyQHLCZSvseUH9b0ih1GvP72JPnaBrn+n3KEDbsjzxRm0cyXQ4tTL6skBtR9W
 bMD6bEN+S/MvlWeO9Sp7pCLEQpz8uYBWhPLus0UxYwYNja4mLbPajV/G4thz9qB1QZJU
 yfIUwB2+gWG/mRe/Q1SF1rklP/S5I45tTBgzMqa2s8dc9ii4j2n889ZA0GsBaM1DjS5W
 GfAw==
X-Gm-Message-State: AOJu0Yzfacn0wbMm1gT1cLasZIdiXP5QE9E5pjd6ay2EkFSRa+c8OPVH
 YySSR4J7PJ07p8rjk8NFACj6fTnviRC5YOTPepEFp2fCWvbwxcAddQpCB+eNGPf0GotQZOiKPQR
 bu1wLW92bL/uRRdvGPiTfvYlu6mYi3wSfsaS87neprFIRT7+LKLwUralS
X-Google-Smtp-Source: AGHT+IESznUYIXn6NDKiiZmdlQRt1NLGw93liqKeZLcvAgzeITE/nRLD3fbdbdZc+jRSsW1i6X4NKygXBWHP
X-Received: by 2002:a05:6870:471f:b0:25e:13b7:e361 with SMTP id
 586e51a60fabf-266cc38ef36mr739699fac.25.1721873254434; 
 Wed, 24 Jul 2024 19:07:34 -0700 (PDT)
Received: from postal.iol.unh.edu (postal.iol.unh.edu.
 [2606:4100:3880:1234::84]) by smtp-relay.gmail.com with ESMTPS id
 586e51a60fabf-2655e1fbf4dsm48160fac.36.2024.07.24.19.07.34
 (version=TLS1_2 cipher=ECDHE-ECDSA-AES128-GCM-SHA256 bits=128/128);
 Wed, 24 Jul 2024 19:07:34 -0700 (PDT)
X-Relaying-Domain: iol.unh.edu
Date: Wed, 24 Jul 2024 19:07:34 -0700 (PDT)
Message-ID: <66a1b366.050a0220.bd21a.1cb5SMTPIN_ADDED_MISSING@mx.google.com>
Received: from [172.21.0.8] (unknown [172.18.0.240])
 by postal.iol.unh.edu (Postfix) with ESMTP id E45D6605C351;
 Wed, 24 Jul 2024 22:07:33 -0400 (EDT)
Subject: |PENDING| pw142699-142700 [PATCH] [v3,2/2] dts: add dual_vlan test s
From: dpdklab@iol.unh.edu
To: Test Report <test-report@dpdk.org>
Cc: dpdk-test-reports@iol.unh.edu
In-Reply-To: <20240724171345.341495-3-jspewock@iol.unh.edu>
References: <20240724171345.341495-3-jspewock@iol.unh.edu>
Content-Type: text/plain
X-BeenThere: test-report@dpdk.org
X-Mailman-Version: 2.1.29
Precedence: list
List-Id: automatic DPDK test reports <test-report.dpdk.org>
List-Unsubscribe: <https://mails.dpdk.org/options/test-report>,
 <mailto:test-report-request@dpdk.org?subject=unsubscribe>
List-Archive: <http://mails.dpdk.org/archives/test-report/>
List-Post: <mailto:test-report@dpdk.org>
List-Help: <mailto:test-report-request@dpdk.org?subject=help>
List-Subscribe: <https://mails.dpdk.org/listinfo/test-report>,
 <mailto:test-report-request@dpdk.org?subject=subscribe>
Errors-To: test-report-bounces@dpdk.org

Test-Label: iol-unit-arm64-testing
Test-Status: PENDING
http://dpdk.org/patch/142700

_Testing pending_

Submitter: Jeremy Spewock <jspewock@iol.unh.edu>
Date: Wednesday, July 24 2024 17:13:45 
DPDK git baseline: Repo:dpdk
  Branch: master
  CommitID:82c47f005b9a0a1e3a649664b7713443d18abe43

142699-142700 --> testing pending

Upstream job id: Generic-Unit-Test-DPDK#244436

Test environment and result as below:

+-----------------------------+----------------+--------------+---------------------------+------------------------------+
|         Environment         | dpdk_unit_test | lpm_autotest | cryptodev_sw_zuc_autotest | cryptodev_sw_snow3g_autotest |
+=============================+================+==============+===========================+==============================+
| Debian 11 (Buster) (ARM)    | PASS           | SKIPPED      | SKIPPED                   | SKIPPED                      |
+-----------------------------+----------------+--------------+---------------------------+------------------------------+
| CentOS Stream 9 (ARM)       | PASS           | SKIPPED      | SKIPPED                   | SKIPPED                      |
+-----------------------------+----------------+--------------+---------------------------+------------------------------+
| Fedora 37 (ARM)             | PASS           | SKIPPED      | SKIPPED                   | SKIPPED                      |
+-----------------------------+----------------+--------------+---------------------------+------------------------------+
| Debian 12 (arm)             | PASS           | SKIPPED      | PEND                      | PEND                         |
+-----------------------------+----------------+--------------+---------------------------+------------------------------+
| Fedora 38 (ARM)             | PEND           | SKIPPED      | SKIPPED                   | SKIPPED                      |
+-----------------------------+----------------+--------------+---------------------------+------------------------------+
| Fedora 39 (ARM)             | PEND           | SKIPPED      | SKIPPED                   | SKIPPED                      |
+-----------------------------+----------------+--------------+---------------------------+------------------------------+
| Fedora 39 (ARM Clang)       | PEND           | SKIPPED      | SKIPPED                   | SKIPPED                      |
+-----------------------------+----------------+--------------+---------------------------+------------------------------+
| Fedora 38 (ARM Clang)       | PEND           | SKIPPED      | SKIPPED                   | SKIPPED                      |
+-----------------------------+----------------+--------------+---------------------------+------------------------------+
| Fedora 40 (ARM)             | PEND           | SKIPPED      | SKIPPED                   | SKIPPED                      |
+-----------------------------+----------------+--------------+---------------------------+------------------------------+
| 32-bit Ubuntu 20.04.4 (ARM) | PEND           | SKIPPED      | SKIPPED                   | SKIPPED                      |
+-----------------------------+----------------+--------------+---------------------------+------------------------------+
| Fedora 40 (ARM Clang)       | PEND           | SKIPPED      | SKIPPED                   | SKIPPED                      |
+-----------------------------+----------------+--------------+---------------------------+------------------------------+
| Ubuntu 20.04 ARM SVE        | SKIPPED        | PEND         | SKIPPED                   | SKIPPED                      |
+-----------------------------+----------------+--------------+---------------------------+------------------------------+


Debian 11 (Buster) (ARM)
	Kernel: Container Host Kernel
	Compiler: gcc 10.2.1

CentOS Stream 9 (ARM)
	Kernel: Container Host Kernel
	Compiler: gcc 11.4.1

Fedora 37 (ARM)
	Kernel: Depends on container host
	Compiler: gcc 12.3.1

Debian 12 (arm)
	Kernel: Container Host Kernel
	Compiler: gcc 12.2.0

Fedora 38 (ARM)
	Kernel: Depends on container host
	Compiler: gcc 13.2.1

Fedora 39 (ARM)
	Kernel: Depends on container host
	Compiler: gcc 13.2.1

Fedora 39 (ARM Clang)
	Kernel: Depends on container host
	Compiler: clang 17.0.6

Fedora 38 (ARM Clang)
	Kernel: Depends on container host
	Compiler: clang 16.0.6

Fedora 40 (ARM)
	Kernel: Depends on container host
	Compiler: gcc 14.1.1

32-bit Ubuntu 20.04.4 (ARM)
	Kernel: 5.4.0-155-generic aarch64
	Compiler: gcc 9.4

Fedora 40 (ARM Clang)
	Kernel: Depends on container host
	Compiler: clang 18.1.6

Ubuntu 20.04 ARM SVE
	Kernel: 5.4.0-167-generic
	Compiler: gcc (Ubuntu 10.5.0-1ubuntu1~20.04) 10.5.0

To view detailed results, visit:
https://lab.dpdk.org/results/dashboard/patchsets/30612/

UNH-IOL DPDK Community Lab

To manage your email subscriptions, visit: 
https://lab.dpdk.org/results/dashboard/preferences/subscriptions/