From mboxrd@z Thu Jan  1 00:00:00 1970
Return-Path: <test-report-bounces@dpdk.org>
Received: from mails.dpdk.org (mails.dpdk.org [217.70.189.124])
	by inbox.dpdk.org (Postfix) with ESMTP id B40F6456A7
	for <public@inbox.dpdk.org>; Thu, 25 Jul 2024 04:33:42 +0200 (CEST)
Received: from mails.dpdk.org (localhost [127.0.0.1])
	by mails.dpdk.org (Postfix) with ESMTP id 26FA142DF1;
	Thu, 25 Jul 2024 04:33:42 +0200 (CEST)
Received: from mail-oa1-f100.google.com (mail-oa1-f100.google.com
 [209.85.160.100])
 by mails.dpdk.org (Postfix) with ESMTP id 45CE440614
 for <test-report@dpdk.org>; Thu, 25 Jul 2024 04:33:40 +0200 (CEST)
Received: by mail-oa1-f100.google.com with SMTP id
 586e51a60fabf-260e6dfc701so213295fac.3
 for <test-report@dpdk.org>; Wed, 24 Jul 2024 19:33:40 -0700 (PDT)
DKIM-Signature: v=1; a=rsa-sha256; c=relaxed/relaxed;
 d=iol.unh.edu; s=unh-iol; t=1721874819; x=1722479619; darn=dpdk.org;
 h=references:in-reply-to:cc:to:from:subject:message-id:date:from:to
 :cc:subject:date:message-id:reply-to;
 bh=I366c1G7F26fqjM9Yn22iFrzpX7FBFkzFoSfy10sXWA=;
 b=N9NkDYENF+3BKoxCJo2UkOIi3iNFIorFip7k831Ohn1nz/4T9T7Kce5w7XVB+KNoN6
 9UehB1oumFJiqQeBVHJUhgct7HGhKnw1gNNQgMPawfIbkmBb5COoVAINc9GPupzkaYCj
 YJYEh10HMWThsr6YzhZcFwavMTssJ3k2JLgrw=
X-Google-DKIM-Signature: v=1; a=rsa-sha256; c=relaxed/relaxed;
 d=1e100.net; s=20230601; t=1721874819; x=1722479619;
 h=references:in-reply-to:cc:to:from:subject:message-id:date
 :x-gm-message-state:from:to:cc:subject:date:message-id:reply-to;
 bh=I366c1G7F26fqjM9Yn22iFrzpX7FBFkzFoSfy10sXWA=;
 b=NcMcTNJ9ZWDLDQvtFLDktH7fizkuLrbe2wwPnNlFF9I5XYu4jbmAi4EvOCraksPiRd
 Cl1Kx4gT1JNA04VtTN7hpiZQ/D0pFc+7zDugD8tTF8w/UVefTKdXJ67HUhW1aPulgOfl
 8tEFrczqU0+w4DnZBysFvm/e/Ka+IA1Yik5oPsafblgNdjvtZE4okY04yczxL7LF72Dm
 MhMt7l/lfL4j1j1JBPrNSBEjuxil/eGYgnURi/xJHGnLCjagJEV8ATJ4lWMmykzj9Idk
 vgQ2plFiS+Sl52GSy7Z2TWIOio/HBT11fme9vW1DAkpopM9hr/B5Dlg4TtP505LY7CCa
 w7Cg==
X-Gm-Message-State: AOJu0YyO9HNa1caB06Pf+qMXeV1jxwTAZlathMMaSS3/Zf4m4dzNKwyh
 JhluY/FlRWzsxHtUcPUQOyWuX4tlDwFaG29k0OX5agXlDPgF1lwqqoKEA5S60qF1EybPqV6cD9o
 ZoxW22EZsDgVX3/f5exkRiQx2kB7DPwBYxAVibe2u
X-Google-Smtp-Source: AGHT+IEdERrXJlYTTY+I8GAOrVlO8uJEq9X9/ml6JPtBUjDzHW7fEE0NSxuqqlnpZcm2MioNFCMMVIljmTZ2
X-Received: by 2002:a05:6870:2104:b0:261:1be0:b5b9 with SMTP id
 586e51a60fabf-264a08b53a2mr2068915fac.0.1721874819398; 
 Wed, 24 Jul 2024 19:33:39 -0700 (PDT)
Received: from postal.iol.unh.edu (postal.iol.unh.edu. [132.177.123.84])
 by smtp-relay.gmail.com with ESMTPS id
 586e51a60fabf-2653e740520sm51376fac.18.2024.07.24.19.33.39
 (version=TLS1_2 cipher=ECDHE-ECDSA-AES128-GCM-SHA256 bits=128/128);
 Wed, 24 Jul 2024 19:33:39 -0700 (PDT)
X-Relaying-Domain: iol.unh.edu
Date: Wed, 24 Jul 2024 19:33:39 -0700 (PDT)
Message-ID: <66a1b983.050a0220.23c7f5.203aSMTPIN_ADDED_MISSING@mx.google.com>
Received: from [172.21.0.7] (unknown [172.18.0.240])
 by postal.iol.unh.edu (Postfix) with ESMTP id D4F65605C351;
 Wed, 24 Jul 2024 22:33:38 -0400 (EDT)
Subject: |PENDING| pw142710-142712 [PATCH] [v5,3/3] dts: dynamic config test 
From: dpdklab@iol.unh.edu
To: Test Report <test-report@dpdk.org>
Cc: dpdk-test-reports@iol.unh.edu
In-Reply-To: <20240724192129.29721-4-dmarx@iol.unh.edu>
References: <20240724192129.29721-4-dmarx@iol.unh.edu>
Content-Type: text/plain
X-BeenThere: test-report@dpdk.org
X-Mailman-Version: 2.1.29
Precedence: list
List-Id: automatic DPDK test reports <test-report.dpdk.org>
List-Unsubscribe: <https://mails.dpdk.org/options/test-report>,
 <mailto:test-report-request@dpdk.org?subject=unsubscribe>
List-Archive: <http://mails.dpdk.org/archives/test-report/>
List-Post: <mailto:test-report@dpdk.org>
List-Help: <mailto:test-report-request@dpdk.org?subject=help>
List-Subscribe: <https://mails.dpdk.org/listinfo/test-report>,
 <mailto:test-report-request@dpdk.org?subject=subscribe>
Errors-To: test-report-bounces@dpdk.org

Test-Label: iol-abi-testing
Test-Status: PENDING
http://dpdk.org/patch/142712

_Testing pending_

Submitter: Dean Marx <dmarx@iol.unh.edu>
Date: Wednesday, July 24 2024 19:21:29 
DPDK git baseline: Repo:dpdk
  Branch: master
  CommitID:82c47f005b9a0a1e3a649664b7713443d18abe43

142710-142712 --> testing pending

Upstream job id: Generic-DPDK-Compile-ABI#100334

Test environment and result as below:

+-------------------+----------+
|    Environment    | abi_test |
+===================+==========+
| CentOS Stream 8   | PASS     |
+-------------------+----------+
| CentOS Stream 9   | PASS     |
+-------------------+----------+
| Fedora 37         | PEND     |
+-------------------+----------+
| Fedora 38 (Clang) | PEND     |
+-------------------+----------+
| Debian 12         | PEND     |
+-------------------+----------+
| Fedora 38         | PASS     |
+-------------------+----------+
| Debian Bullseye   | PEND     |
+-------------------+----------+
| Fedora 39 (Clang) | PASS     |
+-------------------+----------+
| Fedora 40 (Clang) | PEND     |
+-------------------+----------+
| Fedora 39         | PEND     |
+-------------------+----------+
| Fedora 40         | PASS     |
+-------------------+----------+
| openSUSE Leap 15  | PEND     |
+-------------------+----------+
| RHEL8             | PEND     |
+-------------------+----------+
| Ubuntu 24.04      | PEND     |
+-------------------+----------+
| Ubuntu 22.04      | PEND     |
+-------------------+----------+
| RHEL9             | PEND     |
+-------------------+----------+


CentOS Stream 8
	Kernel: 5.4.0-167-generic
	Compiler: gcc 8.5.0 20210514

CentOS Stream 9
	Kernel: 5.4.0-167-generic
	Compiler: gcc 11.4.1 20230605

Fedora 37
	Kernel: Depends on container host system
	Compiler: gcc 12.3.1

Fedora 38 (Clang)
	Kernel: Depends on container host
	Compiler: clang 16.0.6

Debian 12
	Kernel: Container Host Kernel
	Compiler: gcc 12.2.0

Fedora 38
	Kernel: Depends on container host
	Compiler: gcc 13.2.1

Debian Bullseye
	Kernel: 5.4.0-167-generic
	Compiler: gcc 10.2.1-6

Fedora 39 (Clang)
	Kernel: Depends on container host
	Compiler: clang 17.0.6

Fedora 40 (Clang)
	Kernel: Depends on container host
	Compiler: clang 18.1.6

Fedora 39
	Kernel: Depends on container host
	Compiler: gcc 13.2.1

Fedora 40
	Kernel: Depends on container host
	Compiler: gcc 14.1.1

openSUSE Leap 15
	Kernel: 5.4.0-167-generic
	Compiler: gcc 7.5.0

RHEL8
	Kernel: 5.4.0-167-generic
	Compiler: gcc 8.5.0 20210514 (Red Hat 8.5.0-20)

Ubuntu 24.04
	Kernel: 5.4.0-167-generic
	Compiler: gcc 13.2.0

Ubuntu 22.04
	Kernel: 5.4.0-167-generic
	Compiler: gcc 11.4.0

RHEL9
	Kernel: Depends on container host
	Compiler: gcc 11.4.1

To view detailed results, visit:
https://lab.dpdk.org/results/dashboard/patchsets/30616/

UNH-IOL DPDK Community Lab

To manage your email subscriptions, visit: 
https://lab.dpdk.org/results/dashboard/preferences/subscriptions/