From mboxrd@z Thu Jan  1 00:00:00 1970
Return-Path: <test-report-bounces@dpdk.org>
Received: from mails.dpdk.org (mails.dpdk.org [217.70.189.124])
	by inbox.dpdk.org (Postfix) with ESMTP id 2CA6B456A7
	for <public@inbox.dpdk.org>; Thu, 25 Jul 2024 05:09:26 +0200 (CEST)
Received: from mails.dpdk.org (localhost [127.0.0.1])
	by mails.dpdk.org (Postfix) with ESMTP id 25231410F9;
	Thu, 25 Jul 2024 05:09:26 +0200 (CEST)
Received: from mail-qt1-f225.google.com (mail-qt1-f225.google.com
 [209.85.160.225])
 by mails.dpdk.org (Postfix) with ESMTP id BA7A640614
 for <test-report@dpdk.org>; Thu, 25 Jul 2024 05:09:15 +0200 (CEST)
Received: by mail-qt1-f225.google.com with SMTP id
 d75a77b69052e-44fe106616eso2545671cf.1
 for <test-report@dpdk.org>; Wed, 24 Jul 2024 20:09:15 -0700 (PDT)
DKIM-Signature: v=1; a=rsa-sha256; c=relaxed/relaxed;
 d=iol.unh.edu; s=unh-iol; t=1721876955; x=1722481755; darn=dpdk.org;
 h=references:in-reply-to:cc:to:from:subject:message-id:date:from:to
 :cc:subject:date:message-id:reply-to;
 bh=HxAEoyvjqmeurpdL3QbitBUIT66qxjNswAhVCEq0oiI=;
 b=MdbCFm5X6KsSGmM8TrqfUDUd/fpCqBJG62Ysep9uL67KaqJe0Qow6LzmL+4IGPzmdI
 a7mG//3pjavrIvlPKEm0+/WVQ8lNRlawkF5yhcz7cnt3ZwRdG+p2dfbcURBMx09FGxtP
 6ffyehT7t1FoeanhFlyahY/oK6MnUm7LFU1BY=
X-Google-DKIM-Signature: v=1; a=rsa-sha256; c=relaxed/relaxed;
 d=1e100.net; s=20230601; t=1721876955; x=1722481755;
 h=references:in-reply-to:cc:to:from:subject:message-id:date
 :x-gm-message-state:from:to:cc:subject:date:message-id:reply-to;
 bh=HxAEoyvjqmeurpdL3QbitBUIT66qxjNswAhVCEq0oiI=;
 b=ayqU8QVUySCHASksTscBm+KrEbTHHr5PtzuHovX0xAke9JZh6+KsE77j2cvVqply4q
 6JPvgLwp7ea5z/oiYcIUtAMSD3k86y0xNdbHqMuB0kVER/UfMOvWQGcDufU0RVULBVO3
 BcSNKrA1f5y7JoKDnBSx3LMn0wRd47Jo4LdIykeQenqE7WKhVmrNnAcHlwgHDn9Oi7vN
 9H2U7DDzpaVe4DguqXWuhUYzH6Tnwx20Xx/4GUMkOtlPyX8pcIhROnB9GU063t2sMp8i
 7aJmZTVhQijrpP46leLflAxX/lFYHayYRwfDSao/6yHmWu248BAo9TK0bmu4H3WsKyBj
 g/uA==
X-Gm-Message-State: AOJu0YxzLWEITR/1iwq6f/ieJYfp2piLlejRyXLat7LFTS+4A4izLdT/
 G6dA0VtMf18BBk9m079utPaSIoZkCN+/h5kq9uEGXYVRvIiZhMDsQArNUywPAcfoyzxr0xDXKmx
 BuKNI7KL2EuL06vEkGU/Z20MxbkgktyY+QeB9tJm1UYZIOPDbLjz5TvvB
X-Google-Smtp-Source: AGHT+IHyG+B1lRrbjAvveKmvlVNhB4MSek1xpHR3hH6reNeixGh2F2h84HB3Qk8n8Xro6U+iyAPLXRrR4UYp
X-Received: by 2002:ac8:7dc2:0:b0:445:50f:b586 with SMTP id
 d75a77b69052e-44fe3323d1cmr20430701cf.35.1721876954898; 
 Wed, 24 Jul 2024 20:09:14 -0700 (PDT)
Received: from postal.iol.unh.edu (postal.iol.unh.edu.
 [2606:4100:3880:1234::84]) by smtp-relay.gmail.com with ESMTPS id
 d75a77b69052e-44fe82085d3sm369221cf.21.2024.07.24.20.09.14
 (version=TLS1_2 cipher=ECDHE-ECDSA-AES128-GCM-SHA256 bits=128/128);
 Wed, 24 Jul 2024 20:09:14 -0700 (PDT)
X-Relaying-Domain: iol.unh.edu
Date: Wed, 24 Jul 2024 20:09:14 -0700 (PDT)
Message-ID: <66a1c1da.050a0220.ea4c4.159cSMTPIN_ADDED_MISSING@mx.google.com>
Received: from [172.21.0.7] (unknown [172.18.0.240])
 by postal.iol.unh.edu (Postfix) with ESMTP id 91D7B605C351;
 Wed, 24 Jul 2024 23:09:14 -0400 (EDT)
Subject: |PENDING| pw142707-142709 [PATCH] [v4,3/3] test-pmd: add more packet
From: dpdklab@iol.unh.edu
To: Test Report <test-report@dpdk.org>
Cc: dpdk-test-reports@iol.unh.edu
In-Reply-To: <20240724184741.150763-4-stephen@networkplumber.org>
References: <20240724184741.150763-4-stephen@networkplumber.org>
Content-Type: text/plain
X-BeenThere: test-report@dpdk.org
X-Mailman-Version: 2.1.29
Precedence: list
List-Id: automatic DPDK test reports <test-report.dpdk.org>
List-Unsubscribe: <https://mails.dpdk.org/options/test-report>,
 <mailto:test-report-request@dpdk.org?subject=unsubscribe>
List-Archive: <http://mails.dpdk.org/archives/test-report/>
List-Post: <mailto:test-report@dpdk.org>
List-Help: <mailto:test-report-request@dpdk.org?subject=help>
List-Subscribe: <https://mails.dpdk.org/listinfo/test-report>,
 <mailto:test-report-request@dpdk.org?subject=subscribe>
Errors-To: test-report-bounces@dpdk.org

Test-Label: iol-abi-testing
Test-Status: PENDING
http://dpdk.org/patch/142709

_Testing pending_

Submitter: Stephen Hemminger <stephen@networkplumber.org>
Date: Wednesday, July 24 2024 18:46:14 
DPDK git baseline: Repo:dpdk
  Branch: master
  CommitID:82c47f005b9a0a1e3a649664b7713443d18abe43

142707-142709 --> testing pending

Upstream job id: Generic-DPDK-Compile-ABI#100356

Test environment and result as below:

+-------------------+----------+
|    Environment    | abi_test |
+===================+==========+
| CentOS Stream 8   | PASS     |
+-------------------+----------+
| CentOS Stream 9   | PASS     |
+-------------------+----------+
| Debian 12         | PASS     |
+-------------------+----------+
| Debian Bullseye   | PASS     |
+-------------------+----------+
| Fedora 37         | PEND     |
+-------------------+----------+
| Fedora 39 (Clang) | PASS     |
+-------------------+----------+
| Fedora 38 (Clang) | PEND     |
+-------------------+----------+
| Fedora 38         | PEND     |
+-------------------+----------+
| Fedora 39         | PEND     |
+-------------------+----------+
| Fedora 40         | PASS     |
+-------------------+----------+
| Fedora 40 (Clang) | PEND     |
+-------------------+----------+
| openSUSE Leap 15  | PEND     |
+-------------------+----------+
| RHEL8             | PASS     |
+-------------------+----------+
| Ubuntu 22.04      | PEND     |
+-------------------+----------+
| RHEL9             | PEND     |
+-------------------+----------+
| Ubuntu 24.04      | PEND     |
+-------------------+----------+


CentOS Stream 8
	Kernel: 5.4.0-167-generic
	Compiler: gcc 8.5.0 20210514

CentOS Stream 9
	Kernel: 5.4.0-167-generic
	Compiler: gcc 11.4.1 20230605

Debian 12
	Kernel: Container Host Kernel
	Compiler: gcc 12.2.0

Debian Bullseye
	Kernel: 5.4.0-167-generic
	Compiler: gcc 10.2.1-6

Fedora 37
	Kernel: Depends on container host system
	Compiler: gcc 12.3.1

Fedora 39 (Clang)
	Kernel: Depends on container host
	Compiler: clang 17.0.6

Fedora 38 (Clang)
	Kernel: Depends on container host
	Compiler: clang 16.0.6

Fedora 38
	Kernel: Depends on container host
	Compiler: gcc 13.2.1

Fedora 39
	Kernel: Depends on container host
	Compiler: gcc 13.2.1

Fedora 40
	Kernel: Depends on container host
	Compiler: gcc 14.1.1

Fedora 40 (Clang)
	Kernel: Depends on container host
	Compiler: clang 18.1.6

openSUSE Leap 15
	Kernel: 5.4.0-167-generic
	Compiler: gcc 7.5.0

RHEL8
	Kernel: 5.4.0-167-generic
	Compiler: gcc 8.5.0 20210514 (Red Hat 8.5.0-20)

Ubuntu 22.04
	Kernel: 5.4.0-167-generic
	Compiler: gcc 11.4.0

RHEL9
	Kernel: Depends on container host
	Compiler: gcc 11.4.1

Ubuntu 24.04
	Kernel: 5.4.0-167-generic
	Compiler: gcc 13.2.0

To view detailed results, visit:
https://lab.dpdk.org/results/dashboard/patchsets/30615/

UNH-IOL DPDK Community Lab

To manage your email subscriptions, visit: 
https://lab.dpdk.org/results/dashboard/preferences/subscriptions/