From mboxrd@z Thu Jan  1 00:00:00 1970
Return-Path: <test-report-bounces@dpdk.org>
Received: from mails.dpdk.org (mails.dpdk.org [217.70.189.124])
	by inbox.dpdk.org (Postfix) with ESMTP id DDEBA456A7
	for <public@inbox.dpdk.org>; Thu, 25 Jul 2024 05:14:22 +0200 (CEST)
Received: from mails.dpdk.org (localhost [127.0.0.1])
	by mails.dpdk.org (Postfix) with ESMTP id D92B7410F9;
	Thu, 25 Jul 2024 05:14:22 +0200 (CEST)
Received: from mail-yw1-f226.google.com (mail-yw1-f226.google.com
 [209.85.128.226])
 by mails.dpdk.org (Postfix) with ESMTP id 107EC40614
 for <test-report@dpdk.org>; Thu, 25 Jul 2024 05:14:22 +0200 (CEST)
Received: by mail-yw1-f226.google.com with SMTP id
 00721157ae682-65f880c56b1so4559637b3.3
 for <test-report@dpdk.org>; Wed, 24 Jul 2024 20:14:21 -0700 (PDT)
DKIM-Signature: v=1; a=rsa-sha256; c=relaxed/relaxed;
 d=iol.unh.edu; s=unh-iol; t=1721877261; x=1722482061; darn=dpdk.org;
 h=references:in-reply-to:cc:to:from:subject:message-id:date:from:to
 :cc:subject:date:message-id:reply-to;
 bh=VFZbL/XhA2OG07erOkeHyBUy4BNjIanZjulIwIC2aZA=;
 b=a4CcEN2utsbPly3rv0TfgKhXTRdXlSK7pxcoxzJsNLvkup8odyISyhbhrV9b1m8FN5
 2tMAkx6W7TBMT8xm0u6xOixXceG9g7VEq6byBUOdHKVLxMbWryRb4rWIRWWS47Uafz08
 xl57qKT2JlJyooAaE4mFmNcoFul4pYC9G+kzs=
X-Google-DKIM-Signature: v=1; a=rsa-sha256; c=relaxed/relaxed;
 d=1e100.net; s=20230601; t=1721877261; x=1722482061;
 h=references:in-reply-to:cc:to:from:subject:message-id:date
 :x-gm-message-state:from:to:cc:subject:date:message-id:reply-to;
 bh=VFZbL/XhA2OG07erOkeHyBUy4BNjIanZjulIwIC2aZA=;
 b=AbKPLNTarOpcMklvPlR00XNx9Q7JTGqYPjJqJIX+y2zYBJJ3B5EwYiuN0ifeaiIaAb
 4dQIlrIhcbpHBWlB5law2WUE17XsKpfCMEhXFZBU8S7z3OVfPBxL9ixW1SY8r7vDUeEw
 Z9WADzULcUPsROwoHcXvjNY0/iUTBgbSzALh8J9b7fGOc0ZAxdFUDrrnLvOb75dSf5++
 cMFmUpZO/qdmc2GkDsMMn7HsPUoArMfbk4+iAA8tCVdAIdW8CSV5oUKBNWF2VtAk52KO
 InU5xF2dc435fd893XYjUuqVVCT3JInY/cHLe99EOvECLZYNyVYqd9f+lt5yLjiaKhzA
 HWJw==
X-Gm-Message-State: AOJu0Yzsjdcf9Aq1jrSHiibmSA+fM1NbQYjASzWqn0+UbvKpfrl/bx1T
 untna3cOqvepoXIDzk37uEtowJoTe84M8/LpgZgz2z1DD6yA/ojOZfAc+fpviZxpfFku9f0Bosv
 mtL/N2GSBpnmLjoBNwbV/ZzH3z9xI3RUndv5PfGF93onQgdcgyg8I4bjq
X-Google-Smtp-Source: AGHT+IEamEe6CD8wUeXF49ZgToao3J3cr+bbooe7fDCYGAQU+5CVWK12O04g9UWCeh4Yz1i2ym6tDmyziFYf
X-Received: by 2002:a81:7c82:0:b0:65f:6322:d3b9 with SMTP id
 00721157ae682-6751202816dmr15187967b3.20.1721877261439; 
 Wed, 24 Jul 2024 20:14:21 -0700 (PDT)
Received: from postal.iol.unh.edu (postal.iol.unh.edu.
 [2606:4100:3880:1234::84]) by smtp-relay.gmail.com with ESMTPS id
 00721157ae682-6756ad428c2sm695977b3.53.2024.07.24.20.14.21
 (version=TLS1_2 cipher=ECDHE-ECDSA-AES128-GCM-SHA256 bits=128/128);
 Wed, 24 Jul 2024 20:14:21 -0700 (PDT)
X-Relaying-Domain: iol.unh.edu
Date: Wed, 24 Jul 2024 20:14:21 -0700 (PDT)
Message-ID: <66a1c30d.810a0220.15b44f.2e64SMTPIN_ADDED_MISSING@mx.google.com>
Received: from [172.21.0.6] (unknown [172.18.0.240])
 by postal.iol.unh.edu (Postfix) with ESMTP id 121EF605C351;
 Wed, 24 Jul 2024 23:14:21 -0400 (EDT)
Subject: |PENDING| pw142699-142700 [PATCH] [v3,2/2] dts: add dual_vlan test s
From: dpdklab@iol.unh.edu
To: Test Report <test-report@dpdk.org>
Cc: dpdk-test-reports@iol.unh.edu
In-Reply-To: <20240724171345.341495-3-jspewock@iol.unh.edu>
References: <20240724171345.341495-3-jspewock@iol.unh.edu>
Content-Type: text/plain
X-BeenThere: test-report@dpdk.org
X-Mailman-Version: 2.1.29
Precedence: list
List-Id: automatic DPDK test reports <test-report.dpdk.org>
List-Unsubscribe: <https://mails.dpdk.org/options/test-report>,
 <mailto:test-report-request@dpdk.org?subject=unsubscribe>
List-Archive: <http://mails.dpdk.org/archives/test-report/>
List-Post: <mailto:test-report@dpdk.org>
List-Help: <mailto:test-report-request@dpdk.org?subject=help>
List-Subscribe: <https://mails.dpdk.org/listinfo/test-report>,
 <mailto:test-report-request@dpdk.org?subject=subscribe>
Errors-To: test-report-bounces@dpdk.org

Test-Label: iol-unit-amd64-testing
Test-Status: PENDING
http://dpdk.org/patch/142700

_Testing pending_

Submitter: Jeremy Spewock <jspewock@iol.unh.edu>
Date: Wednesday, July 24 2024 17:13:45 
DPDK git baseline: Repo:dpdk
  Branch: master
  CommitID:82c47f005b9a0a1e3a649664b7713443d18abe43

142699-142700 --> testing pending

Upstream job id: Generic-Unit-Test-DPDK#244437

Test environment and result as below:

+---------------------+----------------+
|     Environment     | dpdk_unit_test |
+=====================+================+
| Windows Server 2022 | PASS           |
+---------------------+----------------+
| Windows Server 2019 | PASS           |
+---------------------+----------------+
| CentOS Stream 8     | PASS           |
+---------------------+----------------+
| CentOS Stream 9     | PEND           |
+---------------------+----------------+
| Debian Bullseye     | PASS           |
+---------------------+----------------+
| Debian 12           | PASS           |
+---------------------+----------------+
| Fedora 37           | PASS           |
+---------------------+----------------+
| Fedora 38           | PEND           |
+---------------------+----------------+
| Fedora 38 (Clang)   | PEND           |
+---------------------+----------------+
| Fedora 39           | PEND           |
+---------------------+----------------+
| Fedora 39 (Clang)   | PEND           |
+---------------------+----------------+
| Fedora 40           | PEND           |
+---------------------+----------------+
| Fedora 40 (Clang)   | PEND           |
+---------------------+----------------+
| openSUSE Leap 15    | PEND           |
+---------------------+----------------+
| RHEL9               | PEND           |
+---------------------+----------------+
| Ubuntu 20.04        | PEND           |
+---------------------+----------------+
| RHEL8               | PEND           |
+---------------------+----------------+
| Ubuntu 24.04        | PEND           |
+---------------------+----------------+
| Ubuntu 22.04        | PEND           |
+---------------------+----------------+


Windows Server 2022
	Kernel: 10.0.20348.2031
	Compiler: clang 15.0.7, gcc 8.1.0 (MinGW), and MSVC VS 17.9

Windows Server 2019
	Kernel: 10.0.17763
	Compiler: clang 14.0 and gcc 8.1.0 (MinGW)

CentOS Stream 8
	Kernel: 5.4.0-167-generic
	Compiler: gcc 8.5.0 20210514

CentOS Stream 9
	Kernel: 5.4.0-167-generic
	Compiler: gcc 11.4.1 20230605

Debian Bullseye
	Kernel: 5.4.0-167-generic
	Compiler: gcc 10.2.1-6

Debian 12
	Kernel: Container Host Kernel
	Compiler: gcc 12.2.0

Fedora 37
	Kernel: Depends on container host system
	Compiler: gcc 12.3.1

Fedora 38
	Kernel: Depends on container host
	Compiler: gcc 13.2.1

Fedora 38 (Clang)
	Kernel: Depends on container host
	Compiler: clang 16.0.6

Fedora 39
	Kernel: Depends on container host
	Compiler: gcc 13.2.1

Fedora 39 (Clang)
	Kernel: Depends on container host
	Compiler: clang 17.0.6

Fedora 40
	Kernel: Depends on container host
	Compiler: gcc 14.1.1

Fedora 40 (Clang)
	Kernel: Depends on container host
	Compiler: clang 18.1.6

openSUSE Leap 15
	Kernel: 5.4.0-167-generic
	Compiler: gcc 7.5.0

RHEL9
	Kernel: Depends on container host
	Compiler: gcc 11.4.1

Ubuntu 20.04
	Kernel: 5.4.0-167-generic
	Compiler: gcc 9.4.0-1ubuntu1~20.04.1

RHEL8
	Kernel: 5.4.0-167-generic
	Compiler: gcc 8.5.0 20210514 (Red Hat 8.5.0-20)

Ubuntu 24.04
	Kernel: 5.4.0-167-generic
	Compiler: gcc 13.2.0

Ubuntu 22.04
	Kernel: 5.4.0-167-generic
	Compiler: gcc 11.4.0

To view detailed results, visit:
https://lab.dpdk.org/results/dashboard/patchsets/30612/

UNH-IOL DPDK Community Lab

To manage your email subscriptions, visit: 
https://lab.dpdk.org/results/dashboard/preferences/subscriptions/