From mboxrd@z Thu Jan  1 00:00:00 1970
Return-Path: <test-report-bounces@dpdk.org>
Received: from mails.dpdk.org (mails.dpdk.org [217.70.189.124])
	by inbox.dpdk.org (Postfix) with ESMTP id B82C5456A7
	for <public@inbox.dpdk.org>; Thu, 25 Jul 2024 05:16:15 +0200 (CEST)
Received: from mails.dpdk.org (localhost [127.0.0.1])
	by mails.dpdk.org (Postfix) with ESMTP id AA04F4353A;
	Thu, 25 Jul 2024 05:16:15 +0200 (CEST)
Received: from mail-oo1-f99.google.com (mail-oo1-f99.google.com
 [209.85.161.99]) by mails.dpdk.org (Postfix) with ESMTP id E074540614
 for <test-report@dpdk.org>; Thu, 25 Jul 2024 05:16:11 +0200 (CEST)
Received: by mail-oo1-f99.google.com with SMTP id
 006d021491bc7-5cce7626c87so263603eaf.2
 for <test-report@dpdk.org>; Wed, 24 Jul 2024 20:16:11 -0700 (PDT)
DKIM-Signature: v=1; a=rsa-sha256; c=relaxed/relaxed;
 d=iol.unh.edu; s=unh-iol; t=1721877371; x=1722482171; darn=dpdk.org;
 h=references:in-reply-to:cc:to:from:subject:message-id:date:from:to
 :cc:subject:date:message-id:reply-to;
 bh=wzIOyxXj/lxcsWTravO4x6rYVKzsrw2Tn6JGj7zYo3I=;
 b=hp+7/eGkuVwz/Te5wuUx0nvGTfUpaBQQTXy1Wtn8l7kansd844b2HPLXB8VN9J01xs
 6d47jAyaVWbXm9s+61DG/YSvjhqL2CC9tdS5vp2MfKPxFw+gLzSRFHT1FGhXRoAYu8BS
 3c7v479QROMCcyWSRKF+xgWQCnPMoKCsrdlVY=
X-Google-DKIM-Signature: v=1; a=rsa-sha256; c=relaxed/relaxed;
 d=1e100.net; s=20230601; t=1721877371; x=1722482171;
 h=references:in-reply-to:cc:to:from:subject:message-id:date
 :x-gm-message-state:from:to:cc:subject:date:message-id:reply-to;
 bh=wzIOyxXj/lxcsWTravO4x6rYVKzsrw2Tn6JGj7zYo3I=;
 b=ZMzglqYVMIUdQvGBnEIWBxdIBHHjJn+acgMtWQrPgecxye0/4UdCwEgF2c7Ly1wwhU
 fxAUC/H4Vl7nRuIYVu/O8bFAI5EjsjreZzqwmZ7QavDtF/S5Zy2EDXC1Xhu6dP4oepCE
 vFza5CSVA5QzO7N2IYJnA8zgOTjUKbdLQKF4ZhlzPBtwgywRv/OrlRQ+VaK3gnuHvgLw
 9vQz99Hs4vatIzqn/k5fOml/rLW0RdPDaATGb+uTIM8zvROwur1HSYOISxW8SLqp29OP
 a4ovfpoE7Vfaz7q6vzte5WuJQMx7fWeLVw1/GjIwuTQ7i0DA6PtjrF9NmJ18oIt8g7lj
 nT+w==
X-Gm-Message-State: AOJu0Yx2hFYhscQLNTJztcrV2AnYPdseM6NY8K2XDIQfMorjrSaf6Rsn
 jHZvWBmn5jbVrTXPRUd2qc19GlFNbiZz2r3F0WU6FV1LlcLUj1a6OrsPUE78UpGWgqUVZkj/ekE
 yeJ6xLQswTqB4LYrYSi0CfvGxMCE7diG4ob2DepHO
X-Google-Smtp-Source: AGHT+IGeAQL1GM2xxn1mogQuScP+g+9/lB9SV82UmuKFhcuywVdx+7E3B8VEwKdO6C21IQL2dcm8EP8p0Zi0
X-Received: by 2002:a05:6870:5589:b0:25e:7a9:b603 with SMTP id
 586e51a60fabf-266cc0e5ba7mr897129fac.5.1721877370938; 
 Wed, 24 Jul 2024 20:16:10 -0700 (PDT)
Received: from postal.iol.unh.edu (postal.iol.unh.edu. [132.177.123.84])
 by smtp-relay.gmail.com with ESMTPS id
 586e51a60fabf-2655e1fb099sm59617fac.30.2024.07.24.20.16.10
 (version=TLS1_2 cipher=ECDHE-ECDSA-AES128-GCM-SHA256 bits=128/128);
 Wed, 24 Jul 2024 20:16:10 -0700 (PDT)
X-Relaying-Domain: iol.unh.edu
Date: Wed, 24 Jul 2024 20:16:10 -0700 (PDT)
Message-ID: <66a1c37a.050a0220.19afee.243eSMTPIN_ADDED_MISSING@mx.google.com>
Received: from [172.21.0.10] (unknown [172.18.0.240])
 by postal.iol.unh.edu (Postfix) with ESMTP id 68036605C351;
 Wed, 24 Jul 2024 23:16:10 -0400 (EDT)
Subject: |PENDING| pw142707-142709 [PATCH] [v4,3/3] test-pmd: add more packet
From: dpdklab@iol.unh.edu
To: Test Report <test-report@dpdk.org>
Cc: dpdk-test-reports@iol.unh.edu
In-Reply-To: <20240724184741.150763-4-stephen@networkplumber.org>
References: <20240724184741.150763-4-stephen@networkplumber.org>
Content-Type: text/plain
X-BeenThere: test-report@dpdk.org
X-Mailman-Version: 2.1.29
Precedence: list
List-Id: automatic DPDK test reports <test-report.dpdk.org>
List-Unsubscribe: <https://mails.dpdk.org/options/test-report>,
 <mailto:test-report-request@dpdk.org?subject=unsubscribe>
List-Archive: <http://mails.dpdk.org/archives/test-report/>
List-Post: <mailto:test-report@dpdk.org>
List-Help: <mailto:test-report-request@dpdk.org?subject=help>
List-Subscribe: <https://mails.dpdk.org/listinfo/test-report>,
 <mailto:test-report-request@dpdk.org?subject=subscribe>
Errors-To: test-report-bounces@dpdk.org

Test-Label: iol-abi-testing
Test-Status: PENDING
http://dpdk.org/patch/142709

_Testing pending_

Submitter: Stephen Hemminger <stephen@networkplumber.org>
Date: Wednesday, July 24 2024 18:46:14 
DPDK git baseline: Repo:dpdk
  Branch: master
  CommitID:82c47f005b9a0a1e3a649664b7713443d18abe43

142707-142709 --> testing pending

Upstream job id: Generic-DPDK-Compile-ABI#100353

Test environment and result as below:

+-------------------+----------+
|    Environment    | abi_test |
+===================+==========+
| CentOS Stream 8   | PASS     |
+-------------------+----------+
| CentOS Stream 9   | PASS     |
+-------------------+----------+
| Debian 12         | PASS     |
+-------------------+----------+
| Debian Bullseye   | PASS     |
+-------------------+----------+
| Fedora 37         | PASS     |
+-------------------+----------+
| Fedora 39 (Clang) | PASS     |
+-------------------+----------+
| Fedora 38 (Clang) | PASS     |
+-------------------+----------+
| Fedora 38         | PEND     |
+-------------------+----------+
| Fedora 39         | PEND     |
+-------------------+----------+
| Fedora 40         | PASS     |
+-------------------+----------+
| Fedora 40 (Clang) | PASS     |
+-------------------+----------+
| openSUSE Leap 15  | PEND     |
+-------------------+----------+
| RHEL8             | PASS     |
+-------------------+----------+
| Ubuntu 22.04      | PEND     |
+-------------------+----------+
| RHEL9             | PEND     |
+-------------------+----------+
| Ubuntu 24.04      | PEND     |
+-------------------+----------+


CentOS Stream 8
	Kernel: 5.4.0-167-generic
	Compiler: gcc 8.5.0 20210514

CentOS Stream 9
	Kernel: 5.4.0-167-generic
	Compiler: gcc 11.4.1 20230605

Debian 12
	Kernel: Container Host Kernel
	Compiler: gcc 12.2.0

Debian Bullseye
	Kernel: 5.4.0-167-generic
	Compiler: gcc 10.2.1-6

Fedora 37
	Kernel: Depends on container host system
	Compiler: gcc 12.3.1

Fedora 39 (Clang)
	Kernel: Depends on container host
	Compiler: clang 17.0.6

Fedora 38 (Clang)
	Kernel: Depends on container host
	Compiler: clang 16.0.6

Fedora 38
	Kernel: Depends on container host
	Compiler: gcc 13.2.1

Fedora 39
	Kernel: Depends on container host
	Compiler: gcc 13.2.1

Fedora 40
	Kernel: Depends on container host
	Compiler: gcc 14.1.1

Fedora 40 (Clang)
	Kernel: Depends on container host
	Compiler: clang 18.1.6

openSUSE Leap 15
	Kernel: 5.4.0-167-generic
	Compiler: gcc 7.5.0

RHEL8
	Kernel: 5.4.0-167-generic
	Compiler: gcc 8.5.0 20210514 (Red Hat 8.5.0-20)

Ubuntu 22.04
	Kernel: 5.4.0-167-generic
	Compiler: gcc 11.4.0

RHEL9
	Kernel: Depends on container host
	Compiler: gcc 11.4.1

Ubuntu 24.04
	Kernel: 5.4.0-167-generic
	Compiler: gcc 13.2.0

To view detailed results, visit:
https://lab.dpdk.org/results/dashboard/patchsets/30615/

UNH-IOL DPDK Community Lab

To manage your email subscriptions, visit: 
https://lab.dpdk.org/results/dashboard/preferences/subscriptions/