From mboxrd@z Thu Jan  1 00:00:00 1970
Return-Path: <test-report-bounces@dpdk.org>
Received: from mails.dpdk.org (mails.dpdk.org [217.70.189.124])
	by inbox.dpdk.org (Postfix) with ESMTP id 31FE8456A7
	for <public@inbox.dpdk.org>; Thu, 25 Jul 2024 05:18:02 +0200 (CEST)
Received: from mails.dpdk.org (localhost [127.0.0.1])
	by mails.dpdk.org (Postfix) with ESMTP id 2E1BB410F9;
	Thu, 25 Jul 2024 05:18:02 +0200 (CEST)
Received: from mail-io1-f97.google.com (mail-io1-f97.google.com
 [209.85.166.97]) by mails.dpdk.org (Postfix) with ESMTP id 642E240614
 for <test-report@dpdk.org>; Thu, 25 Jul 2024 05:17:55 +0200 (CEST)
Received: by mail-io1-f97.google.com with SMTP id
 ca18e2360f4ac-8036ce660e5so20110039f.1
 for <test-report@dpdk.org>; Wed, 24 Jul 2024 20:17:55 -0700 (PDT)
DKIM-Signature: v=1; a=rsa-sha256; c=relaxed/relaxed;
 d=iol.unh.edu; s=unh-iol; t=1721877475; x=1722482275; darn=dpdk.org;
 h=references:in-reply-to:cc:to:from:subject:message-id:date:from:to
 :cc:subject:date:message-id:reply-to;
 bh=E1Hrs2OXINUjRkgr1HTMrWxrcIZZ5reXn54exf4vPwo=;
 b=NcM/UgIwPyt/Y0SKKlRN5W439jWzFNnG3wNg/o0iSfTD2phRV4qjITMEzOB8asDMAR
 rx59I8gyET3EovYVagGIxdZLyYKpA4L9IkxDWo/rmT32zxab3WLdHvD2xgPBxaa7EcfV
 VTFDlDhcxddio0l8qiSAlGGcj3EY09mRfbZII=
X-Google-DKIM-Signature: v=1; a=rsa-sha256; c=relaxed/relaxed;
 d=1e100.net; s=20230601; t=1721877475; x=1722482275;
 h=references:in-reply-to:cc:to:from:subject:message-id:date
 :x-gm-message-state:from:to:cc:subject:date:message-id:reply-to;
 bh=E1Hrs2OXINUjRkgr1HTMrWxrcIZZ5reXn54exf4vPwo=;
 b=UtkdXlWQoQvryk0gPVnn1NZkEKNrJzwE5FgATrbhUAm+pOs4YY9Mw4PAUBBjNsT3ZM
 5T148adij9h7v+y9eJQeCEIzmceqYyKlEqszMoFtGA+bD492GkU3h6QJoP3EgVKbov5E
 rdrVtbnl5ndtL8g9vHNLQe2mpT31Eebj78nFuaEARNex6Mtya40OMFV2t755zVvpMhpP
 uiZ5DdKRauyi+Pk1Nz6ZZ/utfkomjyoCEIvdUfyjy0tza0KxUhQWY3m9BCqvL/NdXWdV
 1cPb7BOuIhah9MLjo6myADAw2WFUjE3nkILRP10uRA9Y8leSx/JdORdcOboTKYWGWbS0
 8rDg==
X-Gm-Message-State: AOJu0YyFzfLmHWtoetRktl8KHWqPjz3deo1cxnzNZUzvbO2JBsfXYEzM
 cQvKazCdcahJ5t9o4ofwHm+K0+FGu/PUdkbh7VJezZElBLAbh6BUBBrk04D4OPtUidYS/U4bxFC
 ViL2nSz8YdTl2xTlvY+6h5ODj3UM9j6uerRegObfe
X-Google-Smtp-Source: AGHT+IFQ+P9oBuvhnz7J1Q8IGNeBbCciGewtggyZwSYf3gmr66BQZVJs+3i4hwy9Isk0WNEbuNvFTIZ7opn7
X-Received: by 2002:a05:6602:13c3:b0:807:eeef:4fb5 with SMTP id
 ca18e2360f4ac-81f7bd127d6mr320231239f.1.1721877474783; 
 Wed, 24 Jul 2024 20:17:54 -0700 (PDT)
Received: from postal.iol.unh.edu (postal.iol.unh.edu. [132.177.123.84])
 by smtp-relay.gmail.com with ESMTPS id
 ca18e2360f4ac-81f7d7723b3sm4670639f.18.2024.07.24.20.17.54
 (version=TLS1_2 cipher=ECDHE-ECDSA-AES128-GCM-SHA256 bits=128/128);
 Wed, 24 Jul 2024 20:17:54 -0700 (PDT)
X-Relaying-Domain: iol.unh.edu
Date: Wed, 24 Jul 2024 20:17:54 -0700 (PDT)
Message-ID: <66a1c3e2.050a0220.dd756.1e1bSMTPIN_ADDED_MISSING@mx.google.com>
Received: from [172.21.0.6] (unknown [172.18.0.240])
 by postal.iol.unh.edu (Postfix) with ESMTP id 4F1B2605C351;
 Wed, 24 Jul 2024 23:17:54 -0400 (EDT)
Subject: |PENDING| pw142699-142700 [PATCH] [v3,2/2] dts: add dual_vlan test s
From: dpdklab@iol.unh.edu
To: Test Report <test-report@dpdk.org>
Cc: dpdk-test-reports@iol.unh.edu
In-Reply-To: <20240724171345.341495-3-jspewock@iol.unh.edu>
References: <20240724171345.341495-3-jspewock@iol.unh.edu>
Content-Type: text/plain
X-BeenThere: test-report@dpdk.org
X-Mailman-Version: 2.1.29
Precedence: list
List-Id: automatic DPDK test reports <test-report.dpdk.org>
List-Unsubscribe: <https://mails.dpdk.org/options/test-report>,
 <mailto:test-report-request@dpdk.org?subject=unsubscribe>
List-Archive: <http://mails.dpdk.org/archives/test-report/>
List-Post: <mailto:test-report@dpdk.org>
List-Help: <mailto:test-report-request@dpdk.org?subject=help>
List-Subscribe: <https://mails.dpdk.org/listinfo/test-report>,
 <mailto:test-report-request@dpdk.org?subject=subscribe>
Errors-To: test-report-bounces@dpdk.org

Test-Label: iol-unit-amd64-testing
Test-Status: PENDING
http://dpdk.org/patch/142700

_Testing pending_

Submitter: Jeremy Spewock <jspewock@iol.unh.edu>
Date: Wednesday, July 24 2024 17:13:45 
DPDK git baseline: Repo:dpdk
  Branch: master
  CommitID:82c47f005b9a0a1e3a649664b7713443d18abe43

142699-142700 --> testing pending

Upstream job id: Generic-Unit-Test-DPDK#244431

Test environment and result as below:

+---------------------+----------------+
|     Environment     | dpdk_unit_test |
+=====================+================+
| Windows Server 2022 | PASS           |
+---------------------+----------------+
| Windows Server 2019 | PASS           |
+---------------------+----------------+
| CentOS Stream 8     | PASS           |
+---------------------+----------------+
| CentOS Stream 9     | PASS           |
+---------------------+----------------+
| Debian Bullseye     | PASS           |
+---------------------+----------------+
| Debian 12           | PASS           |
+---------------------+----------------+
| Fedora 37           | PASS           |
+---------------------+----------------+
| Fedora 38           | PEND           |
+---------------------+----------------+
| Fedora 38 (Clang)   | PEND           |
+---------------------+----------------+
| Fedora 39           | PEND           |
+---------------------+----------------+
| Fedora 39 (Clang)   | PEND           |
+---------------------+----------------+
| Fedora 40           | PEND           |
+---------------------+----------------+
| Fedora 40 (Clang)   | PEND           |
+---------------------+----------------+
| openSUSE Leap 15    | PEND           |
+---------------------+----------------+
| RHEL9               | PEND           |
+---------------------+----------------+
| Ubuntu 20.04        | PEND           |
+---------------------+----------------+
| RHEL8               | PEND           |
+---------------------+----------------+
| Ubuntu 24.04        | PEND           |
+---------------------+----------------+
| Ubuntu 22.04        | PEND           |
+---------------------+----------------+


Windows Server 2022
	Kernel: 10.0.20348.2031
	Compiler: clang 15.0.7, gcc 8.1.0 (MinGW), and MSVC VS 17.9

Windows Server 2019
	Kernel: 10.0.17763
	Compiler: clang 14.0 and gcc 8.1.0 (MinGW)

CentOS Stream 8
	Kernel: 5.4.0-167-generic
	Compiler: gcc 8.5.0 20210514

CentOS Stream 9
	Kernel: 5.4.0-167-generic
	Compiler: gcc 11.4.1 20230605

Debian Bullseye
	Kernel: 5.4.0-167-generic
	Compiler: gcc 10.2.1-6

Debian 12
	Kernel: Container Host Kernel
	Compiler: gcc 12.2.0

Fedora 37
	Kernel: Depends on container host system
	Compiler: gcc 12.3.1

Fedora 38
	Kernel: Depends on container host
	Compiler: gcc 13.2.1

Fedora 38 (Clang)
	Kernel: Depends on container host
	Compiler: clang 16.0.6

Fedora 39
	Kernel: Depends on container host
	Compiler: gcc 13.2.1

Fedora 39 (Clang)
	Kernel: Depends on container host
	Compiler: clang 17.0.6

Fedora 40
	Kernel: Depends on container host
	Compiler: gcc 14.1.1

Fedora 40 (Clang)
	Kernel: Depends on container host
	Compiler: clang 18.1.6

openSUSE Leap 15
	Kernel: 5.4.0-167-generic
	Compiler: gcc 7.5.0

RHEL9
	Kernel: Depends on container host
	Compiler: gcc 11.4.1

Ubuntu 20.04
	Kernel: 5.4.0-167-generic
	Compiler: gcc 9.4.0-1ubuntu1~20.04.1

RHEL8
	Kernel: 5.4.0-167-generic
	Compiler: gcc 8.5.0 20210514 (Red Hat 8.5.0-20)

Ubuntu 24.04
	Kernel: 5.4.0-167-generic
	Compiler: gcc 13.2.0

Ubuntu 22.04
	Kernel: 5.4.0-167-generic
	Compiler: gcc 11.4.0

To view detailed results, visit:
https://lab.dpdk.org/results/dashboard/patchsets/30612/

UNH-IOL DPDK Community Lab

To manage your email subscriptions, visit: 
https://lab.dpdk.org/results/dashboard/preferences/subscriptions/