From mboxrd@z Thu Jan  1 00:00:00 1970
Return-Path: <test-report-bounces@dpdk.org>
Received: from mails.dpdk.org (mails.dpdk.org [217.70.189.124])
	by inbox.dpdk.org (Postfix) with ESMTP id C50B6456AB
	for <public@inbox.dpdk.org>; Thu, 25 Jul 2024 06:53:48 +0200 (CEST)
Received: from mails.dpdk.org (localhost [127.0.0.1])
	by mails.dpdk.org (Postfix) with ESMTP id BFE2742EA3;
	Thu, 25 Jul 2024 06:53:48 +0200 (CEST)
Received: from mail-vk1-f225.google.com (mail-vk1-f225.google.com
 [209.85.221.225])
 by mails.dpdk.org (Postfix) with ESMTP id 455B7427C2
 for <test-report@dpdk.org>; Thu, 25 Jul 2024 06:53:48 +0200 (CEST)
Received: by mail-vk1-f225.google.com with SMTP id
 71dfb90a1353d-4f50dd3eab9so185206e0c.1
 for <test-report@dpdk.org>; Wed, 24 Jul 2024 21:53:48 -0700 (PDT)
DKIM-Signature: v=1; a=rsa-sha256; c=relaxed/relaxed;
 d=iol.unh.edu; s=unh-iol; t=1721883227; x=1722488027; darn=dpdk.org;
 h=references:in-reply-to:cc:to:from:subject:message-id:date:from:to
 :cc:subject:date:message-id:reply-to;
 bh=xAmbEKuoMaAvqwgyQ9cPttSsx0yu7WL18+bJxp0s+/4=;
 b=C2iH2IZQMpFMPCfCQpENyH5njsHKXrgypQQvMPbSJuGAvLjjcOqZNehPz3JIisEqCm
 p387nYagnB+hjji+9yTX+H99w2CExIbp9a3IEnpwJoscOB85zfK+yAGKVfjhOmT6MSMh
 /YB/oF9UVMSocKGbCfPV6/jnrfEp6hSXKV3NY=
X-Google-DKIM-Signature: v=1; a=rsa-sha256; c=relaxed/relaxed;
 d=1e100.net; s=20230601; t=1721883227; x=1722488027;
 h=references:in-reply-to:cc:to:from:subject:message-id:date
 :x-gm-message-state:from:to:cc:subject:date:message-id:reply-to;
 bh=xAmbEKuoMaAvqwgyQ9cPttSsx0yu7WL18+bJxp0s+/4=;
 b=KKCRetb6agPCsUFNO/NQo1hmMx0ww8i/x+tQPjbXoCzfgNilTFwd4FzYCIrZzJ443/
 qv42hOsqbdGWDdbQ8zYxzoPj5lMkVB0N27IoFsBhQBVzlXyFbUJwqgrW9CaIbQ8gentW
 eCFAyLmngvDC6t/DakespqpM7QUl1rwg1P+lFFCoaQu4tsjPcxwr8vHeiQXrCbVjmVmo
 rrh+z/mFQFlZHR+WqrTFJuQgLk8qFDknl/4s8voOASFeT4kFg4IVdFG395MN56bPGjNV
 v5oi0VN2ZnBKVgGW3KbG6sVPdP1OhAyR3xxzeFE3s5Muv5P1OvZRjqprMQFxq0d3qMse
 vvnQ==
X-Gm-Message-State: AOJu0Yw0WhPhaDoaf0H87Fi17SxuOXx68lusSMn/P9k4VKHStV3t89kw
 jstG8JbPxY2TdO9Q6CW7btRFJHqXPaQwy9UYk2LIBc9BXwBQF/JnXnzbxXT0y3aOJyvKkwlkhFO
 ygMgdHMd1siYAcWquD3baZTfvq2c3VutFgJgRVJHG
X-Google-Smtp-Source: AGHT+IEJ8q0W7DI4Kg9DtxDBnBPQnk4K1qNeMBxflcWhXLRacxW1GBErjYCXgsbOqyq48lhv6MtT3XRf/g06
X-Received: by 2002:a05:6122:3d02:b0:4ec:f996:5d84 with SMTP id
 71dfb90a1353d-4f6c5b5a309mr2794710e0c.2.1721883227522; 
 Wed, 24 Jul 2024 21:53:47 -0700 (PDT)
Received: from postal.iol.unh.edu (postal.iol.unh.edu. [132.177.123.84])
 by smtp-relay.gmail.com with ESMTPS id
 71dfb90a1353d-4f6c86b4723sm74106e0c.4.2024.07.24.21.53.47
 (version=TLS1_2 cipher=ECDHE-ECDSA-AES128-GCM-SHA256 bits=128/128);
 Wed, 24 Jul 2024 21:53:47 -0700 (PDT)
X-Relaying-Domain: iol.unh.edu
Date: Wed, 24 Jul 2024 21:53:47 -0700 (PDT)
Message-ID: <66a1da5b.050a0220.378a9f.3216SMTPIN_ADDED_MISSING@mx.google.com>
Received: from [172.21.0.7] (unknown [172.18.0.240])
 by postal.iol.unh.edu (Postfix) with ESMTP id 2AFFB605C351;
 Thu, 25 Jul 2024 00:53:47 -0400 (EDT)
Subject: |PENDING| pw142696-142698 [PATCH] [v12,3/3] dts: config schema
From: dpdklab@iol.unh.edu
To: Test Report <test-report@dpdk.org>
Cc: dpdk-test-reports@iol.unh.edu
In-Reply-To: <20240724163004.5681-4-dmarx@iol.unh.edu>
References: <20240724163004.5681-4-dmarx@iol.unh.edu>
Content-Type: text/plain
X-BeenThere: test-report@dpdk.org
X-Mailman-Version: 2.1.29
Precedence: list
List-Id: automatic DPDK test reports <test-report.dpdk.org>
List-Unsubscribe: <https://mails.dpdk.org/options/test-report>,
 <mailto:test-report-request@dpdk.org?subject=unsubscribe>
List-Archive: <http://mails.dpdk.org/archives/test-report/>
List-Post: <mailto:test-report@dpdk.org>
List-Help: <mailto:test-report-request@dpdk.org?subject=help>
List-Subscribe: <https://mails.dpdk.org/listinfo/test-report>,
 <mailto:test-report-request@dpdk.org?subject=subscribe>
Errors-To: test-report-bounces@dpdk.org

Test-Label: iol-compile-amd64-testing
Test-Status: PENDING
http://dpdk.org/patch/142698

_Testing pending_

Submitter: Dean Marx <dmarx@iol.unh.edu>
Date: Wednesday, July 24 2024 16:30:04 
DPDK git baseline: Repo:dpdk
  Branch: master
  CommitID:82c47f005b9a0a1e3a649664b7713443d18abe43

142696-142698 --> testing pending

Upstream job id: Windows-Compile-DPDK-Meson#23828

Test environment and result as below:

+---------------------+--------------------+----------------------+
|     Environment     | dpdk_meson_compile | dpdk_mingw64_compile |
+=====================+====================+======================+
| Windows Server 2019 | PASS               | PEND                 |
+---------------------+--------------------+----------------------+
| Windows Server 2022 | PASS               | PASS                 |
+---------------------+--------------------+----------------------+
| FreeBSD 13.3        | PASS               | SKIPPED              |
+---------------------+--------------------+----------------------+
| FreeBSD 14.1        | PEND               | SKIPPED              |
+---------------------+--------------------+----------------------+


Windows Server 2019
	Kernel: 10.0.17763
	Compiler: clang 14.0 and gcc 8.1.0 (MinGW)

Windows Server 2022
	Kernel: 10.0.20348.2031
	Compiler: clang 15.0.7, gcc 8.1.0 (MinGW), and MSVC VS 17.9

FreeBSD 13.3
	Kernel: 13.3-RELEASE-p1
	Compiler: clang 17.0.6

FreeBSD 14.1
	Kernel: 14.1
	Compiler: clang 18.1.5

To view detailed results, visit:
https://lab.dpdk.org/results/dashboard/patchsets/30611/

UNH-IOL DPDK Community Lab

To manage your email subscriptions, visit: 
https://lab.dpdk.org/results/dashboard/preferences/subscriptions/