From mboxrd@z Thu Jan  1 00:00:00 1970
Return-Path: <test-report-bounces@dpdk.org>
Received: from mails.dpdk.org (mails.dpdk.org [217.70.189.124])
	by inbox.dpdk.org (Postfix) with ESMTP id 9C598456AB
	for <public@inbox.dpdk.org>; Thu, 25 Jul 2024 07:02:19 +0200 (CEST)
Received: from mails.dpdk.org (localhost [127.0.0.1])
	by mails.dpdk.org (Postfix) with ESMTP id 12E2143561;
	Thu, 25 Jul 2024 07:02:19 +0200 (CEST)
Received: from mail-ot1-f99.google.com (mail-ot1-f99.google.com
 [209.85.210.99]) by mails.dpdk.org (Postfix) with ESMTP id 6F00A427C2
 for <test-report@dpdk.org>; Thu, 25 Jul 2024 07:02:06 +0200 (CEST)
Received: by mail-ot1-f99.google.com with SMTP id
 46e09a7af769-704466b19c4so260989a34.0
 for <test-report@dpdk.org>; Wed, 24 Jul 2024 22:02:06 -0700 (PDT)
DKIM-Signature: v=1; a=rsa-sha256; c=relaxed/relaxed;
 d=iol.unh.edu; s=unh-iol; t=1721883725; x=1722488525; darn=dpdk.org;
 h=references:in-reply-to:cc:to:from:subject:message-id:date:from:to
 :cc:subject:date:message-id:reply-to;
 bh=ZMhB+0Uwqprs+/HWLkqVq+3gJFCLYoXYDvrieFPoxxY=;
 b=RDdHn7owf6AXT/MfWdIUVMAhy2aN8xTXyLBOMOA2HL2wRv0hp/3KO3h2KnoeOted4J
 hfcIM67fLrxUX81YotBJZsAovzOYml5HNrm1j71blXYsJ95uzQgaXf/Lno3o0sMyDoD5
 6bnVm/Tej7HD+OrJfZmJePeFMPsyYh7o+6Q94=
X-Google-DKIM-Signature: v=1; a=rsa-sha256; c=relaxed/relaxed;
 d=1e100.net; s=20230601; t=1721883725; x=1722488525;
 h=references:in-reply-to:cc:to:from:subject:message-id:date
 :x-gm-message-state:from:to:cc:subject:date:message-id:reply-to;
 bh=ZMhB+0Uwqprs+/HWLkqVq+3gJFCLYoXYDvrieFPoxxY=;
 b=uQgGOszmkp4yoCC1DMKhYxhjAk09MnVzKsOqhwLWuJ30MjmKRl19nTgZxW6KtNYlRs
 tpp0OfTLnavDNS5T1Et07NyZYdujB3ILv7AHEtoLTQfZrTpqWG7wwwhwjMd7pbyyKX3p
 pFIIsMGeVRv4C3I/GB4Zih+wXGxBOWbAohtZct/e532p7dy/Ob2BrRkhlKgv+Y9GKGAY
 YXW+ejHTQidz5bBqjEXenq/1yJz1pLZ5FyQNjYpDhKrhTLwuUvPm8n6V9meWPYaWwSC9
 4Rvmq/lROgN+g0edSz+mAfFnz6+my/4k6PCDjQ1I07HRjKQqAUjcaxUXteU/WYcfSHE1
 kfIQ==
X-Gm-Message-State: AOJu0YxLriyXQcUXef2dRdSTzQaZDN0G3T6GiPE5tZOfAnJFKVRaDqVu
 kJZPtiaKsK4dlT3tkDzlQZAaPSnrMQ6T6ttWG6aJnW1Bx3jSO8XVcOD5GCpzbKHQJDZKgPhTElb
 8the8HAQh5lkQG69tIn+a2WKzp44WOgdMqXFU3JWP5dRG3AAxogmqr0OT
X-Google-Smtp-Source: AGHT+IHJ3itHjMI2efsupcZ5xUZFmG/jxb9EQYZikUJyDsm3R29lZf5djcyX96tnJc0YfekZXUbMMs5/n/tZ
X-Received: by 2002:a05:6870:b626:b0:261:21ad:9244 with SMTP id
 586e51a60fabf-266ede168bfmr879421fac.39.1721883725323; 
 Wed, 24 Jul 2024 22:02:05 -0700 (PDT)
Received: from postal.iol.unh.edu (postal.iol.unh.edu.
 [2606:4100:3880:1234::84]) by smtp-relay.gmail.com with ESMTPS id
 d2e1a72fcca58-70ead797d38sm71678b3a.15.2024.07.24.22.02.05
 (version=TLS1_2 cipher=ECDHE-ECDSA-AES128-GCM-SHA256 bits=128/128);
 Wed, 24 Jul 2024 22:02:05 -0700 (PDT)
X-Relaying-Domain: iol.unh.edu
Date: Wed, 24 Jul 2024 22:02:05 -0700 (PDT)
Message-ID: <66a1dc4d.050a0220.39dfa5.2eaaSMTPIN_ADDED_MISSING@mx.google.com>
Received: from [172.21.0.6] (unknown [172.18.0.240])
 by postal.iol.unh.edu (Postfix) with ESMTP id 7CB2E605C351;
 Thu, 25 Jul 2024 01:02:04 -0400 (EDT)
Subject: |PENDING| pw142704-142706 [PATCH] [v6,3/3] dts: Improve logging for 
From: dpdklab@iol.unh.edu
To: Test Report <test-report@dpdk.org>
Cc: dpdk-test-reports@iol.unh.edu
In-Reply-To: <20240724183914.436188-4-jspewock@iol.unh.edu>
References: <20240724183914.436188-4-jspewock@iol.unh.edu>
Content-Type: text/plain
X-BeenThere: test-report@dpdk.org
X-Mailman-Version: 2.1.29
Precedence: list
List-Id: automatic DPDK test reports <test-report.dpdk.org>
List-Unsubscribe: <https://mails.dpdk.org/options/test-report>,
 <mailto:test-report-request@dpdk.org?subject=unsubscribe>
List-Archive: <http://mails.dpdk.org/archives/test-report/>
List-Post: <mailto:test-report@dpdk.org>
List-Help: <mailto:test-report-request@dpdk.org?subject=help>
List-Subscribe: <https://mails.dpdk.org/listinfo/test-report>,
 <mailto:test-report-request@dpdk.org?subject=subscribe>
Errors-To: test-report-bounces@dpdk.org

Test-Label: iol-abi-testing
Test-Status: PENDING
http://dpdk.org/patch/142706

_Testing pending_

Submitter: Jeremy Spewock <jspewock@iol.unh.edu>
Date: Wednesday, July 24 2024 18:39:14 
DPDK git baseline: Repo:dpdk
  Branch: master
  CommitID:82c47f005b9a0a1e3a649664b7713443d18abe43

142704-142706 --> testing pending

Upstream job id: Generic-DPDK-Compile-ABI#100390

Test environment and result as below:

+-------------------+----------+
|    Environment    | abi_test |
+===================+==========+
| CentOS Stream 8   | PASS     |
+-------------------+----------+
| Debian Bullseye   | PASS     |
+-------------------+----------+
| CentOS Stream 9   | PASS     |
+-------------------+----------+
| Fedora 37         | PASS     |
+-------------------+----------+
| Debian 12         | PASS     |
+-------------------+----------+
| Fedora 38 (Clang) | PASS     |
+-------------------+----------+
| Fedora 40         | PEND     |
+-------------------+----------+
| Fedora 38         | PASS     |
+-------------------+----------+
| Fedora 39         | PEND     |
+-------------------+----------+
| Fedora 39 (Clang) | PASS     |
+-------------------+----------+
| Fedora 40 (Clang) | PASS     |
+-------------------+----------+
| RHEL9             | PEND     |
+-------------------+----------+
| openSUSE Leap 15  | PEND     |
+-------------------+----------+
| RHEL8             | PASS     |
+-------------------+----------+
| Ubuntu 22.04      | PEND     |
+-------------------+----------+
| Ubuntu 24.04      | PEND     |
+-------------------+----------+


CentOS Stream 8
	Kernel: 5.4.0-167-generic
	Compiler: gcc 8.5.0 20210514

Debian Bullseye
	Kernel: 5.4.0-167-generic
	Compiler: gcc 10.2.1-6

CentOS Stream 9
	Kernel: 5.4.0-167-generic
	Compiler: gcc 11.4.1 20230605

Fedora 37
	Kernel: Depends on container host system
	Compiler: gcc 12.3.1

Debian 12
	Kernel: Container Host Kernel
	Compiler: gcc 12.2.0

Fedora 38 (Clang)
	Kernel: Depends on container host
	Compiler: clang 16.0.6

Fedora 40
	Kernel: Depends on container host
	Compiler: gcc 14.1.1

Fedora 38
	Kernel: Depends on container host
	Compiler: gcc 13.2.1

Fedora 39
	Kernel: Depends on container host
	Compiler: gcc 13.2.1

Fedora 39 (Clang)
	Kernel: Depends on container host
	Compiler: clang 17.0.6

Fedora 40 (Clang)
	Kernel: Depends on container host
	Compiler: clang 18.1.6

RHEL9
	Kernel: Depends on container host
	Compiler: gcc 11.4.1

openSUSE Leap 15
	Kernel: 5.4.0-167-generic
	Compiler: gcc 7.5.0

RHEL8
	Kernel: 5.4.0-167-generic
	Compiler: gcc 8.5.0 20210514 (Red Hat 8.5.0-20)

Ubuntu 22.04
	Kernel: 5.4.0-167-generic
	Compiler: gcc 11.4.0

Ubuntu 24.04
	Kernel: 5.4.0-167-generic
	Compiler: gcc 13.2.0

To view detailed results, visit:
https://lab.dpdk.org/results/dashboard/patchsets/30614/

UNH-IOL DPDK Community Lab

To manage your email subscriptions, visit: 
https://lab.dpdk.org/results/dashboard/preferences/subscriptions/