From mboxrd@z Thu Jan  1 00:00:00 1970
Return-Path: <test-report-bounces@dpdk.org>
Received: from mails.dpdk.org (mails.dpdk.org [217.70.189.124])
	by inbox.dpdk.org (Postfix) with ESMTP id 0A963456AC
	for <public@inbox.dpdk.org>; Thu, 25 Jul 2024 07:43:47 +0200 (CEST)
Received: from mails.dpdk.org (localhost [127.0.0.1])
	by mails.dpdk.org (Postfix) with ESMTP id 005654278E;
	Thu, 25 Jul 2024 07:43:47 +0200 (CEST)
Received: from mail-il1-f226.google.com (mail-il1-f226.google.com
 [209.85.166.226])
 by mails.dpdk.org (Postfix) with ESMTP id 0EA4640614
 for <test-report@dpdk.org>; Thu, 25 Jul 2024 07:43:45 +0200 (CEST)
Received: by mail-il1-f226.google.com with SMTP id
 e9e14a558f8ab-39948831566so676655ab.3
 for <test-report@dpdk.org>; Wed, 24 Jul 2024 22:43:45 -0700 (PDT)
DKIM-Signature: v=1; a=rsa-sha256; c=relaxed/relaxed;
 d=iol.unh.edu; s=unh-iol; t=1721886224; x=1722491024; darn=dpdk.org;
 h=references:in-reply-to:cc:to:from:subject:message-id:date:from:to
 :cc:subject:date:message-id:reply-to;
 bh=OhTJeVPXy/48WEtZIc2JuI42CY6cegDrJ/kSawFuEwg=;
 b=Vr0LuUd1+TXPixpjw4xbqcmyKIDo7/i377yfcmn0xCAPteAncaQFr1Bhh4yewKaaxZ
 WTq0i3nDhieYR+cNxf4vI8ki1H1GglI2SUfrbA9iVD+GPNlC8dOn0ZDsm6ovNeDpwLL4
 8Ywv3eYSZiilqhF/8l4Xx3zXVzNdiDbIQnPaw=
X-Google-DKIM-Signature: v=1; a=rsa-sha256; c=relaxed/relaxed;
 d=1e100.net; s=20230601; t=1721886224; x=1722491024;
 h=references:in-reply-to:cc:to:from:subject:message-id:date
 :x-gm-message-state:from:to:cc:subject:date:message-id:reply-to;
 bh=OhTJeVPXy/48WEtZIc2JuI42CY6cegDrJ/kSawFuEwg=;
 b=qBm7om3co8vsCA6JKTiJuHx06MVOGXSPml0SYjjsncYO0+icdFrSvw8i9hec7AZ9Ao
 Dy60YrAAY2YpyMQU3PtHTUgEPIpuArUser9VrnkurNQg7+JUYijzsUYtVdy2kNPPh8wD
 jiefFpCDweu11h9A1mdkm2kyo+BGPpojuituh22tLv00UYr4l8rujOiDalCxt70IZsZW
 60K4hGxV2azcpvoJoae3LvQmxbm+Yi2NUC2ZtE7bQzVzf70UEN0tn1B7If5lRF2U/8dx
 kLU/1SqxkyF2OzBMWRDmYMy97L9Y985npEDB8JaKC18DMQPor3SP1Crbu+FSbIWzmYRe
 OjBA==
X-Gm-Message-State: AOJu0YzsKwjhDmarvBAq1/2U7dQaf4xcFYRAgig4o1JxsxzhurnlxZEN
 65gSFgAquK7tUmhxLEafX29hEnkghJhrbWaiGormPVy5YOGJbeK+tIJuhdqDNYCOa+6so/qciy3
 +EByt46k6T4mnwqCI4sCddRp9huD2LTgpP7I+cyi7pOa7a4WQO/wmVaAT
X-Google-Smtp-Source: AGHT+IEU3HjYEkihVVp+wtfzeHEAPF/jzeqSO5eaaHfVJwZN6uCFaow3rFnRCEjfg28eaZNybYwNN1artU3p
X-Received: by 2002:a05:6e02:184f:b0:383:4a12:b77c with SMTP id
 e9e14a558f8ab-39a23faaa1fmr12865735ab.8.1721886224397; 
 Wed, 24 Jul 2024 22:43:44 -0700 (PDT)
Received: from postal.iol.unh.edu (postal.iol.unh.edu.
 [2606:4100:3880:1234::84]) by smtp-relay.gmail.com with ESMTPS id
 e9e14a558f8ab-39a22e8e575sm851835ab.8.2024.07.24.22.43.44
 (version=TLS1_2 cipher=ECDHE-ECDSA-AES128-GCM-SHA256 bits=128/128);
 Wed, 24 Jul 2024 22:43:44 -0700 (PDT)
X-Relaying-Domain: iol.unh.edu
Date: Wed, 24 Jul 2024 22:43:44 -0700 (PDT)
Message-ID: <66a1e610.050a0220.d3767.32f5SMTPIN_ADDED_MISSING@mx.google.com>
Received: from [172.21.0.7] (unknown [172.18.0.240])
 by postal.iol.unh.edu (Postfix) with ESMTP id D5615605C351;
 Thu, 25 Jul 2024 01:43:43 -0400 (EDT)
Subject: |PENDING| pw142696-142698 [PATCH] [v12,3/3] dts: config schema
From: dpdklab@iol.unh.edu
To: Test Report <test-report@dpdk.org>
Cc: dpdk-test-reports@iol.unh.edu
In-Reply-To: <20240724163004.5681-4-dmarx@iol.unh.edu>
References: <20240724163004.5681-4-dmarx@iol.unh.edu>
Content-Type: text/plain
X-BeenThere: test-report@dpdk.org
X-Mailman-Version: 2.1.29
Precedence: list
List-Id: automatic DPDK test reports <test-report.dpdk.org>
List-Unsubscribe: <https://mails.dpdk.org/options/test-report>,
 <mailto:test-report-request@dpdk.org?subject=unsubscribe>
List-Archive: <http://mails.dpdk.org/archives/test-report/>
List-Post: <mailto:test-report@dpdk.org>
List-Help: <mailto:test-report-request@dpdk.org?subject=help>
List-Subscribe: <https://mails.dpdk.org/listinfo/test-report>,
 <mailto:test-report-request@dpdk.org?subject=subscribe>
Errors-To: test-report-bounces@dpdk.org

Test-Label: iol-unit-amd64-testing
Test-Status: PENDING
http://dpdk.org/patch/142698

_Testing pending_

Submitter: Dean Marx <dmarx@iol.unh.edu>
Date: Wednesday, July 24 2024 16:30:04 
DPDK git baseline: Repo:dpdk
  Branch: master
  CommitID:82c47f005b9a0a1e3a649664b7713443d18abe43

142696-142698 --> testing pending

Upstream job id: Generic-Unit-Test-DPDK#244499

Test environment and result as below:

+---------------------+----------------+
|     Environment     | dpdk_unit_test |
+=====================+================+
| Windows Server 2022 | PASS           |
+---------------------+----------------+
| Windows Server 2019 | PASS           |
+---------------------+----------------+
| CentOS Stream 8     | PASS           |
+---------------------+----------------+
| CentOS Stream 9     | PASS           |
+---------------------+----------------+
| Debian Bullseye     | PEND           |
+---------------------+----------------+
| Fedora 37           | PEND           |
+---------------------+----------------+
| Debian 12           | PEND           |
+---------------------+----------------+
| Fedora 38 (Clang)   | PEND           |
+---------------------+----------------+
| Fedora 38           | PEND           |
+---------------------+----------------+
| Fedora 39           | PEND           |
+---------------------+----------------+
| Fedora 39 (Clang)   | PEND           |
+---------------------+----------------+
| Fedora 40           | PEND           |
+---------------------+----------------+
| Fedora 40 (Clang)   | PEND           |
+---------------------+----------------+
| openSUSE Leap 15    | PEND           |
+---------------------+----------------+
| RHEL8               | PEND           |
+---------------------+----------------+
| RHEL9               | PEND           |
+---------------------+----------------+
| Ubuntu 20.04        | PEND           |
+---------------------+----------------+
| Ubuntu 22.04        | PEND           |
+---------------------+----------------+
| Ubuntu 24.04        | PEND           |
+---------------------+----------------+


Windows Server 2022
	Kernel: 10.0.20348.2031
	Compiler: clang 15.0.7, gcc 8.1.0 (MinGW), and MSVC VS 17.9

Windows Server 2019
	Kernel: 10.0.17763
	Compiler: clang 14.0 and gcc 8.1.0 (MinGW)

CentOS Stream 8
	Kernel: 5.4.0-167-generic
	Compiler: gcc 8.5.0 20210514

CentOS Stream 9
	Kernel: 5.4.0-167-generic
	Compiler: gcc 11.4.1 20230605

Debian Bullseye
	Kernel: 5.4.0-167-generic
	Compiler: gcc 10.2.1-6

Fedora 37
	Kernel: Depends on container host system
	Compiler: gcc 12.3.1

Debian 12
	Kernel: Container Host Kernel
	Compiler: gcc 12.2.0

Fedora 38 (Clang)
	Kernel: Depends on container host
	Compiler: clang 16.0.6

Fedora 38
	Kernel: Depends on container host
	Compiler: gcc 13.2.1

Fedora 39
	Kernel: Depends on container host
	Compiler: gcc 13.2.1

Fedora 39 (Clang)
	Kernel: Depends on container host
	Compiler: clang 17.0.6

Fedora 40
	Kernel: Depends on container host
	Compiler: gcc 14.1.1

Fedora 40 (Clang)
	Kernel: Depends on container host
	Compiler: clang 18.1.6

openSUSE Leap 15
	Kernel: 5.4.0-167-generic
	Compiler: gcc 7.5.0

RHEL8
	Kernel: 5.4.0-167-generic
	Compiler: gcc 8.5.0 20210514 (Red Hat 8.5.0-20)

RHEL9
	Kernel: Depends on container host
	Compiler: gcc 11.4.1

Ubuntu 20.04
	Kernel: 5.4.0-167-generic
	Compiler: gcc 9.4.0-1ubuntu1~20.04.1

Ubuntu 22.04
	Kernel: 5.4.0-167-generic
	Compiler: gcc 11.4.0

Ubuntu 24.04
	Kernel: 5.4.0-167-generic
	Compiler: gcc 13.2.0

To view detailed results, visit:
https://lab.dpdk.org/results/dashboard/patchsets/30611/

UNH-IOL DPDK Community Lab

To manage your email subscriptions, visit: 
https://lab.dpdk.org/results/dashboard/preferences/subscriptions/