From mboxrd@z Thu Jan  1 00:00:00 1970
Return-Path: <test-report-bounces@dpdk.org>
Received: from mails.dpdk.org (mails.dpdk.org [217.70.189.124])
	by inbox.dpdk.org (Postfix) with ESMTP id 288CE456AD
	for <public@inbox.dpdk.org>; Thu, 25 Jul 2024 07:44:08 +0200 (CEST)
Received: from mails.dpdk.org (localhost [127.0.0.1])
	by mails.dpdk.org (Postfix) with ESMTP id 21CED4278E;
	Thu, 25 Jul 2024 07:44:08 +0200 (CEST)
Received: from mail-io1-f99.google.com (mail-io1-f99.google.com
 [209.85.166.99]) by mails.dpdk.org (Postfix) with ESMTP id C995440614
 for <test-report@dpdk.org>; Thu, 25 Jul 2024 07:43:56 +0200 (CEST)
Received: by mail-io1-f99.google.com with SMTP id
 ca18e2360f4ac-816d9285ebdso23126039f.0
 for <test-report@dpdk.org>; Wed, 24 Jul 2024 22:43:56 -0700 (PDT)
DKIM-Signature: v=1; a=rsa-sha256; c=relaxed/relaxed;
 d=iol.unh.edu; s=unh-iol; t=1721886236; x=1722491036; darn=dpdk.org;
 h=references:in-reply-to:cc:to:from:subject:message-id:date:from:to
 :cc:subject:date:message-id:reply-to;
 bh=j9JNGgHghdsAelft/Fa0gd7vV/2UtqOZlY5kVVQNiXo=;
 b=YhPbyMkAlonjZ/LDXG25Q+Xw1U5OHo2EhB7zn4y/5P0GKZXxcLOyiuVaorF8FAtnlz
 aZ95/xtRVMwt5RZw4pPaDs7nL/Oi/HJ1QQ15UMZZoa4s2kbQiLj7LeWYcVGjAQ2tIZ7u
 l6CewrS9x0PPwAeEvBJlH9U2tDy8jZxJ+iHaI=
X-Google-DKIM-Signature: v=1; a=rsa-sha256; c=relaxed/relaxed;
 d=1e100.net; s=20230601; t=1721886236; x=1722491036;
 h=references:in-reply-to:cc:to:from:subject:message-id:date
 :x-gm-message-state:from:to:cc:subject:date:message-id:reply-to;
 bh=j9JNGgHghdsAelft/Fa0gd7vV/2UtqOZlY5kVVQNiXo=;
 b=PTYOVaUAngVyxIu2Yi9/5YkgcYDEHTEonhApu0S4nLbgVH1gxuWtNNfUWnYOyT9y3n
 Ly/BsFUAJTZ/rn39VBQQ7nETl8GaZz5+n4JDuC870dYHjxWc3YyJGTNy8dL01Y46R6id
 Mw9EJrONH+OQw+UTbtPeqAnSEAMQbkr9Lq36zWKBD5ttkuIG4/sQ37bRSoB4B+oAqzUd
 +Rm4tZESQlfdKTlcCGdl4h0gzEbAOWuGX5Rtjh76V1h/xQHSOM6KgHAbeLc32+rrAz6e
 M4hpdqyBJkiPg/TxqEoFZY9UQUrxZKAyLC22j5l+eSx4T6hP02iw5eHN8ZxyWKKV8hb6
 Y2mg==
X-Gm-Message-State: AOJu0YwuRjsszj9EMrupNDjtMcY+1U0rLaepZN7NvMYrEXqw3AIwyrOQ
 32AWHWoJF6K4qNaxfKOl5571vzKBhZNAIWw0WClOPgoXHjQWAOJfEYqpgB2fgnw5VSwKpj6w2cV
 3/BokluOex1VRzIIVQkJ9bpIcIoCkKDhpueYCTrC52TFQL/WUK8PfD2uG
X-Google-Smtp-Source: AGHT+IGDCyGOJBDPQXtmOI3kLwWITYohwJpyBNEJagBA9JSy1LwrGkODwfW3lDSk9rc36rzhLMGMugaM7M5R
X-Received: by 2002:a05:6602:3f90:b0:807:c17e:2e26 with SMTP id
 ca18e2360f4ac-81f7be69895mr250857039f.11.1721886236136; 
 Wed, 24 Jul 2024 22:43:56 -0700 (PDT)
Received: from postal.iol.unh.edu (postal.iol.unh.edu.
 [2606:4100:3880:1234::84]) by smtp-relay.gmail.com with ESMTPS id
 8926c6da1cb9f-4c29faacb51sm44559173.26.2024.07.24.22.43.56
 (version=TLS1_2 cipher=ECDHE-ECDSA-AES128-GCM-SHA256 bits=128/128);
 Wed, 24 Jul 2024 22:43:56 -0700 (PDT)
X-Relaying-Domain: iol.unh.edu
Date: Wed, 24 Jul 2024 22:43:56 -0700 (PDT)
Message-ID: <66a1e61c.050a0220.2b341a.1cccSMTPIN_ADDED_MISSING@mx.google.com>
Received: from [172.21.0.8] (unknown [172.18.0.240])
 by postal.iol.unh.edu (Postfix) with ESMTP id A9DA9605C351;
 Thu, 25 Jul 2024 01:43:55 -0400 (EDT)
Subject: |PENDING| pw142701-142703 [PATCH] [v8,3/3] dts: queue suite conf sch
From: dpdklab@iol.unh.edu
To: Test Report <test-report@dpdk.org>
Cc: dpdk-test-reports@iol.unh.edu
In-Reply-To: <20240724183209.11192-4-dmarx@iol.unh.edu>
References: <20240724183209.11192-4-dmarx@iol.unh.edu>
Content-Type: text/plain
X-BeenThere: test-report@dpdk.org
X-Mailman-Version: 2.1.29
Precedence: list
List-Id: automatic DPDK test reports <test-report.dpdk.org>
List-Unsubscribe: <https://mails.dpdk.org/options/test-report>,
 <mailto:test-report-request@dpdk.org?subject=unsubscribe>
List-Archive: <http://mails.dpdk.org/archives/test-report/>
List-Post: <mailto:test-report@dpdk.org>
List-Help: <mailto:test-report-request@dpdk.org?subject=help>
List-Subscribe: <https://mails.dpdk.org/listinfo/test-report>,
 <mailto:test-report-request@dpdk.org?subject=subscribe>
Errors-To: test-report-bounces@dpdk.org

Test-Label: iol-abi-testing
Test-Status: PENDING
http://dpdk.org/patch/142703

_Testing pending_

Submitter: Dean Marx <dmarx@iol.unh.edu>
Date: Wednesday, July 24 2024 18:32:09 
DPDK git baseline: Repo:dpdk
  Branch: master
  CommitID:82c47f005b9a0a1e3a649664b7713443d18abe43

142701-142703 --> testing pending

Upstream job id: Generic-DPDK-Compile-ABI#100406

Test environment and result as below:

+-------------------+----------+
|    Environment    | abi_test |
+===================+==========+
| Debian Bullseye   | PASS     |
+-------------------+----------+
| CentOS Stream 8   | PEND     |
+-------------------+----------+
| CentOS Stream 9   | PEND     |
+-------------------+----------+
| Fedora 38         | PASS     |
+-------------------+----------+
| Fedora 40 (Clang) | PASS     |
+-------------------+----------+
| Fedora 38 (Clang) | PEND     |
+-------------------+----------+
| Fedora 39         | PASS     |
+-------------------+----------+
| Fedora 37         | PEND     |
+-------------------+----------+
| Fedora 40         | PEND     |
+-------------------+----------+
| Debian 12         | PEND     |
+-------------------+----------+
| RHEL8             | PEND     |
+-------------------+----------+
| openSUSE Leap 15  | PEND     |
+-------------------+----------+
| Ubuntu 24.04      | PEND     |
+-------------------+----------+
| Ubuntu 22.04      | PEND     |
+-------------------+----------+
| RHEL9             | PASS     |
+-------------------+----------+
| Fedora 39 (Clang) | PEND     |
+-------------------+----------+


Debian Bullseye
	Kernel: 5.4.0-167-generic
	Compiler: gcc 10.2.1-6

CentOS Stream 8
	Kernel: 5.4.0-167-generic
	Compiler: gcc 8.5.0 20210514

CentOS Stream 9
	Kernel: 5.4.0-167-generic
	Compiler: gcc 11.4.1 20230605

Fedora 38
	Kernel: Depends on container host
	Compiler: gcc 13.2.1

Fedora 40 (Clang)
	Kernel: Depends on container host
	Compiler: clang 18.1.6

Fedora 38 (Clang)
	Kernel: Depends on container host
	Compiler: clang 16.0.6

Fedora 39
	Kernel: Depends on container host
	Compiler: gcc 13.2.1

Fedora 37
	Kernel: Depends on container host system
	Compiler: gcc 12.3.1

Fedora 40
	Kernel: Depends on container host
	Compiler: gcc 14.1.1

Debian 12
	Kernel: Container Host Kernel
	Compiler: gcc 12.2.0

RHEL8
	Kernel: 5.4.0-167-generic
	Compiler: gcc 8.5.0 20210514 (Red Hat 8.5.0-20)

openSUSE Leap 15
	Kernel: 5.4.0-167-generic
	Compiler: gcc 7.5.0

Ubuntu 24.04
	Kernel: 5.4.0-167-generic
	Compiler: gcc 13.2.0

Ubuntu 22.04
	Kernel: 5.4.0-167-generic
	Compiler: gcc 11.4.0

RHEL9
	Kernel: Depends on container host
	Compiler: gcc 11.4.1

Fedora 39 (Clang)
	Kernel: Depends on container host
	Compiler: clang 17.0.6

To view detailed results, visit:
https://lab.dpdk.org/results/dashboard/patchsets/30613/

UNH-IOL DPDK Community Lab

To manage your email subscriptions, visit: 
https://lab.dpdk.org/results/dashboard/preferences/subscriptions/