From mboxrd@z Thu Jan  1 00:00:00 1970
Return-Path: <test-report-bounces@dpdk.org>
Received: from mails.dpdk.org (mails.dpdk.org [217.70.189.124])
	by inbox.dpdk.org (Postfix) with ESMTP id 5EE64456AD
	for <public@inbox.dpdk.org>; Thu, 25 Jul 2024 07:55:33 +0200 (CEST)
Received: from mails.dpdk.org (localhost [127.0.0.1])
	by mails.dpdk.org (Postfix) with ESMTP id 52ECD4278E;
	Thu, 25 Jul 2024 07:55:33 +0200 (CEST)
Received: from mail-ot1-f100.google.com (mail-ot1-f100.google.com
 [209.85.210.100])
 by mails.dpdk.org (Postfix) with ESMTP id D5DE540614
 for <test-report@dpdk.org>; Thu, 25 Jul 2024 07:55:31 +0200 (CEST)
Received: by mail-ot1-f100.google.com with SMTP id
 46e09a7af769-708cf5138b6so373689a34.0
 for <test-report@dpdk.org>; Wed, 24 Jul 2024 22:55:31 -0700 (PDT)
DKIM-Signature: v=1; a=rsa-sha256; c=relaxed/relaxed;
 d=iol.unh.edu; s=unh-iol; t=1721886931; x=1722491731; darn=dpdk.org;
 h=references:in-reply-to:cc:to:from:subject:message-id:date:from:to
 :cc:subject:date:message-id:reply-to;
 bh=STQGBhy8kHRT454pw1k68JxiXQWmz0nmKIKYiBxI8MI=;
 b=RGE5iIK7dFj1EI3elBtdGFaol77cIfrDVVVaXNiLqyNHWTMR74emHHpm8LC+NxPuLx
 WuF0yBBpRht/NRMD5X/wzKmWwU1Je1PcAoVwvF2xVylts9Dz6xvUBhPcaaGM6guuh9XD
 2LK8V2pqUMcbkumZPwsWoJdXQWuLXrCkXoH7Y=
X-Google-DKIM-Signature: v=1; a=rsa-sha256; c=relaxed/relaxed;
 d=1e100.net; s=20230601; t=1721886931; x=1722491731;
 h=references:in-reply-to:cc:to:from:subject:message-id:date
 :x-gm-message-state:from:to:cc:subject:date:message-id:reply-to;
 bh=STQGBhy8kHRT454pw1k68JxiXQWmz0nmKIKYiBxI8MI=;
 b=s3awpc8sIY1q+PbMqW/LEi6LFhcM5GcYvYgbpp+Rlvt2M3NKTEaFy28w3/cjVANOTB
 F/g+HvkZu6CVTZ2jk0y9buNby+C7F0fPgW4q64O9SA46i7SYOfBlVnMCxMYZA47873Bd
 MWwIWIQeF11mcAycn9bkTmnC+YRIeOjVjCmk5JZr09a1mkKIThWlTbsa5Tui7X8Zgohj
 ZKms6ZArvK8YqHJkkQLUXyxSTAwnPx95Xval7qxnQp+SN1tx/XFEa8fFf2I1W9bFGSp0
 1H1uxJr6v5FIMOmbf4oFQUNspT4kCO56q/RvnRRnX+71ZSvnujGhUbV1a0ViGGEz1FcK
 rC+A==
X-Gm-Message-State: AOJu0YyJcbKNfqKIj94kuG0mEyYLmsp+CXJJuN0x1FL3Tc7biwlF5LEy
 /YGGqFMgZZI1JdJ5cNUvrLMAct9ih2RsPqh949VXJBoVSigjPkJ9xObXo5Aa2UswhXCSZUUndad
 Dp76t0rcEbyNLfleNdZIZlrwjGd4B6vAEAVp+uy/Z
X-Google-Smtp-Source: AGHT+IFtJK1n6jHhtkOUmxVAj9bATfXFIGsK54vOKTawCjeZ4CEERyYupLOui9lEQnl/0nuBNY7JyOmMmQiK
X-Received: by 2002:a05:6870:1686:b0:254:c617:a9a0 with SMTP id
 586e51a60fabf-266ede2d24cmr1096385fac.50.1721886930816; 
 Wed, 24 Jul 2024 22:55:30 -0700 (PDT)
Received: from postal.iol.unh.edu (postal.iol.unh.edu. [132.177.123.84])
 by smtp-relay.gmail.com with ESMTPS id
 586e51a60fabf-265771fb976sm70733fac.47.2024.07.24.22.55.30
 (version=TLS1_2 cipher=ECDHE-ECDSA-AES128-GCM-SHA256 bits=128/128);
 Wed, 24 Jul 2024 22:55:30 -0700 (PDT)
X-Relaying-Domain: iol.unh.edu
Date: Wed, 24 Jul 2024 22:55:30 -0700 (PDT)
Message-ID: <66a1e8d2.050a0220.edbf9.277aSMTPIN_ADDED_MISSING@mx.google.com>
Received: from [172.21.0.6] (unknown [172.18.0.240])
 by postal.iol.unh.edu (Postfix) with ESMTP id 43498605C351;
 Thu, 25 Jul 2024 01:55:30 -0400 (EDT)
Subject: |PENDING| pw142701-142703 [PATCH] [v8,3/3] dts: queue suite conf sch
From: dpdklab@iol.unh.edu
To: Test Report <test-report@dpdk.org>
Cc: dpdk-test-reports@iol.unh.edu
In-Reply-To: <20240724183209.11192-4-dmarx@iol.unh.edu>
References: <20240724183209.11192-4-dmarx@iol.unh.edu>
Content-Type: text/plain
X-BeenThere: test-report@dpdk.org
X-Mailman-Version: 2.1.29
Precedence: list
List-Id: automatic DPDK test reports <test-report.dpdk.org>
List-Unsubscribe: <https://mails.dpdk.org/options/test-report>,
 <mailto:test-report-request@dpdk.org?subject=unsubscribe>
List-Archive: <http://mails.dpdk.org/archives/test-report/>
List-Post: <mailto:test-report@dpdk.org>
List-Help: <mailto:test-report-request@dpdk.org?subject=help>
List-Subscribe: <https://mails.dpdk.org/listinfo/test-report>,
 <mailto:test-report-request@dpdk.org?subject=subscribe>
Errors-To: test-report-bounces@dpdk.org

Test-Label: iol-abi-testing
Test-Status: PENDING
http://dpdk.org/patch/142703

_Testing pending_

Submitter: Dean Marx <dmarx@iol.unh.edu>
Date: Wednesday, July 24 2024 18:32:09 
DPDK git baseline: Repo:dpdk
  Branch: master
  CommitID:82c47f005b9a0a1e3a649664b7713443d18abe43

142701-142703 --> testing pending

Upstream job id: Generic-DPDK-Compile-ABI#100400

Test environment and result as below:

+-------------------+----------+
|    Environment    | abi_test |
+===================+==========+
| Debian Bullseye   | PASS     |
+-------------------+----------+
| CentOS Stream 8   | PASS     |
+-------------------+----------+
| CentOS Stream 9   | PASS     |
+-------------------+----------+
| Fedora 38         | PASS     |
+-------------------+----------+
| Fedora 40 (Clang) | PASS     |
+-------------------+----------+
| Fedora 38 (Clang) | PASS     |
+-------------------+----------+
| Fedora 39         | PASS     |
+-------------------+----------+
| Fedora 37         | PASS     |
+-------------------+----------+
| Fedora 40         | PEND     |
+-------------------+----------+
| Debian 12         | PASS     |
+-------------------+----------+
| RHEL8             | PEND     |
+-------------------+----------+
| openSUSE Leap 15  | PASS     |
+-------------------+----------+
| Ubuntu 24.04      | PEND     |
+-------------------+----------+
| Ubuntu 22.04      | PEND     |
+-------------------+----------+
| RHEL9             | PASS     |
+-------------------+----------+
| Fedora 39 (Clang) | PEND     |
+-------------------+----------+


Debian Bullseye
	Kernel: 5.4.0-167-generic
	Compiler: gcc 10.2.1-6

CentOS Stream 8
	Kernel: 5.4.0-167-generic
	Compiler: gcc 8.5.0 20210514

CentOS Stream 9
	Kernel: 5.4.0-167-generic
	Compiler: gcc 11.4.1 20230605

Fedora 38
	Kernel: Depends on container host
	Compiler: gcc 13.2.1

Fedora 40 (Clang)
	Kernel: Depends on container host
	Compiler: clang 18.1.6

Fedora 38 (Clang)
	Kernel: Depends on container host
	Compiler: clang 16.0.6

Fedora 39
	Kernel: Depends on container host
	Compiler: gcc 13.2.1

Fedora 37
	Kernel: Depends on container host system
	Compiler: gcc 12.3.1

Fedora 40
	Kernel: Depends on container host
	Compiler: gcc 14.1.1

Debian 12
	Kernel: Container Host Kernel
	Compiler: gcc 12.2.0

RHEL8
	Kernel: 5.4.0-167-generic
	Compiler: gcc 8.5.0 20210514 (Red Hat 8.5.0-20)

openSUSE Leap 15
	Kernel: 5.4.0-167-generic
	Compiler: gcc 7.5.0

Ubuntu 24.04
	Kernel: 5.4.0-167-generic
	Compiler: gcc 13.2.0

Ubuntu 22.04
	Kernel: 5.4.0-167-generic
	Compiler: gcc 11.4.0

RHEL9
	Kernel: Depends on container host
	Compiler: gcc 11.4.1

Fedora 39 (Clang)
	Kernel: Depends on container host
	Compiler: clang 17.0.6

To view detailed results, visit:
https://lab.dpdk.org/results/dashboard/patchsets/30613/

UNH-IOL DPDK Community Lab

To manage your email subscriptions, visit: 
https://lab.dpdk.org/results/dashboard/preferences/subscriptions/