From mboxrd@z Thu Jan  1 00:00:00 1970
Return-Path: <test-report-bounces@dpdk.org>
Received: from mails.dpdk.org (mails.dpdk.org [217.70.189.124])
	by inbox.dpdk.org (Postfix) with ESMTP id 3A565456AF
	for <public@inbox.dpdk.org>; Thu, 25 Jul 2024 08:32:21 +0200 (CEST)
Received: from mails.dpdk.org (localhost [127.0.0.1])
	by mails.dpdk.org (Postfix) with ESMTP id 2F41643583;
	Thu, 25 Jul 2024 08:32:21 +0200 (CEST)
Received: from mail-yb1-f227.google.com (mail-yb1-f227.google.com
 [209.85.219.227])
 by mails.dpdk.org (Postfix) with ESMTP id 61A0140614
 for <test-report@dpdk.org>; Thu, 25 Jul 2024 08:32:13 +0200 (CEST)
Received: by mail-yb1-f227.google.com with SMTP id
 3f1490d57ef6-e0b286b922eso360909276.1
 for <test-report@dpdk.org>; Wed, 24 Jul 2024 23:32:13 -0700 (PDT)
DKIM-Signature: v=1; a=rsa-sha256; c=relaxed/relaxed;
 d=iol.unh.edu; s=unh-iol; t=1721889133; x=1722493933; darn=dpdk.org;
 h=references:in-reply-to:cc:to:from:subject:message-id:date:from:to
 :cc:subject:date:message-id:reply-to;
 bh=+QqDwIKsYLfv8Z9muSRx6u//SOvw6yC3VymbagjQrh0=;
 b=KOG4OwQrSL2FGphR8uFbcRw0j4zD8BMUsCT3jGgm3LH/b23vnGSevO/Mw/oAmvM1Bj
 lUNEKaMhrBAmtm1cSJ5hpXXFYS1aKvj9ViuZtFqx72ifVYoqz09uf3usitIxTOTxCuVw
 m34q+xGkdjcTRGUGA28ZcWpgIplhA3xx3Xgew=
X-Google-DKIM-Signature: v=1; a=rsa-sha256; c=relaxed/relaxed;
 d=1e100.net; s=20230601; t=1721889133; x=1722493933;
 h=references:in-reply-to:cc:to:from:subject:message-id:date
 :x-gm-message-state:from:to:cc:subject:date:message-id:reply-to;
 bh=+QqDwIKsYLfv8Z9muSRx6u//SOvw6yC3VymbagjQrh0=;
 b=m34KSMtedZpOgq80+1BcRihDCuAnBh4M+mvhHa9FPt0zetu+8LSgyv6fUjm1KCEVUp
 9rO4emILXN1hAOEwh6WCaPLFuJHQTVc0CFg1eSpF554oyEj0rxuyCkEBAr903dG4e+Zd
 8XlN/RI+AF4hk4PuVFmTEMdLTzUDvQt2CSgK72qrWvS+JNtd2zLdew3IAbggm2+Y1o2a
 gGK28Nd0pXMNCRpvDrkpc872epbwYbsvPDugc2uN+eynrqSPDbuaQeSa6txTDS/tDtYQ
 CaMk3KEDdoGA1Cx8DXjHN9b7CW7OHc2iEbNsepEK2Pqq1OnQNX51espNe11lnR17huiD
 CLXA==
X-Gm-Message-State: AOJu0Ywsm2VIO6Jhe2eGTDSrEoKgIrxYZL2KIOVAjC2smdw/90S9DHYe
 fmWgwrKW7k0iO8s6wnivxr1woEPOoc9jqSxuq+q2Gy+ToAsKATvAI1ViFYlZpU7fN8Xva4km5l6
 w7D4ENslEEn4Cr9bGv4R4OuvJpHswowT0lFZF6S2u
X-Google-Smtp-Source: AGHT+IEZw+bsNTRKzUmSowkGJl7NwyDqLYQATgWdDz7cbUXi6/QzE0tnaBhbOmdhW+bkV2P9LkrrKkL8QLwm
X-Received: by 2002:a05:6902:18c6:b0:e08:5c66:7d60 with SMTP id
 3f1490d57ef6-e0b23060ed2mr2502783276.12.1721889132737; 
 Wed, 24 Jul 2024 23:32:12 -0700 (PDT)
Received: from postal.iol.unh.edu (postal.iol.unh.edu. [132.177.123.84])
 by smtp-relay.gmail.com with ESMTPS id
 d75a77b69052e-44fe815428esm577161cf.10.2024.07.24.23.32.12
 (version=TLS1_2 cipher=ECDHE-ECDSA-AES128-GCM-SHA256 bits=128/128);
 Wed, 24 Jul 2024 23:32:12 -0700 (PDT)
X-Relaying-Domain: iol.unh.edu
Date: Wed, 24 Jul 2024 23:32:12 -0700 (PDT)
Message-ID: <66a1f16c.c80a0220.b315a.1e8cSMTPIN_ADDED_MISSING@mx.google.com>
Received: from [172.21.0.8] (unknown [172.18.0.240])
 by postal.iol.unh.edu (Postfix) with ESMTP id 6EBBE605C351;
 Thu, 25 Jul 2024 02:32:12 -0400 (EDT)
Subject: |PENDING| pw142710-142712 [PATCH] [v5,3/3] dts: dynamic config test 
From: dpdklab@iol.unh.edu
To: Test Report <test-report@dpdk.org>
Cc: dpdk-test-reports@iol.unh.edu
In-Reply-To: <20240724192129.29721-4-dmarx@iol.unh.edu>
References: <20240724192129.29721-4-dmarx@iol.unh.edu>
Content-Type: text/plain
X-BeenThere: test-report@dpdk.org
X-Mailman-Version: 2.1.29
Precedence: list
List-Id: automatic DPDK test reports <test-report.dpdk.org>
List-Unsubscribe: <https://mails.dpdk.org/options/test-report>,
 <mailto:test-report-request@dpdk.org?subject=unsubscribe>
List-Archive: <http://mails.dpdk.org/archives/test-report/>
List-Post: <mailto:test-report@dpdk.org>
List-Help: <mailto:test-report-request@dpdk.org?subject=help>
List-Subscribe: <https://mails.dpdk.org/listinfo/test-report>,
 <mailto:test-report-request@dpdk.org?subject=subscribe>
Errors-To: test-report-bounces@dpdk.org

Test-Label: iol-unit-amd64-testing
Test-Status: PENDING
http://dpdk.org/patch/142712

_Testing pending_

Submitter: Dean Marx <dmarx@iol.unh.edu>
Date: Wednesday, July 24 2024 19:21:29 
DPDK git baseline: Repo:dpdk
  Branch: master
  CommitID:82c47f005b9a0a1e3a649664b7713443d18abe43

142710-142712 --> testing pending

Upstream job id: Generic-Unit-Test-DPDK#244536

Test environment and result as below:

+---------------------+----------------+
|     Environment     | dpdk_unit_test |
+=====================+================+
| Windows Server 2019 | PASS           |
+---------------------+----------------+
| Windows Server 2022 | PASS           |
+---------------------+----------------+
| CentOS Stream 8     | PASS           |
+---------------------+----------------+
| CentOS Stream 9     | PASS           |
+---------------------+----------------+
| Debian Bullseye     | PASS           |
+---------------------+----------------+
| Debian 12           | PASS           |
+---------------------+----------------+
| Fedora 37           | PEND           |
+---------------------+----------------+
| Fedora 38 (Clang)   | PEND           |
+---------------------+----------------+
| Fedora 38           | PEND           |
+---------------------+----------------+
| Fedora 39           | PEND           |
+---------------------+----------------+
| Fedora 39 (Clang)   | PEND           |
+---------------------+----------------+
| Fedora 40           | PEND           |
+---------------------+----------------+
| Fedora 40 (Clang)   | PEND           |
+---------------------+----------------+
| openSUSE Leap 15    | PEND           |
+---------------------+----------------+
| RHEL9               | PEND           |
+---------------------+----------------+
| RHEL8               | PEND           |
+---------------------+----------------+
| Ubuntu 20.04        | PEND           |
+---------------------+----------------+
| Ubuntu 22.04        | PEND           |
+---------------------+----------------+
| Ubuntu 24.04        | PEND           |
+---------------------+----------------+


Windows Server 2019
	Kernel: 10.0.17763
	Compiler: clang 14.0 and gcc 8.1.0 (MinGW)

Windows Server 2022
	Kernel: 10.0.20348.2031
	Compiler: clang 15.0.7, gcc 8.1.0 (MinGW), and MSVC VS 17.9

CentOS Stream 8
	Kernel: 5.4.0-167-generic
	Compiler: gcc 8.5.0 20210514

CentOS Stream 9
	Kernel: 5.4.0-167-generic
	Compiler: gcc 11.4.1 20230605

Debian Bullseye
	Kernel: 5.4.0-167-generic
	Compiler: gcc 10.2.1-6

Debian 12
	Kernel: Container Host Kernel
	Compiler: gcc 12.2.0

Fedora 37
	Kernel: Depends on container host system
	Compiler: gcc 12.3.1

Fedora 38 (Clang)
	Kernel: Depends on container host
	Compiler: clang 16.0.6

Fedora 38
	Kernel: Depends on container host
	Compiler: gcc 13.2.1

Fedora 39
	Kernel: Depends on container host
	Compiler: gcc 13.2.1

Fedora 39 (Clang)
	Kernel: Depends on container host
	Compiler: clang 17.0.6

Fedora 40
	Kernel: Depends on container host
	Compiler: gcc 14.1.1

Fedora 40 (Clang)
	Kernel: Depends on container host
	Compiler: clang 18.1.6

openSUSE Leap 15
	Kernel: 5.4.0-167-generic
	Compiler: gcc 7.5.0

RHEL9
	Kernel: Depends on container host
	Compiler: gcc 11.4.1

RHEL8
	Kernel: 5.4.0-167-generic
	Compiler: gcc 8.5.0 20210514 (Red Hat 8.5.0-20)

Ubuntu 20.04
	Kernel: 5.4.0-167-generic
	Compiler: gcc 9.4.0-1ubuntu1~20.04.1

Ubuntu 22.04
	Kernel: 5.4.0-167-generic
	Compiler: gcc 11.4.0

Ubuntu 24.04
	Kernel: 5.4.0-167-generic
	Compiler: gcc 13.2.0

To view detailed results, visit:
https://lab.dpdk.org/results/dashboard/patchsets/30616/

UNH-IOL DPDK Community Lab

To manage your email subscriptions, visit: 
https://lab.dpdk.org/results/dashboard/preferences/subscriptions/