From mboxrd@z Thu Jan  1 00:00:00 1970
Return-Path: <test-report-bounces@dpdk.org>
Received: from mails.dpdk.org (mails.dpdk.org [217.70.189.124])
	by inbox.dpdk.org (Postfix) with ESMTP id 9E731456AF
	for <public@inbox.dpdk.org>; Thu, 25 Jul 2024 08:54:04 +0200 (CEST)
Received: from mails.dpdk.org (localhost [127.0.0.1])
	by mails.dpdk.org (Postfix) with ESMTP id 9597B4338F;
	Thu, 25 Jul 2024 08:54:04 +0200 (CEST)
Received: from mail-qv1-f100.google.com (mail-qv1-f100.google.com
 [209.85.219.100])
 by mails.dpdk.org (Postfix) with ESMTP id DCD4740614
 for <test-report@dpdk.org>; Thu, 25 Jul 2024 08:53:18 +0200 (CEST)
Received: by mail-qv1-f100.google.com with SMTP id
 6a1803df08f44-6b5d3113168so3186626d6.2
 for <test-report@dpdk.org>; Wed, 24 Jul 2024 23:53:18 -0700 (PDT)
DKIM-Signature: v=1; a=rsa-sha256; c=relaxed/relaxed;
 d=iol.unh.edu; s=unh-iol; t=1721890398; x=1722495198; darn=dpdk.org;
 h=references:in-reply-to:cc:to:from:subject:message-id:date:from:to
 :cc:subject:date:message-id:reply-to;
 bh=auivZj7TnkcyBv1WD2tvc6ogXVMIBlXl60MzEdNkwuA=;
 b=IuCEmxJCrlb9yprYFsZDqGploX+bOGWX/1TCogbSjqf1gkOer84b8MNlbt2fjmML1Z
 uNxx7Wvq00E+iEEfBWWFcMGJzX6OZ850BEs8uoISfRFh8n3Qkisv2Jt4DqWj1oPV6Woe
 HauD+gHaXk4y7hn7H6cTJQDmv1rLw6Y6PykpY=
X-Google-DKIM-Signature: v=1; a=rsa-sha256; c=relaxed/relaxed;
 d=1e100.net; s=20230601; t=1721890398; x=1722495198;
 h=references:in-reply-to:cc:to:from:subject:message-id:date
 :x-gm-message-state:from:to:cc:subject:date:message-id:reply-to;
 bh=auivZj7TnkcyBv1WD2tvc6ogXVMIBlXl60MzEdNkwuA=;
 b=BN2zrKFaQeiTsK8eWgZYuyAK1FxFHDBYZAP0ejKv+KK6mGtBoxfpjn0S6GyM0PSJc9
 ykxpcTkdhmtocXr56QdZR9AZC1AZN4p+WAgqxRUrSQYvcwvuLZof68O3S3vfukxJC3sC
 6tc6/OEH2A+vavIKtVzdQ0Whk6imhY5UdBIguzHVr0l9UruWes+ZAhlAvF2CL5nD7Vkz
 0RQipcQvoh9q5FepYGt89zpY9l6DD91sFI+WV4vgHppvcLtem4I5ooE8bwWBwreBsVCM
 fBpyWh+QfefZWkhx0yyns0FkZBZ6z9zYxLPWAh/tQivI1HRqTT2MNay+oWMpZXR1sgNs
 cSpA==
X-Gm-Message-State: AOJu0Yzl1cklhwhBaxY3CN+k4FEKWZ/1VIQm1LXuXqnrZkW8MrQKfSC6
 GouUsBooV3WlArykRR3PIwnfV4lOBiy5Pdzjdehua9Fjuy/wOrtYlmKjNzMZSjSNSYukaHxgVxS
 2MlDfZje3mAmriemOBCuMJBjK0okX9YBrzRpeJwigikkhTqOfiHPlrpuc
X-Google-Smtp-Source: AGHT+IHUUqu0lOQu/jDq46Ju1muiFurwNzsn5GmZaH+2Gj6hv5aFeLRPRqBUD6qhbUm8CdUNPRbsNC6+VccB
X-Received: by 2002:a05:6214:b67:b0:6b5:e3ba:5251 with SMTP id
 6a1803df08f44-6bb3c9d10bcmr31784546d6.8.1721890398325; 
 Wed, 24 Jul 2024 23:53:18 -0700 (PDT)
Received: from postal.iol.unh.edu (postal.iol.unh.edu.
 [2606:4100:3880:1234::84]) by smtp-relay.gmail.com with ESMTPS id
 6a1803df08f44-6bb3f944288sm588376d6.37.2024.07.24.23.53.18
 (version=TLS1_2 cipher=ECDHE-ECDSA-AES128-GCM-SHA256 bits=128/128);
 Wed, 24 Jul 2024 23:53:18 -0700 (PDT)
X-Relaying-Domain: iol.unh.edu
Date: Wed, 24 Jul 2024 23:53:18 -0700 (PDT)
Message-ID: <66a1f65e.050a0220.365922.21e5SMTPIN_ADDED_MISSING@mx.google.com>
Received: from [172.21.0.6] (unknown [172.18.0.240])
 by postal.iol.unh.edu (Postfix) with ESMTP id C70EC605C351;
 Thu, 25 Jul 2024 02:53:17 -0400 (EDT)
Subject: |PENDING| pw142710-142712 [PATCH] [v5,3/3] dts: dynamic config test 
From: dpdklab@iol.unh.edu
To: Test Report <test-report@dpdk.org>
Cc: dpdk-test-reports@iol.unh.edu
In-Reply-To: <20240724192129.29721-4-dmarx@iol.unh.edu>
References: <20240724192129.29721-4-dmarx@iol.unh.edu>
Content-Type: text/plain
X-BeenThere: test-report@dpdk.org
X-Mailman-Version: 2.1.29
Precedence: list
List-Id: automatic DPDK test reports <test-report.dpdk.org>
List-Unsubscribe: <https://mails.dpdk.org/options/test-report>,
 <mailto:test-report-request@dpdk.org?subject=unsubscribe>
List-Archive: <http://mails.dpdk.org/archives/test-report/>
List-Post: <mailto:test-report@dpdk.org>
List-Help: <mailto:test-report-request@dpdk.org?subject=help>
List-Subscribe: <https://mails.dpdk.org/listinfo/test-report>,
 <mailto:test-report-request@dpdk.org?subject=subscribe>
Errors-To: test-report-bounces@dpdk.org

Test-Label: iol-unit-amd64-testing
Test-Status: PENDING
http://dpdk.org/patch/142712

_Testing pending_

Submitter: Dean Marx <dmarx@iol.unh.edu>
Date: Wednesday, July 24 2024 19:21:29 
DPDK git baseline: Repo:dpdk
  Branch: master
  CommitID:82c47f005b9a0a1e3a649664b7713443d18abe43

142710-142712 --> testing pending

Upstream job id: Generic-Unit-Test-DPDK#244550

Test environment and result as below:

+---------------------+----------------+
|     Environment     | dpdk_unit_test |
+=====================+================+
| Windows Server 2019 | PASS           |
+---------------------+----------------+
| Windows Server 2022 | PASS           |
+---------------------+----------------+
| CentOS Stream 8     | PASS           |
+---------------------+----------------+
| CentOS Stream 9     | PASS           |
+---------------------+----------------+
| Debian Bullseye     | PASS           |
+---------------------+----------------+
| Debian 12           | PASS           |
+---------------------+----------------+
| Fedora 37           | PASS           |
+---------------------+----------------+
| Fedora 38 (Clang)   | PASS           |
+---------------------+----------------+
| Fedora 38           | PASS           |
+---------------------+----------------+
| Fedora 39           | PASS           |
+---------------------+----------------+
| Fedora 39 (Clang)   | PASS           |
+---------------------+----------------+
| Fedora 40           | PASS           |
+---------------------+----------------+
| Fedora 40 (Clang)   | PEND           |
+---------------------+----------------+
| openSUSE Leap 15    | PEND           |
+---------------------+----------------+
| RHEL9               | PASS           |
+---------------------+----------------+
| RHEL8               | PEND           |
+---------------------+----------------+
| Ubuntu 20.04        | PEND           |
+---------------------+----------------+
| Ubuntu 22.04        | PEND           |
+---------------------+----------------+
| Ubuntu 24.04        | PEND           |
+---------------------+----------------+


Windows Server 2019
	Kernel: 10.0.17763
	Compiler: clang 14.0 and gcc 8.1.0 (MinGW)

Windows Server 2022
	Kernel: 10.0.20348.2031
	Compiler: clang 15.0.7, gcc 8.1.0 (MinGW), and MSVC VS 17.9

CentOS Stream 8
	Kernel: 5.4.0-167-generic
	Compiler: gcc 8.5.0 20210514

CentOS Stream 9
	Kernel: 5.4.0-167-generic
	Compiler: gcc 11.4.1 20230605

Debian Bullseye
	Kernel: 5.4.0-167-generic
	Compiler: gcc 10.2.1-6

Debian 12
	Kernel: Container Host Kernel
	Compiler: gcc 12.2.0

Fedora 37
	Kernel: Depends on container host system
	Compiler: gcc 12.3.1

Fedora 38 (Clang)
	Kernel: Depends on container host
	Compiler: clang 16.0.6

Fedora 38
	Kernel: Depends on container host
	Compiler: gcc 13.2.1

Fedora 39
	Kernel: Depends on container host
	Compiler: gcc 13.2.1

Fedora 39 (Clang)
	Kernel: Depends on container host
	Compiler: clang 17.0.6

Fedora 40
	Kernel: Depends on container host
	Compiler: gcc 14.1.1

Fedora 40 (Clang)
	Kernel: Depends on container host
	Compiler: clang 18.1.6

openSUSE Leap 15
	Kernel: 5.4.0-167-generic
	Compiler: gcc 7.5.0

RHEL9
	Kernel: Depends on container host
	Compiler: gcc 11.4.1

RHEL8
	Kernel: 5.4.0-167-generic
	Compiler: gcc 8.5.0 20210514 (Red Hat 8.5.0-20)

Ubuntu 20.04
	Kernel: 5.4.0-167-generic
	Compiler: gcc 9.4.0-1ubuntu1~20.04.1

Ubuntu 22.04
	Kernel: 5.4.0-167-generic
	Compiler: gcc 11.4.0

Ubuntu 24.04
	Kernel: 5.4.0-167-generic
	Compiler: gcc 13.2.0

To view detailed results, visit:
https://lab.dpdk.org/results/dashboard/patchsets/30616/

UNH-IOL DPDK Community Lab

To manage your email subscriptions, visit: 
https://lab.dpdk.org/results/dashboard/preferences/subscriptions/