From mboxrd@z Thu Jan  1 00:00:00 1970
Return-Path: <test-report-bounces@dpdk.org>
Received: from mails.dpdk.org (mails.dpdk.org [217.70.189.124])
	by inbox.dpdk.org (Postfix) with ESMTP id 40648456AF
	for <public@inbox.dpdk.org>; Thu, 25 Jul 2024 08:59:10 +0200 (CEST)
Received: from mails.dpdk.org (localhost [127.0.0.1])
	by mails.dpdk.org (Postfix) with ESMTP id 3CDFB41101;
	Thu, 25 Jul 2024 08:59:10 +0200 (CEST)
Received: from mail-il1-f227.google.com (mail-il1-f227.google.com
 [209.85.166.227])
 by mails.dpdk.org (Postfix) with ESMTP id 965DA40614
 for <test-report@dpdk.org>; Thu, 25 Jul 2024 08:59:08 +0200 (CEST)
Received: by mail-il1-f227.google.com with SMTP id
 e9e14a558f8ab-3738690172eso922285ab.1
 for <test-report@dpdk.org>; Wed, 24 Jul 2024 23:59:08 -0700 (PDT)
DKIM-Signature: v=1; a=rsa-sha256; c=relaxed/relaxed;
 d=iol.unh.edu; s=unh-iol; t=1721890748; x=1722495548; darn=dpdk.org;
 h=references:in-reply-to:cc:to:from:subject:message-id:date:from:to
 :cc:subject:date:message-id:reply-to;
 bh=Beoj69kQHWhFkH70be0hnTKrV+r7OY104zS3q/kMT18=;
 b=eReIhSi+ag+l97gCnVNN2K04VD59FhkwgkuGami653hdkbt2SGUTdSWkJdGGKULzDB
 AwBkGgiLalKXSQdB5lk2c6PllP2IDXrYzEljEytgBznMaXOoLUoIBipFcytsGzweHP98
 CDd8ARc982GWNp5XPk08WApxTN226/ZFJm9Xs=
X-Google-DKIM-Signature: v=1; a=rsa-sha256; c=relaxed/relaxed;
 d=1e100.net; s=20230601; t=1721890748; x=1722495548;
 h=references:in-reply-to:cc:to:from:subject:message-id:date
 :x-gm-message-state:from:to:cc:subject:date:message-id:reply-to;
 bh=Beoj69kQHWhFkH70be0hnTKrV+r7OY104zS3q/kMT18=;
 b=VI36+xSd3XCTUN4TFpX5nri4EJOo5Vki72AsSGm9yez8fe9M4EMq2PCj6pDAsNLVAv
 W5r0DgMFA2/WY86LuaRePEBcnrSkPWWOsWmkjFgfnTBLBEa379+ML5pcIh4VzRhrm0cZ
 Ip4lSv39SA60i18n1I9nZmvN0PQ8I/buv9dulUY7c3hsxIEClECoMOId6AH8sLnErau3
 eQUgnzlZCAgiEQ30V33eK0OIPFse976YbH1aWf7ew+FIWeFxSrAxgZnqMVVuG2IiKRiB
 YkyxO7Un6MScMRPGn3HparEdyRf1x8HkR7oVXqdkIH87sW9m38PA2oAB7zgbgTYWcs+p
 I8ew==
X-Gm-Message-State: AOJu0Yxn8SwIlOmp9FP9gWt7WlrA8KPC/ysf9irJh4pvssjG22z77qMy
 F/92CTHiraQr8s6UQxYufq4DikDK8FNCSODnRRkPkqBhlgEBH81AlQ/MSZ9H9xovzWWDp9Cr6Vx
 /Cso4C43WLZQxspzH4vXNW2RWz0CrRvk3JBEfkD1PwAsqskK8X5ayQfTj
X-Google-Smtp-Source: AGHT+IFwPiV1u0eIYD00+9QpPcG87eBM4udUhV1G4lWy46MeBJb5DBf2FAExUqwQ4fHXxTXs4qK8UrWEP3Bd
X-Received: by 2002:a05:6e02:1aa1:b0:379:40e0:b0b8 with SMTP id
 e9e14a558f8ab-39a2185d921mr23763275ab.20.1721890747895; 
 Wed, 24 Jul 2024 23:59:07 -0700 (PDT)
Received: from postal.iol.unh.edu (postal.iol.unh.edu.
 [2606:4100:3880:1234::84]) by smtp-relay.gmail.com with ESMTPS id
 e9e14a558f8ab-39a22e8e4e6sm930425ab.9.2024.07.24.23.59.07
 (version=TLS1_2 cipher=ECDHE-ECDSA-AES128-GCM-SHA256 bits=128/128);
 Wed, 24 Jul 2024 23:59:07 -0700 (PDT)
X-Relaying-Domain: iol.unh.edu
Date: Wed, 24 Jul 2024 23:59:07 -0700 (PDT)
Message-ID: <66a1f7bb.050a0220.2d685e.38e3SMTPIN_ADDED_MISSING@mx.google.com>
Received: from [172.21.0.11] (unknown [172.18.0.240])
 by postal.iol.unh.edu (Postfix) with ESMTP id 67E71605C351;
 Thu, 25 Jul 2024 02:59:07 -0400 (EDT)
Subject: |PENDING| pw142710-142712 [PATCH] [v5,3/3] dts: dynamic config test 
From: dpdklab@iol.unh.edu
To: Test Report <test-report@dpdk.org>
Cc: dpdk-test-reports@iol.unh.edu
In-Reply-To: <20240724192129.29721-4-dmarx@iol.unh.edu>
References: <20240724192129.29721-4-dmarx@iol.unh.edu>
Content-Type: text/plain
X-BeenThere: test-report@dpdk.org
X-Mailman-Version: 2.1.29
Precedence: list
List-Id: automatic DPDK test reports <test-report.dpdk.org>
List-Unsubscribe: <https://mails.dpdk.org/options/test-report>,
 <mailto:test-report-request@dpdk.org?subject=unsubscribe>
List-Archive: <http://mails.dpdk.org/archives/test-report/>
List-Post: <mailto:test-report@dpdk.org>
List-Help: <mailto:test-report-request@dpdk.org?subject=help>
List-Subscribe: <https://mails.dpdk.org/listinfo/test-report>,
 <mailto:test-report-request@dpdk.org?subject=subscribe>
Errors-To: test-report-bounces@dpdk.org

Test-Label: iol-compile-arm64-testing
Test-Status: PENDING
http://dpdk.org/patch/142712

_Testing pending_

Submitter: Dean Marx <dmarx@iol.unh.edu>
Date: Wednesday, July 24 2024 19:21:29 
DPDK git baseline: Repo:dpdk
  Branch: master
  CommitID:82c47f005b9a0a1e3a649664b7713443d18abe43

142710-142712 --> testing pending

Upstream job id: Generic-DPDK-Compile-Meson#279572

Test environment and result as below:

+------------------------------------+--------------------+
|            Environment             | dpdk_meson_compile |
+====================================+====================+
| RHEL9 (ARM)                        | PASS               |
+------------------------------------+--------------------+
| Ubuntu 20.04 ARM GCC Cross Compile | PEND               |
+------------------------------------+--------------------+
| Ubuntu 20.04 ARM SVE               | PASS               |
+------------------------------------+--------------------+
| Debian 12 with MUSDK               | PASS               |
+------------------------------------+--------------------+
| Fedora 37 (ARM)                    | PEND               |
+------------------------------------+--------------------+
| Fedora 38 (ARM)                    | PEND               |
+------------------------------------+--------------------+
| Fedora 38 (ARM Clang)              | PEND               |
+------------------------------------+--------------------+
| Fedora 39 (ARM)                    | PEND               |
+------------------------------------+--------------------+


RHEL9 (ARM)
	Kernel: Depends on container host
	Compiler: gcc 11.4.1

Ubuntu 20.04 ARM GCC Cross Compile
	Kernel: 5.4.0-167-generic
	Compiler: aarch64-linux-gnu-gcc (Ubuntu 9.4.0-1ubuntu1~20.04.2) 9.4.0

Ubuntu 20.04 ARM SVE
	Kernel: 5.4.0-167-generic
	Compiler: gcc (Ubuntu 10.5.0-1ubuntu1~20.04) 10.5.0

Debian 12 with MUSDK
	Kernel: Container Host Kernel
	Compiler: gcc 12.2.0

Fedora 37 (ARM)
	Kernel: Depends on container host
	Compiler: gcc 12.3.1

Fedora 38 (ARM)
	Kernel: Depends on container host
	Compiler: gcc 13.2.1

Fedora 38 (ARM Clang)
	Kernel: Depends on container host
	Compiler: clang 16.0.6

Fedora 39 (ARM)
	Kernel: Depends on container host
	Compiler: gcc 13.2.1

To view detailed results, visit:
https://lab.dpdk.org/results/dashboard/patchsets/30616/

UNH-IOL DPDK Community Lab

To manage your email subscriptions, visit: 
https://lab.dpdk.org/results/dashboard/preferences/subscriptions/