From mboxrd@z Thu Jan  1 00:00:00 1970
Return-Path: <test-report-bounces@dpdk.org>
Received: from mails.dpdk.org (mails.dpdk.org [217.70.189.124])
	by inbox.dpdk.org (Postfix) with ESMTP id C4967456AF
	for <public@inbox.dpdk.org>; Thu, 25 Jul 2024 09:06:08 +0200 (CEST)
Received: from mails.dpdk.org (localhost [127.0.0.1])
	by mails.dpdk.org (Postfix) with ESMTP id BFFCC41101;
	Thu, 25 Jul 2024 09:06:08 +0200 (CEST)
Received: from mail-yw1-f228.google.com (mail-yw1-f228.google.com
 [209.85.128.228])
 by mails.dpdk.org (Postfix) with ESMTP id 9DD6940614
 for <test-report@dpdk.org>; Thu, 25 Jul 2024 09:05:50 +0200 (CEST)
Received: by mail-yw1-f228.google.com with SMTP id
 00721157ae682-66a1842b452so5308637b3.3
 for <test-report@dpdk.org>; Thu, 25 Jul 2024 00:05:50 -0700 (PDT)
DKIM-Signature: v=1; a=rsa-sha256; c=relaxed/relaxed;
 d=iol.unh.edu; s=unh-iol; t=1721891150; x=1722495950; darn=dpdk.org;
 h=references:in-reply-to:cc:to:from:subject:message-id:date:from:to
 :cc:subject:date:message-id:reply-to;
 bh=NhFnxGsVFwzBBpbgYGn5n82JGNEh1HodPnL6XEUvdps=;
 b=CuN00WYQc9X81HjECifSxpI6Lj9umbvUoNhroV+jMyWLMLSpou2qPbtWsItYuY442w
 Nurg4iPWGekhHMxCjgcmmvG3Yj+nPwUevEn6LbiW0M+5siH9Za4I8WlI7FsqPNnDBVto
 40XhgZ8OIvPZzi50XjqFXMr1bPUpWC/2arpKs=
X-Google-DKIM-Signature: v=1; a=rsa-sha256; c=relaxed/relaxed;
 d=1e100.net; s=20230601; t=1721891150; x=1722495950;
 h=references:in-reply-to:cc:to:from:subject:message-id:date
 :x-gm-message-state:from:to:cc:subject:date:message-id:reply-to;
 bh=NhFnxGsVFwzBBpbgYGn5n82JGNEh1HodPnL6XEUvdps=;
 b=LPwRCvMKhM9G/iwHYOl50pB9m7CnHEv2H0SGN3/mf2On6KTwtoL6Z01S9Rm8iAPyIN
 FQoHxH6EG4qr/ztP3Au6rR22NdC15ufRcD24mfVXuc6SWwQ/9yrv3WuXZx8itzKzQl34
 WdRyBINDq0nrL9Fl/4614CoOJoH1torRBt6fSLukiDfj1e2gaS33/sSZox4UKJBStiAX
 PCdXgBBUgeCHlMUp0Sh2qUpH/vos1N8D25gbFYb3dIcIIzV4IwNFn7sxY1KzLA9Py0LG
 rZ+swlvBBKaizENTMkaHEEZqDk1oCu2LQNMQrts0mTpRwdf5b2/wdSOPasWzLjgb6EZm
 odjw==
X-Gm-Message-State: AOJu0YxCp0cB/hVozM8rTmpRxEF+EbhRvmj5q1G92D+R7IOqMO5fD6mY
 qfew6ZpfVyDEujlqITtXHu1A/IFZto9HOtuVY02lmcFpMAGRAIddKzd+puDNE/XdAwopSke2v1C
 /+FPWiD23Z52VEjzNPPxDLbCBr1EWi6I6mcapbAxXpAocoyOWrKgTOhab
X-Google-Smtp-Source: AGHT+IHhtim+ijJebBNuTEf/PiZ3xU5AawaVAMSzL++JbIeZLaZGr4BAhwZCuLb6WfqkdpDWR9a+w1Tgsk1F
X-Received: by 2002:a05:690c:d87:b0:664:8fda:323f with SMTP id
 00721157ae682-675b9f4a3c2mr11816507b3.23.1721891149992; 
 Thu, 25 Jul 2024 00:05:49 -0700 (PDT)
Received: from postal.iol.unh.edu (postal.iol.unh.edu.
 [2606:4100:3880:1234::84]) by smtp-relay.gmail.com with ESMTPS id
 00721157ae682-67567b4a10csm748347b3.24.2024.07.25.00.05.49
 (version=TLS1_2 cipher=ECDHE-ECDSA-AES128-GCM-SHA256 bits=128/128);
 Thu, 25 Jul 2024 00:05:49 -0700 (PDT)
X-Relaying-Domain: iol.unh.edu
Date: Thu, 25 Jul 2024 00:05:49 -0700 (PDT)
Message-ID: <66a1f94d.050a0220.24a59e.245eSMTPIN_ADDED_MISSING@mx.google.com>
Received: from [172.21.0.6] (unknown [172.18.0.240])
 by postal.iol.unh.edu (Postfix) with ESMTP id A2D81605C351;
 Thu, 25 Jul 2024 03:05:49 -0400 (EDT)
Subject: |PENDING| pw142707-142709 [PATCH] [v4,3/3] test-pmd: add more packet
From: dpdklab@iol.unh.edu
To: Test Report <test-report@dpdk.org>
Cc: dpdk-test-reports@iol.unh.edu
In-Reply-To: <20240724184741.150763-4-stephen@networkplumber.org>
References: <20240724184741.150763-4-stephen@networkplumber.org>
Content-Type: text/plain
X-BeenThere: test-report@dpdk.org
X-Mailman-Version: 2.1.29
Precedence: list
List-Id: automatic DPDK test reports <test-report.dpdk.org>
List-Unsubscribe: <https://mails.dpdk.org/options/test-report>,
 <mailto:test-report-request@dpdk.org?subject=unsubscribe>
List-Archive: <http://mails.dpdk.org/archives/test-report/>
List-Post: <mailto:test-report@dpdk.org>
List-Help: <mailto:test-report-request@dpdk.org?subject=help>
List-Subscribe: <https://mails.dpdk.org/listinfo/test-report>,
 <mailto:test-report-request@dpdk.org?subject=subscribe>
Errors-To: test-report-bounces@dpdk.org

Test-Label: iol-unit-amd64-testing
Test-Status: PENDING
http://dpdk.org/patch/142709

_Testing pending_

Submitter: Stephen Hemminger <stephen@networkplumber.org>
Date: Wednesday, July 24 2024 18:46:14 
DPDK git baseline: Repo:dpdk
  Branch: master
  CommitID:82c47f005b9a0a1e3a649664b7713443d18abe43

142707-142709 --> testing pending

Upstream job id: Generic-Unit-Test-DPDK#244566

Test environment and result as below:

+---------------------+----------------+
|     Environment     | dpdk_unit_test |
+=====================+================+
| Windows Server 2019 | PASS           |
+---------------------+----------------+
| Windows Server 2022 | PASS           |
+---------------------+----------------+
| CentOS Stream 9     | PASS           |
+---------------------+----------------+
| CentOS Stream 8     | PASS           |
+---------------------+----------------+
| Debian Bullseye     | PEND           |
+---------------------+----------------+
| Fedora 37           | PEND           |
+---------------------+----------------+
| Fedora 38           | PEND           |
+---------------------+----------------+
| Fedora 38 (Clang)   | PEND           |
+---------------------+----------------+
| Fedora 39           | PEND           |
+---------------------+----------------+
| Fedora 39 (Clang)   | PEND           |
+---------------------+----------------+
| Fedora 40           | PEND           |
+---------------------+----------------+
| Fedora 40 (Clang)   | PEND           |
+---------------------+----------------+
| openSUSE Leap 15    | PEND           |
+---------------------+----------------+
| RHEL9               | PEND           |
+---------------------+----------------+
| RHEL8               | PEND           |
+---------------------+----------------+
| Ubuntu 22.04        | PEND           |
+---------------------+----------------+
| Ubuntu 20.04        | PEND           |
+---------------------+----------------+
| Ubuntu 24.04        | PEND           |
+---------------------+----------------+


Windows Server 2019
	Kernel: 10.0.17763
	Compiler: clang 14.0 and gcc 8.1.0 (MinGW)

Windows Server 2022
	Kernel: 10.0.20348.2031
	Compiler: clang 15.0.7, gcc 8.1.0 (MinGW), and MSVC VS 17.9

CentOS Stream 9
	Kernel: 5.4.0-167-generic
	Compiler: gcc 11.4.1 20230605

CentOS Stream 8
	Kernel: 5.4.0-167-generic
	Compiler: gcc 8.5.0 20210514

Debian Bullseye
	Kernel: 5.4.0-167-generic
	Compiler: gcc 10.2.1-6

Fedora 37
	Kernel: Depends on container host system
	Compiler: gcc 12.3.1

Fedora 38
	Kernel: Depends on container host
	Compiler: gcc 13.2.1

Fedora 38 (Clang)
	Kernel: Depends on container host
	Compiler: clang 16.0.6

Fedora 39
	Kernel: Depends on container host
	Compiler: gcc 13.2.1

Fedora 39 (Clang)
	Kernel: Depends on container host
	Compiler: clang 17.0.6

Fedora 40
	Kernel: Depends on container host
	Compiler: gcc 14.1.1

Fedora 40 (Clang)
	Kernel: Depends on container host
	Compiler: clang 18.1.6

openSUSE Leap 15
	Kernel: 5.4.0-167-generic
	Compiler: gcc 7.5.0

RHEL9
	Kernel: Depends on container host
	Compiler: gcc 11.4.1

RHEL8
	Kernel: 5.4.0-167-generic
	Compiler: gcc 8.5.0 20210514 (Red Hat 8.5.0-20)

Ubuntu 22.04
	Kernel: 5.4.0-167-generic
	Compiler: gcc 11.4.0

Ubuntu 20.04
	Kernel: 5.4.0-167-generic
	Compiler: gcc 9.4.0-1ubuntu1~20.04.1

Ubuntu 24.04
	Kernel: 5.4.0-167-generic
	Compiler: gcc 13.2.0

To view detailed results, visit:
https://lab.dpdk.org/results/dashboard/patchsets/30615/

UNH-IOL DPDK Community Lab

To manage your email subscriptions, visit: 
https://lab.dpdk.org/results/dashboard/preferences/subscriptions/