From mboxrd@z Thu Jan  1 00:00:00 1970
Return-Path: <test-report-bounces@dpdk.org>
Received: from mails.dpdk.org (mails.dpdk.org [217.70.189.124])
	by inbox.dpdk.org (Postfix) with ESMTP id 4239E456AF
	for <public@inbox.dpdk.org>; Thu, 25 Jul 2024 09:12:33 +0200 (CEST)
Received: from mails.dpdk.org (localhost [127.0.0.1])
	by mails.dpdk.org (Postfix) with ESMTP id 3DE3141101;
	Thu, 25 Jul 2024 09:12:33 +0200 (CEST)
Received: from mail-io1-f98.google.com (mail-io1-f98.google.com
 [209.85.166.98]) by mails.dpdk.org (Postfix) with ESMTP id 072D340614
 for <test-report@dpdk.org>; Thu, 25 Jul 2024 09:12:27 +0200 (CEST)
Received: by mail-io1-f98.google.com with SMTP id
 ca18e2360f4ac-81a90913cc3so21071539f.3
 for <test-report@dpdk.org>; Thu, 25 Jul 2024 00:12:26 -0700 (PDT)
DKIM-Signature: v=1; a=rsa-sha256; c=relaxed/relaxed;
 d=iol.unh.edu; s=unh-iol; t=1721891546; x=1722496346; darn=dpdk.org;
 h=references:in-reply-to:cc:to:from:subject:message-id:date:from:to
 :cc:subject:date:message-id:reply-to;
 bh=GpXpJ6gIvQ/yrtbj+yx8mLZn3Ake/1hKYXfuU6CyB/Y=;
 b=MBmGHztEE6pJlRKab1OJy0AWT40xW1PR6VPtXQvFKkkPEk4m/xpYdBT7nt5THRlrLH
 766h5kpb6bFuwmwNyVJiaUqLkqYS3Lv+tPSWMyKeAQpAVdDWOK7pzAMyrkQuH/czkZ3F
 sJ+j5tmAm1P69+d314A9OgeVJmala3Tixq1D0=
X-Google-DKIM-Signature: v=1; a=rsa-sha256; c=relaxed/relaxed;
 d=1e100.net; s=20230601; t=1721891546; x=1722496346;
 h=references:in-reply-to:cc:to:from:subject:message-id:date
 :x-gm-message-state:from:to:cc:subject:date:message-id:reply-to;
 bh=GpXpJ6gIvQ/yrtbj+yx8mLZn3Ake/1hKYXfuU6CyB/Y=;
 b=VgGNdEm8tURKxsLU7EZqTVaGIsP+QrcLvtwUcPdmphfXcW9BQxCoiv1jkaMuNnGP6v
 2Nx+7hcP3sz1OCPMo3pic4Kb+fcIwBnSyu0D0jEKIYE8iyVd99hr47AminkP6S6hkPBS
 chPGDh3SvHf9AjfZfnC8vU9K7wdCgTmuHC8LZLYksKZTgSeyFQ16yIGebyvSyXKQ3nZd
 yl+iKQAmWRmOe4vu6+w4SEjVHlUYetP68N+Y44EGuy/CymXgJ1/sPGWe67DRH3Bbdo7f
 yVX5EfQFvv7sdlQNeq4ru7a98595oCySkZuIKzixWi2FoD7TaqLFDDXMh1amB2Kh9xgJ
 T93A==
X-Gm-Message-State: AOJu0YwbLpgiHmtk/04C77wRn4tObLwA81sSv3Ph/cesFSDH3KepjgIc
 45r+XXttHh1gx+Igvj1s0K+aDPO8PawYx0RdndEF0y4kpXh+OBy943c2zfl8bNDFftLpr/FXrk5
 tiDfR1TJ1h+27aCh7hQj9ov+2xAPT6GjthR0LhcheLv7hum16flkn1lGK
X-Google-Smtp-Source: AGHT+IEa8tpBM90muBNjdXaUPZrzH84NBl4qRDDCTenNhOOEdhmweH8FnvSqf7E+W3N/QAzz746IcAeLdfZ1
X-Received: by 2002:a05:6e02:1c2b:b0:399:4535:b66e with SMTP id
 e9e14a558f8ab-39a217d86a2mr30715275ab.9.1721891546194; 
 Thu, 25 Jul 2024 00:12:26 -0700 (PDT)
Received: from postal.iol.unh.edu (postal.iol.unh.edu.
 [2606:4100:3880:1234::84]) by smtp-relay.gmail.com with ESMTPS id
 e9e14a558f8ab-39a22eabec8sm959955ab.36.2024.07.25.00.12.26
 (version=TLS1_2 cipher=ECDHE-ECDSA-AES128-GCM-SHA256 bits=128/128);
 Thu, 25 Jul 2024 00:12:26 -0700 (PDT)
X-Relaying-Domain: iol.unh.edu
Date: Thu, 25 Jul 2024 00:12:26 -0700 (PDT)
Message-ID: <66a1fada.050a0220.4f5b.3d96SMTPIN_ADDED_MISSING@mx.google.com>
Received: from [172.21.0.9] (unknown [172.18.0.240])
 by postal.iol.unh.edu (Postfix) with ESMTP id B2012605C351;
 Thu, 25 Jul 2024 03:12:25 -0400 (EDT)
Subject: |PENDING| pw142710-142712 [PATCH] [v5,3/3] dts: dynamic config test 
From: dpdklab@iol.unh.edu
To: Test Report <test-report@dpdk.org>
Cc: dpdk-test-reports@iol.unh.edu
In-Reply-To: <20240724192129.29721-4-dmarx@iol.unh.edu>
References: <20240724192129.29721-4-dmarx@iol.unh.edu>
Content-Type: text/plain
X-BeenThere: test-report@dpdk.org
X-Mailman-Version: 2.1.29
Precedence: list
List-Id: automatic DPDK test reports <test-report.dpdk.org>
List-Unsubscribe: <https://mails.dpdk.org/options/test-report>,
 <mailto:test-report-request@dpdk.org?subject=unsubscribe>
List-Archive: <http://mails.dpdk.org/archives/test-report/>
List-Post: <mailto:test-report@dpdk.org>
List-Help: <mailto:test-report-request@dpdk.org?subject=help>
List-Subscribe: <https://mails.dpdk.org/listinfo/test-report>,
 <mailto:test-report-request@dpdk.org?subject=subscribe>
Errors-To: test-report-bounces@dpdk.org

Test-Label: iol-compile-arm64-testing
Test-Status: PENDING
http://dpdk.org/patch/142712

_Testing pending_

Submitter: Dean Marx <dmarx@iol.unh.edu>
Date: Wednesday, July 24 2024 19:21:29 
DPDK git baseline: Repo:dpdk
  Branch: master
  CommitID:82c47f005b9a0a1e3a649664b7713443d18abe43

142710-142712 --> testing pending

Upstream job id: Generic-DPDK-Compile-Meson#279587

Test environment and result as below:

+----------------------------------------+--------------------+
|              Environment               | dpdk_meson_compile |
+========================================+====================+
| RHEL9 (ARM)                            | PASS               |
+----------------------------------------+--------------------+
| Ubuntu 20.04 ARM GCC Cross Compile     | PEND               |
+----------------------------------------+--------------------+
| Ubuntu 20.04 ARM SVE                   | PASS               |
+----------------------------------------+--------------------+
| Debian 12 with MUSDK                   | PASS               |
+----------------------------------------+--------------------+
| Fedora 37 (ARM)                        | PASS               |
+----------------------------------------+--------------------+
| Fedora 38 (ARM)                        | PASS               |
+----------------------------------------+--------------------+
| Fedora 38 (ARM Clang)                  | PEND               |
+----------------------------------------+--------------------+
| Fedora 39 (ARM)                        | PASS               |
+----------------------------------------+--------------------+
| Fedora 39 (ARM Clang)                  | PEND               |
+----------------------------------------+--------------------+
| Fedora 40 (ARM)                        | PASS               |
+----------------------------------------+--------------------+
| Fedora 40 (ARM Clang)                  | PEND               |
+----------------------------------------+--------------------+
| Ubuntu 20.04 (ARM)                     | PASS               |
+----------------------------------------+--------------------+
| Ubuntu 22.04 (ARM)                     | PEND               |
+----------------------------------------+--------------------+
| Ubuntu 24.04 (ARM)                     | PEND               |
+----------------------------------------+--------------------+
| CentOS Stream 9 (ARM)                  | PEND               |
+----------------------------------------+--------------------+
| Debian 11 (Buster) (ARM)               | PEND               |
+----------------------------------------+--------------------+
| Debian 12 (arm)                        | PEND               |
+----------------------------------------+--------------------+
| Ubuntu 20.04 aarch32 GCC Cross Compile | PASS               |
+----------------------------------------+--------------------+


RHEL9 (ARM)
	Kernel: Depends on container host
	Compiler: gcc 11.4.1

Ubuntu 20.04 ARM GCC Cross Compile
	Kernel: 5.4.0-167-generic
	Compiler: aarch64-linux-gnu-gcc (Ubuntu 9.4.0-1ubuntu1~20.04.2) 9.4.0

Ubuntu 20.04 ARM SVE
	Kernel: 5.4.0-167-generic
	Compiler: gcc (Ubuntu 10.5.0-1ubuntu1~20.04) 10.5.0

Debian 12 with MUSDK
	Kernel: Container Host Kernel
	Compiler: gcc 12.2.0

Fedora 37 (ARM)
	Kernel: Depends on container host
	Compiler: gcc 12.3.1

Fedora 38 (ARM)
	Kernel: Depends on container host
	Compiler: gcc 13.2.1

Fedora 38 (ARM Clang)
	Kernel: Depends on container host
	Compiler: clang 16.0.6

Fedora 39 (ARM)
	Kernel: Depends on container host
	Compiler: gcc 13.2.1

Fedora 39 (ARM Clang)
	Kernel: Depends on container host
	Compiler: clang 17.0.6

Fedora 40 (ARM)
	Kernel: Depends on container host
	Compiler: gcc 14.1.1

Fedora 40 (ARM Clang)
	Kernel: Depends on container host
	Compiler: clang 18.1.6

Ubuntu 20.04 (ARM)
	Kernel: Container Host Kernel
	Compiler: gcc 9.4.0

Ubuntu 22.04 (ARM)
	Kernel: Container Host Kernel
	Compiler: gcc 11.4.0

Ubuntu 24.04 (ARM)
	Kernel: 5.4.0-167-generic
	Compiler: gcc 13.2.0

CentOS Stream 9 (ARM)
	Kernel: Container Host Kernel
	Compiler: gcc 11.4.1

Debian 11 (Buster) (ARM)
	Kernel: Container Host Kernel
	Compiler: gcc 10.2.1

Debian 12 (arm)
	Kernel: Container Host Kernel
	Compiler: gcc 12.2.0

Ubuntu 20.04 aarch32 GCC Cross Compile
	Kernel: 5.4.0-167-generic
	Compiler: gcc 9.4.0

To view detailed results, visit:
https://lab.dpdk.org/results/dashboard/patchsets/30616/

UNH-IOL DPDK Community Lab

To manage your email subscriptions, visit: 
https://lab.dpdk.org/results/dashboard/preferences/subscriptions/