From mboxrd@z Thu Jan  1 00:00:00 1970
Return-Path: <test-report-bounces@dpdk.org>
Received: from mails.dpdk.org (mails.dpdk.org [217.70.189.124])
	by inbox.dpdk.org (Postfix) with ESMTP id 9C217456B1
	for <public@inbox.dpdk.org>; Thu, 25 Jul 2024 09:25:39 +0200 (CEST)
Received: from mails.dpdk.org (localhost [127.0.0.1])
	by mails.dpdk.org (Postfix) with ESMTP id 9317141101;
	Thu, 25 Jul 2024 09:25:39 +0200 (CEST)
Received: from mail-io1-f99.google.com (mail-io1-f99.google.com
 [209.85.166.99]) by mails.dpdk.org (Postfix) with ESMTP id E45F340614
 for <test-report@dpdk.org>; Thu, 25 Jul 2024 09:25:37 +0200 (CEST)
Received: by mail-io1-f99.google.com with SMTP id
 ca18e2360f4ac-81f7e378114so15910039f.2
 for <test-report@dpdk.org>; Thu, 25 Jul 2024 00:25:37 -0700 (PDT)
DKIM-Signature: v=1; a=rsa-sha256; c=relaxed/relaxed;
 d=iol.unh.edu; s=unh-iol; t=1721892337; x=1722497137; darn=dpdk.org;
 h=references:in-reply-to:cc:to:from:subject:message-id:date:from:to
 :cc:subject:date:message-id:reply-to;
 bh=sBidH5jZFfdXpGhoA0aPYJqOKqlHICsQfqqqAMENW7M=;
 b=VfGh1tz48o+oYZ+5H0OhEKdvKKSWwHqFwDTnN+20jKSa8hnh0QQ5qO7kNFqKAiGHUj
 RAxosx+dcVgS8zLppYfwtftpFqi7IhSh1Xp3BH6F5xHwrZkBLEDLcDXoXQW0z75RPv6e
 AczUU9aCyiNpWdVVrku3vIHDybFMdM+O8zpVY=
X-Google-DKIM-Signature: v=1; a=rsa-sha256; c=relaxed/relaxed;
 d=1e100.net; s=20230601; t=1721892337; x=1722497137;
 h=references:in-reply-to:cc:to:from:subject:message-id:date
 :x-gm-message-state:from:to:cc:subject:date:message-id:reply-to;
 bh=sBidH5jZFfdXpGhoA0aPYJqOKqlHICsQfqqqAMENW7M=;
 b=GLKPwr48FLLapIMIVD3EqpFwNSh7yxnB3BA38SkTc6rU7ch2R5hysjqw5ae1ZYGZ+l
 jRvDhcQJxXUmywHyEkzprePvZG/fFWziAOtJF3tAZcsP0ZCzRTzGUqhwLBEWBYoWUp3F
 xpXbB5rZ/08B5dDxOVfkQG/m9p40bqf1a8hWkgo2TtOyABPL94q8AIbB5fRn7Xkolyva
 8eV0b7Hefzdm8k1r7Tda0jM8Awi9jshwjgDoaqhVI63nNGvBahW1Z5W0rRmxNOnMV+Z7
 P42P0fYFU1OWRbTQDDFInQ5U5dEV0leWWstxExCUsX4jzjkY4G+wN2oYEtEy2bnINeAY
 adfg==
X-Gm-Message-State: AOJu0Yy9G4gPWucLywHXTs+/KBaH1J/7vMQCFGJpitZb/8HBJrlbKhRO
 A0E7uj45prN77rywigq0DLpI1t7LRNtMpIGkR7LikH9qp5p8hXbO1kqk3W+yO70wKGedfk15yp4
 590y0R132WhpWkdDv7psKGWatqM2v6jXtxgjMK4yz
X-Google-Smtp-Source: AGHT+IGxN1yHg+QxOTHDoIUW8MSald7fJLVOBwdU63Zja54or3XNfWCwCmJRg3DVbI2/T1Icq59tRZvKQRSe
X-Received: by 2002:a05:6e02:1525:b0:396:e8b8:88f with SMTP id
 e9e14a558f8ab-39a2182be55mr26874755ab.18.1721892337208; 
 Thu, 25 Jul 2024 00:25:37 -0700 (PDT)
Received: from postal.iol.unh.edu (postal.iol.unh.edu. [132.177.123.84])
 by smtp-relay.gmail.com with ESMTPS id
 e9e14a558f8ab-39a22e9a010sm975615ab.20.2024.07.25.00.25.37
 (version=TLS1_2 cipher=ECDHE-ECDSA-AES128-GCM-SHA256 bits=128/128);
 Thu, 25 Jul 2024 00:25:37 -0700 (PDT)
X-Relaying-Domain: iol.unh.edu
Date: Thu, 25 Jul 2024 00:25:37 -0700 (PDT)
Message-ID: <66a1fdf1.050a0220.1cf0a3.3cf1SMTPIN_ADDED_MISSING@mx.google.com>
Received: from [172.21.0.8] (unknown [172.18.0.240])
 by postal.iol.unh.edu (Postfix) with ESMTP id C5CB5605C351;
 Thu, 25 Jul 2024 03:25:36 -0400 (EDT)
Subject: |PENDING| pw142707-142709 [PATCH] [v4,3/3] test-pmd: add more packet
From: dpdklab@iol.unh.edu
To: Test Report <test-report@dpdk.org>
Cc: dpdk-test-reports@iol.unh.edu
In-Reply-To: <20240724184741.150763-4-stephen@networkplumber.org>
References: <20240724184741.150763-4-stephen@networkplumber.org>
Content-Type: text/plain
X-BeenThere: test-report@dpdk.org
X-Mailman-Version: 2.1.29
Precedence: list
List-Id: automatic DPDK test reports <test-report.dpdk.org>
List-Unsubscribe: <https://mails.dpdk.org/options/test-report>,
 <mailto:test-report-request@dpdk.org?subject=unsubscribe>
List-Archive: <http://mails.dpdk.org/archives/test-report/>
List-Post: <mailto:test-report@dpdk.org>
List-Help: <mailto:test-report-request@dpdk.org?subject=help>
List-Subscribe: <https://mails.dpdk.org/listinfo/test-report>,
 <mailto:test-report-request@dpdk.org?subject=subscribe>
Errors-To: test-report-bounces@dpdk.org

Test-Label: iol-unit-amd64-testing
Test-Status: PENDING
http://dpdk.org/patch/142709

_Testing pending_

Submitter: Stephen Hemminger <stephen@networkplumber.org>
Date: Wednesday, July 24 2024 18:46:14 
DPDK git baseline: Repo:dpdk
  Branch: master
  CommitID:82c47f005b9a0a1e3a649664b7713443d18abe43

142707-142709 --> testing pending

Upstream job id: Generic-Unit-Test-DPDK#244577

Test environment and result as below:

+---------------------+----------------+
|     Environment     | dpdk_unit_test |
+=====================+================+
| Windows Server 2019 | PASS           |
+---------------------+----------------+
| Windows Server 2022 | PASS           |
+---------------------+----------------+
| CentOS Stream 9     | PASS           |
+---------------------+----------------+
| CentOS Stream 8     | PASS           |
+---------------------+----------------+
| Debian Bullseye     | PASS           |
+---------------------+----------------+
| Fedora 37           | PASS           |
+---------------------+----------------+
| Fedora 38           | PASS           |
+---------------------+----------------+
| Fedora 38 (Clang)   | PASS           |
+---------------------+----------------+
| Fedora 39           | PASS           |
+---------------------+----------------+
| Fedora 39 (Clang)   | PASS           |
+---------------------+----------------+
| Fedora 40           | PASS           |
+---------------------+----------------+
| Fedora 40 (Clang)   | PEND           |
+---------------------+----------------+
| openSUSE Leap 15    | PASS           |
+---------------------+----------------+
| RHEL9               | PEND           |
+---------------------+----------------+
| RHEL8               | PEND           |
+---------------------+----------------+
| Ubuntu 22.04        | PEND           |
+---------------------+----------------+
| Ubuntu 20.04        | PEND           |
+---------------------+----------------+
| Ubuntu 24.04        | PEND           |
+---------------------+----------------+


Windows Server 2019
	Kernel: 10.0.17763
	Compiler: clang 14.0 and gcc 8.1.0 (MinGW)

Windows Server 2022
	Kernel: 10.0.20348.2031
	Compiler: clang 15.0.7, gcc 8.1.0 (MinGW), and MSVC VS 17.9

CentOS Stream 9
	Kernel: 5.4.0-167-generic
	Compiler: gcc 11.4.1 20230605

CentOS Stream 8
	Kernel: 5.4.0-167-generic
	Compiler: gcc 8.5.0 20210514

Debian Bullseye
	Kernel: 5.4.0-167-generic
	Compiler: gcc 10.2.1-6

Fedora 37
	Kernel: Depends on container host system
	Compiler: gcc 12.3.1

Fedora 38
	Kernel: Depends on container host
	Compiler: gcc 13.2.1

Fedora 38 (Clang)
	Kernel: Depends on container host
	Compiler: clang 16.0.6

Fedora 39
	Kernel: Depends on container host
	Compiler: gcc 13.2.1

Fedora 39 (Clang)
	Kernel: Depends on container host
	Compiler: clang 17.0.6

Fedora 40
	Kernel: Depends on container host
	Compiler: gcc 14.1.1

Fedora 40 (Clang)
	Kernel: Depends on container host
	Compiler: clang 18.1.6

openSUSE Leap 15
	Kernel: 5.4.0-167-generic
	Compiler: gcc 7.5.0

RHEL9
	Kernel: Depends on container host
	Compiler: gcc 11.4.1

RHEL8
	Kernel: 5.4.0-167-generic
	Compiler: gcc 8.5.0 20210514 (Red Hat 8.5.0-20)

Ubuntu 22.04
	Kernel: 5.4.0-167-generic
	Compiler: gcc 11.4.0

Ubuntu 20.04
	Kernel: 5.4.0-167-generic
	Compiler: gcc 9.4.0-1ubuntu1~20.04.1

Ubuntu 24.04
	Kernel: 5.4.0-167-generic
	Compiler: gcc 13.2.0

To view detailed results, visit:
https://lab.dpdk.org/results/dashboard/patchsets/30615/

UNH-IOL DPDK Community Lab

To manage your email subscriptions, visit: 
https://lab.dpdk.org/results/dashboard/preferences/subscriptions/