From mboxrd@z Thu Jan  1 00:00:00 1970
Return-Path: <test-report-bounces@dpdk.org>
Received: from mails.dpdk.org (mails.dpdk.org [217.70.189.124])
	by inbox.dpdk.org (Postfix) with ESMTP id 8CC57456AF
	for <public@inbox.dpdk.org>; Thu, 25 Jul 2024 09:44:57 +0200 (CEST)
Received: from mails.dpdk.org (localhost [127.0.0.1])
	by mails.dpdk.org (Postfix) with ESMTP id 88A6E435A2;
	Thu, 25 Jul 2024 09:44:57 +0200 (CEST)
Received: from mail-vk1-f225.google.com (mail-vk1-f225.google.com
 [209.85.221.225])
 by mails.dpdk.org (Postfix) with ESMTP id 806C440614
 for <test-report@dpdk.org>; Thu, 25 Jul 2024 09:44:53 +0200 (CEST)
Received: by mail-vk1-f225.google.com with SMTP id
 71dfb90a1353d-4f51af903a7so1031674e0c.1
 for <test-report@dpdk.org>; Thu, 25 Jul 2024 00:44:53 -0700 (PDT)
DKIM-Signature: v=1; a=rsa-sha256; c=relaxed/relaxed;
 d=iol.unh.edu; s=unh-iol; t=1721893493; x=1722498293; darn=dpdk.org;
 h=references:in-reply-to:cc:to:from:subject:message-id:date:from:to
 :cc:subject:date:message-id:reply-to;
 bh=XD+2D1EaNbDYcR3OMnHGYcWcqQIbV9bFgheWmg+0iIs=;
 b=MDPtPlKuQwCgRK2I+KtQh3jQUEx+ieIJQrQNLhLZl6GcVMwCDn0Lcn7eBv1W0AHIU7
 eqDo2CUj7y2UYXzfGfKlmOSV4d85OJNUfP9TFJo7sY0PJLXR3nhhhdK63Hs7fKM11W7f
 UxqHBdcqWVIGAsl2Xl3VwfkWbJt3++c2apICY=
X-Google-DKIM-Signature: v=1; a=rsa-sha256; c=relaxed/relaxed;
 d=1e100.net; s=20230601; t=1721893493; x=1722498293;
 h=references:in-reply-to:cc:to:from:subject:message-id:date
 :x-gm-message-state:from:to:cc:subject:date:message-id:reply-to;
 bh=XD+2D1EaNbDYcR3OMnHGYcWcqQIbV9bFgheWmg+0iIs=;
 b=PkL3rp7R9wHsAiVclFn1i9RegQUqf+AilmTTSnGBeHXfwZNt884+lNus/jMNNfUAEy
 2egq3tF2trGN3kDHEwBcDxq6GtFOUVJqee11bDgjYBjLHLPmJlEB3u6h0P5JzIc7KeH7
 GAdtyUwnTbA1Im1qDRcm/AEc84OYbbLoJxgLkdALRW3jImysOaZH96jEN9dLKqGKFZVm
 myqkjjrEcNQ2U5orn5CbVJfQbm/I4Rd/+hoGyD4dAZCQe9PL6hG6ptMuzDJeBDXaiYNG
 8R19NNe4jxVwgDpifkielJu2bQN0mZOIC3MZEAqb/sMcHCw6PxHNnccRzf0fgbququA/
 kvtg==
X-Gm-Message-State: AOJu0Yzn395LXuIoGUpOpLzzbVpfm1I1f5DqKdqfNgSu1GII3M303u1z
 tPRW7qeH9FDa5kSGEKDs3Q1iURsq/VoucZ4yDBbK4OL1A/ViwpgdH86IKL+frcI86OA0AxUN6JD
 PuijXVxKDleHcyYjoDsPbR8XDOwvr6yAECY5CysuL
X-Google-Smtp-Source: AGHT+IHCFUxeJruvVbVaoquahb5es/cufbiS2Orf2atJDCiSAiJaYTCSCKO3V3wf5asR9PQb5ibqmZtg5hxr
X-Received: by 2002:a05:6122:319:b0:4f5:2849:598d with SMTP id
 71dfb90a1353d-4f6b850b2c7mr2708614e0c.4.1721893492820; 
 Thu, 25 Jul 2024 00:44:52 -0700 (PDT)
Received: from postal.iol.unh.edu (postal.iol.unh.edu. [132.177.123.84])
 by smtp-relay.gmail.com with ESMTPS id
 71dfb90a1353d-4f6c86c9e18sm96538e0c.7.2024.07.25.00.44.52
 (version=TLS1_2 cipher=ECDHE-ECDSA-AES128-GCM-SHA256 bits=128/128);
 Thu, 25 Jul 2024 00:44:52 -0700 (PDT)
X-Relaying-Domain: iol.unh.edu
Date: Thu, 25 Jul 2024 00:44:52 -0700 (PDT)
Message-ID: <66a20274.050a0220.6e141.3fd4SMTPIN_ADDED_MISSING@mx.google.com>
Received: from [172.17.0.3] (unknown [172.18.0.217])
 by postal.iol.unh.edu (Postfix) with ESMTP id 7C625605C351;
 Thu, 25 Jul 2024 03:44:52 -0400 (EDT)
Subject: |PENDING| pw142707-142709 [PATCH] [v4,3/3] test-pmd: add more packet
From: dpdklab@iol.unh.edu
To: Test Report <test-report@dpdk.org>
Cc: dpdk-test-reports@iol.unh.edu
In-Reply-To: <20240724184741.150763-4-stephen@networkplumber.org>
References: <20240724184741.150763-4-stephen@networkplumber.org>
Content-Type: text/plain
X-BeenThere: test-report@dpdk.org
X-Mailman-Version: 2.1.29
Precedence: list
List-Id: automatic DPDK test reports <test-report.dpdk.org>
List-Unsubscribe: <https://mails.dpdk.org/options/test-report>,
 <mailto:test-report-request@dpdk.org?subject=unsubscribe>
List-Archive: <http://mails.dpdk.org/archives/test-report/>
List-Post: <mailto:test-report@dpdk.org>
List-Help: <mailto:test-report-request@dpdk.org?subject=help>
List-Subscribe: <https://mails.dpdk.org/listinfo/test-report>,
 <mailto:test-report-request@dpdk.org?subject=subscribe>
Errors-To: test-report-bounces@dpdk.org

Test-Label: iol-compile-arm64-testing
Test-Status: PENDING
http://dpdk.org/patch/142709

_Testing pending_

Submitter: Stephen Hemminger <stephen@networkplumber.org>
Date: Wednesday, July 24 2024 18:46:14 
DPDK git baseline: Repo:dpdk
  Branch: master
  CommitID:82c47f005b9a0a1e3a649664b7713443d18abe43

142707-142709 --> testing pending

Upstream job id: Generic-DPDK-Compile-Meson#279613

Test environment and result as below:

+------------------------------------+--------------------+
|            Environment             | dpdk_meson_compile |
+====================================+====================+
| RHEL9 (ARM)                        | PASS               |
+------------------------------------+--------------------+
| Ubuntu 20.04 ARM GCC Cross Compile | PASS               |
+------------------------------------+--------------------+
| Ubuntu 20.04 ARM SVE               | PASS               |
+------------------------------------+--------------------+
| Debian 12 with MUSDK               | PASS               |
+------------------------------------+--------------------+
| Fedora 38 (ARM)                    | PASS               |
+------------------------------------+--------------------+
| Fedora 37 (ARM)                    | PASS               |
+------------------------------------+--------------------+
| Fedora 39 (ARM)                    | PASS               |
+------------------------------------+--------------------+
| Fedora 38 (ARM Clang)              | PEND               |
+------------------------------------+--------------------+
| Fedora 39 (ARM Clang)              | PEND               |
+------------------------------------+--------------------+
| Fedora 40 (ARM Clang)              | PEND               |
+------------------------------------+--------------------+
| Ubuntu 20.04 (ARM)                 | PEND               |
+------------------------------------+--------------------+
| Ubuntu 22.04 (ARM)                 | PEND               |
+------------------------------------+--------------------+
| Ubuntu 24.04 (ARM)                 | PEND               |
+------------------------------------+--------------------+


RHEL9 (ARM)
	Kernel: Depends on container host
	Compiler: gcc 11.4.1

Ubuntu 20.04 ARM GCC Cross Compile
	Kernel: 5.4.0-167-generic
	Compiler: aarch64-linux-gnu-gcc (Ubuntu 9.4.0-1ubuntu1~20.04.2) 9.4.0

Ubuntu 20.04 ARM SVE
	Kernel: 5.4.0-167-generic
	Compiler: gcc (Ubuntu 10.5.0-1ubuntu1~20.04) 10.5.0

Debian 12 with MUSDK
	Kernel: Container Host Kernel
	Compiler: gcc 12.2.0

Fedora 38 (ARM)
	Kernel: Depends on container host
	Compiler: gcc 13.2.1

Fedora 37 (ARM)
	Kernel: Depends on container host
	Compiler: gcc 12.3.1

Fedora 39 (ARM)
	Kernel: Depends on container host
	Compiler: gcc 13.2.1

Fedora 38 (ARM Clang)
	Kernel: Depends on container host
	Compiler: clang 16.0.6

Fedora 39 (ARM Clang)
	Kernel: Depends on container host
	Compiler: clang 17.0.6

Fedora 40 (ARM Clang)
	Kernel: Depends on container host
	Compiler: clang 18.1.6

Ubuntu 20.04 (ARM)
	Kernel: Container Host Kernel
	Compiler: gcc 9.4.0

Ubuntu 22.04 (ARM)
	Kernel: Container Host Kernel
	Compiler: gcc 11.4.0

Ubuntu 24.04 (ARM)
	Kernel: 5.4.0-167-generic
	Compiler: gcc 13.2.0

To view detailed results, visit:
https://lab.dpdk.org/results/dashboard/patchsets/30615/

UNH-IOL DPDK Community Lab

To manage your email subscriptions, visit: 
https://lab.dpdk.org/results/dashboard/preferences/subscriptions/