From mboxrd@z Thu Jan  1 00:00:00 1970
Return-Path: <test-report-bounces@dpdk.org>
Received: from mails.dpdk.org (mails.dpdk.org [217.70.189.124])
	by inbox.dpdk.org (Postfix) with ESMTP id 5250A456B1
	for <public@inbox.dpdk.org>; Thu, 25 Jul 2024 10:15:18 +0200 (CEST)
Received: from mails.dpdk.org (localhost [127.0.0.1])
	by mails.dpdk.org (Postfix) with ESMTP id 37D9142DDC;
	Thu, 25 Jul 2024 10:15:18 +0200 (CEST)
Received: from mail-il1-f225.google.com (mail-il1-f225.google.com
 [209.85.166.225])
 by mails.dpdk.org (Postfix) with ESMTP id 8B6B940648
 for <test-report@dpdk.org>; Thu, 25 Jul 2024 10:15:17 +0200 (CEST)
Received: by mail-il1-f225.google.com with SMTP id
 e9e14a558f8ab-39865a15900so1110865ab.1
 for <test-report@dpdk.org>; Thu, 25 Jul 2024 01:15:17 -0700 (PDT)
DKIM-Signature: v=1; a=rsa-sha256; c=relaxed/relaxed;
 d=iol.unh.edu; s=unh-iol; t=1721895317; x=1722500117; darn=dpdk.org;
 h=references:in-reply-to:cc:to:from:subject:message-id:date:from:to
 :cc:subject:date:message-id:reply-to;
 bh=oojV2waQmvwLws5q7DzXx2voaXl5Gb8RCcPHv6+SFzQ=;
 b=cYVfJg7s4VizgZIXexN6yrK8HMlUSJRT1ZYV58+NL8KebXSUmaba++hE+MLg6Mwg1v
 yuPQG8TkDwQM9CoCSOAtP0HlUamFVrEsHSvmkiawnReFuZRB+Z80aJXoXyeldSp4BFTY
 3F6z7Kc/sEQoPIiQ4cNfYcWBkhqv5v75WFj+o=
X-Google-DKIM-Signature: v=1; a=rsa-sha256; c=relaxed/relaxed;
 d=1e100.net; s=20230601; t=1721895317; x=1722500117;
 h=references:in-reply-to:cc:to:from:subject:message-id:date
 :x-gm-message-state:from:to:cc:subject:date:message-id:reply-to;
 bh=oojV2waQmvwLws5q7DzXx2voaXl5Gb8RCcPHv6+SFzQ=;
 b=OeVWcGRaoro8U7wthHo+9e2hPGVRvoT09ib4No8TJL9V04MCbwYnjSC6w/Trsqhp0B
 nFHgWl8YqbIqsLKPo8SHsQTHfRBM7O27qSxeb0HfUU79KcpE67eCGPUQOW6RPvXk1gC9
 apyaez4FLPyCBv/+d7DQUslmWnUQOLjeALlzxXWwDCvp1bcvEl+PvpjofVELF9tzlj+S
 IjANVOGidsIbuGCDVxxYMGKVOsJpvPaA+0Pac88lDqem5QrzwoubadxSE2SU3nucm6hP
 KD9FitHnU6VrhdZEZCy4nrUEr2ZIPpluwAeLa6aTIRbufYL8XcxH+e2pLqfJqPT1q4gR
 1qIg==
X-Gm-Message-State: AOJu0YzOI6STBIU+IgyWOkkSclRYahparn9wwL2gB6R1/bcBc77DqSmH
 WliF+/mO1IPBnYBU5BCV9/WSxgkc6vqFBMcVtxsA9cg7fDN9wiZILmi8r7CYAILgxVS7bfCCVpB
 KJYG7+lHZ33ySR/m4naSL0iCIPzycHaLdS/Mfp50c
X-Google-Smtp-Source: AGHT+IGAe9Uf7fgIBtmIykpH27ULkadbtVy2fe8ZZEL1UxP7igduAprtXOsllROG3DI0lKtpPWMeD9TkhWLb
X-Received: by 2002:a05:6e02:180a:b0:375:deb0:4c28 with SMTP id
 e9e14a558f8ab-39a217bfac4mr32644615ab.6.1721895316745; 
 Thu, 25 Jul 2024 01:15:16 -0700 (PDT)
Received: from postal.iol.unh.edu (postal.iol.unh.edu. [132.177.123.84])
 by smtp-relay.gmail.com with ESMTPS id
 8926c6da1cb9f-4c29fb25c23sm58794173.49.2024.07.25.01.15.16
 (version=TLS1_2 cipher=ECDHE-ECDSA-AES128-GCM-SHA256 bits=128/128);
 Thu, 25 Jul 2024 01:15:16 -0700 (PDT)
X-Relaying-Domain: iol.unh.edu
Date: Thu, 25 Jul 2024 01:15:16 -0700 (PDT)
Message-ID: <66a20994.050a0220.16d0c.23f3SMTPIN_ADDED_MISSING@mx.google.com>
Received: from [172.17.0.4] (unknown [172.18.0.217])
 by postal.iol.unh.edu (Postfix) with ESMTP id 30EB560524C8;
 Thu, 25 Jul 2024 04:15:16 -0400 (EDT)
Subject: |PENDING| pw142707-142709 [PATCH] [v4,3/3] test-pmd: add more packet
From: dpdklab@iol.unh.edu
To: Test Report <test-report@dpdk.org>
Cc: dpdk-test-reports@iol.unh.edu
In-Reply-To: <20240724184741.150763-4-stephen@networkplumber.org>
References: <20240724184741.150763-4-stephen@networkplumber.org>
Content-Type: text/plain
X-BeenThere: test-report@dpdk.org
X-Mailman-Version: 2.1.29
Precedence: list
List-Id: automatic DPDK test reports <test-report.dpdk.org>
List-Unsubscribe: <https://mails.dpdk.org/options/test-report>,
 <mailto:test-report-request@dpdk.org?subject=unsubscribe>
List-Archive: <http://mails.dpdk.org/archives/test-report/>
List-Post: <mailto:test-report@dpdk.org>
List-Help: <mailto:test-report-request@dpdk.org?subject=help>
List-Subscribe: <https://mails.dpdk.org/listinfo/test-report>,
 <mailto:test-report-request@dpdk.org?subject=subscribe>
Errors-To: test-report-bounces@dpdk.org

Test-Label: iol-unit-amd64-testing
Test-Status: PENDING
http://dpdk.org/patch/142709

_Testing pending_

Submitter: Stephen Hemminger <stephen@networkplumber.org>
Date: Wednesday, July 24 2024 18:46:14 
DPDK git baseline: Repo:dpdk
  Branch: master
  CommitID:82c47f005b9a0a1e3a649664b7713443d18abe43

142707-142709 --> testing pending

Upstream job id: Generic-Unit-Test-DPDK#244605

Test environment and result as below:

+---------------------+----------------+
|     Environment     | dpdk_unit_test |
+=====================+================+
| Windows Server 2019 | PEND           |
+---------------------+----------------+
| Windows Server 2022 | PEND           |
+---------------------+----------------+
| CentOS Stream 8     | PASS           |
+---------------------+----------------+
| CentOS Stream 9     | PASS           |
+---------------------+----------------+
| Debian Bullseye     | PASS           |
+---------------------+----------------+
| Debian 12           | PASS           |
+---------------------+----------------+
| Fedora 37           | PASS           |
+---------------------+----------------+
| Fedora 39 (Clang)   | PEND           |
+---------------------+----------------+
| Fedora 38 (Clang)   | PEND           |
+---------------------+----------------+
| Fedora 39           | PEND           |
+---------------------+----------------+


Windows Server 2019
	Kernel: 10.0.17763
	Compiler: clang 14.0 and gcc 8.1.0 (MinGW)

Windows Server 2022
	Kernel: 10.0.20348.2031
	Compiler: clang 15.0.7, gcc 8.1.0 (MinGW), and MSVC VS 17.9

CentOS Stream 8
	Kernel: 5.4.0-167-generic
	Compiler: gcc 8.5.0 20210514

CentOS Stream 9
	Kernel: 5.4.0-167-generic
	Compiler: gcc 11.4.1 20230605

Debian Bullseye
	Kernel: 5.4.0-167-generic
	Compiler: gcc 10.2.1-6

Debian 12
	Kernel: Container Host Kernel
	Compiler: gcc 12.2.0

Fedora 37
	Kernel: Depends on container host system
	Compiler: gcc 12.3.1

Fedora 39 (Clang)
	Kernel: Depends on container host
	Compiler: clang 17.0.6

Fedora 38 (Clang)
	Kernel: Depends on container host
	Compiler: clang 16.0.6

Fedora 39
	Kernel: Depends on container host
	Compiler: gcc 13.2.1

To view detailed results, visit:
https://lab.dpdk.org/results/dashboard/patchsets/30615/

UNH-IOL DPDK Community Lab

To manage your email subscriptions, visit: 
https://lab.dpdk.org/results/dashboard/preferences/subscriptions/