From mboxrd@z Thu Jan  1 00:00:00 1970
Return-Path: <test-report-bounces@dpdk.org>
Received: from mails.dpdk.org (mails.dpdk.org [217.70.189.124])
	by inbox.dpdk.org (Postfix) with ESMTP id 05C38456B1
	for <public@inbox.dpdk.org>; Thu, 25 Jul 2024 10:18:37 +0200 (CEST)
Received: from mails.dpdk.org (localhost [127.0.0.1])
	by mails.dpdk.org (Postfix) with ESMTP id 0074C42DDC;
	Thu, 25 Jul 2024 10:18:37 +0200 (CEST)
Received: from mail-io1-f97.google.com (mail-io1-f97.google.com
 [209.85.166.97]) by mails.dpdk.org (Postfix) with ESMTP id 853AD40648
 for <test-report@dpdk.org>; Thu, 25 Jul 2024 10:18:35 +0200 (CEST)
Received: by mail-io1-f97.google.com with SMTP id
 ca18e2360f4ac-8076cee8607so26438539f.1
 for <test-report@dpdk.org>; Thu, 25 Jul 2024 01:18:35 -0700 (PDT)
DKIM-Signature: v=1; a=rsa-sha256; c=relaxed/relaxed;
 d=iol.unh.edu; s=unh-iol; t=1721895514; x=1722500314; darn=dpdk.org;
 h=references:in-reply-to:cc:to:from:subject:message-id:date:from:to
 :cc:subject:date:message-id:reply-to;
 bh=Q6ngS/EgXaBPhnpM0cmTziOSxwioN+fnYRnS83bg0Jc=;
 b=N/xFYUUEqAcT3BK1cqpV6YSRdrJZjnLdaC5h1YRtaWQ3nYvSQUq7sEYCvzLMhcIFmR
 Gnc2Bjv6viT0seluVALaBNepBVgneXu+Bua6UTVBSaLEb1aZjXs2x99DTvePlhtH85n2
 DPk+Pw5wOcuTXw8mO1vzhGycGAi29a6YuXwqQ=
X-Google-DKIM-Signature: v=1; a=rsa-sha256; c=relaxed/relaxed;
 d=1e100.net; s=20230601; t=1721895514; x=1722500314;
 h=references:in-reply-to:cc:to:from:subject:message-id:date
 :x-gm-message-state:from:to:cc:subject:date:message-id:reply-to;
 bh=Q6ngS/EgXaBPhnpM0cmTziOSxwioN+fnYRnS83bg0Jc=;
 b=u9QmyZKHC7Le7sORxkYr/+ozw6ONoUo2VwQ6Y8Nf5KypdqV3g34RU8rSGEPd19ESZh
 UcqtxjDn8G1EWAOgA4lSVNdJ2Vqb6WqcdMDWn/bmags0h7ZqvcC9/I2uR8KZShLLY0SC
 vXW1TDvvngt7QxyG8ndqA/oLWoDguUNmcTR6llPEuMj5D51YYtuLdGahgxwSB26ekv6G
 vl67+VUHYHLVl53jhNMt33i70Wgg1wsAuZOJvfFoiQ/cw664oilennIKpqata8ZhwRr7
 zVFc9+nSJWV+0EyKrca7n10uccDAy0GAWG8Gg58CWwNUIHpdbZZ6/WUwnOl4ROnKn9L/
 HqTg==
X-Gm-Message-State: AOJu0YwYGQ7fqdl4KrKchtrnuwtjMoo1Dkk8+0f1ey2gTPyCj7dhq9/w
 iS5KhyOkquJiPctf4yIklpJyHGGdY7FWjogN4RdV4LXgfDU09ID/Nb1vBm3bK0FWtM/9PYmzirN
 cXb+TmxHM7jyiWPztcLV33thFQnpYmj8+8bt9uLg/iR5SkwcgdZuKDAcd
X-Google-Smtp-Source: AGHT+IGkBRchSR6D556bmd/+sniiQ1yXSGgmyT3cgUZYqfvICzSbeTTAbC15t3rteRYKP1OyIShYn5mAM1LK
X-Received: by 2002:a05:6602:2d95:b0:80f:81f5:b46c with SMTP id
 ca18e2360f4ac-81f7e4ce714mr166222139f.15.1721895514634; 
 Thu, 25 Jul 2024 01:18:34 -0700 (PDT)
Received: from postal.iol.unh.edu (postal.iol.unh.edu.
 [2606:4100:3880:1234::84]) by smtp-relay.gmail.com with ESMTPS id
 8926c6da1cb9f-4c29fa9a483sm57974173.19.2024.07.25.01.18.34
 (version=TLS1_2 cipher=ECDHE-ECDSA-AES128-GCM-SHA256 bits=128/128);
 Thu, 25 Jul 2024 01:18:34 -0700 (PDT)
X-Relaying-Domain: iol.unh.edu
Date: Thu, 25 Jul 2024 01:18:34 -0700 (PDT)
Message-ID: <66a20a5a.050a0220.83c10.2339SMTPIN_ADDED_MISSING@mx.google.com>
Received: from [172.17.0.2] (unknown [172.18.0.217])
 by postal.iol.unh.edu (Postfix) with ESMTP id 1889E60524C8;
 Thu, 25 Jul 2024 04:18:34 -0400 (EDT)
Subject: |SUCCESS| pw142490-142492 [PATCH] [v7,3/3] dts: queue suite conf sch
From: dpdklab@iol.unh.edu
To: Test Report <test-report@dpdk.org>
Cc: dpdk-test-reports@iol.unh.edu
In-Reply-To: <20240717202331.27443-3-dmarx@iol.unh.edu>
References: <20240717202331.27443-3-dmarx@iol.unh.edu>
Content-Type: text/plain
X-BeenThere: test-report@dpdk.org
X-Mailman-Version: 2.1.29
Precedence: list
List-Id: automatic DPDK test reports <test-report.dpdk.org>
List-Unsubscribe: <https://mails.dpdk.org/options/test-report>,
 <mailto:test-report-request@dpdk.org?subject=unsubscribe>
List-Archive: <http://mails.dpdk.org/archives/test-report/>
List-Post: <mailto:test-report@dpdk.org>
List-Help: <mailto:test-report-request@dpdk.org?subject=help>
List-Subscribe: <https://mails.dpdk.org/listinfo/test-report>,
 <mailto:test-report-request@dpdk.org?subject=subscribe>
Errors-To: test-report-bounces@dpdk.org

Test-Label: iol-sample-apps-testing
Test-Status: SUCCESS
http://dpdk.org/patch/142492

_Testing PASS RETEST #2_

Submitter: Dean Marx <dmarx@iol.unh.edu>
Date: Wednesday, July 17 2024 20:23:31 
DPDK git baseline: Repo:dpdk
  Branch: master
  CommitID:548de9091c85467bd8f05cecf6d32315869d1461

142490-142492 --> testing pass

Upstream job id: ACVP-FIPS-testing#6384

Test environment and result as below:

+--------------------+----------------------+----------------------+
|    Environment     | compressdev_zlib_pmd | dpdk_fips_validation |
+====================+======================+======================+
| Ubuntu 22.04 (ARM) | PASS                 | SKIPPED              |
+--------------------+----------------------+----------------------+
| Ubuntu 22.04       | PASS                 | SKIPPED              |
+--------------------+----------------------+----------------------+
| Ubuntu 20.04       | SKIPPED              | PASS                 |
+--------------------+----------------------+----------------------+


Ubuntu 22.04 (ARM)
	Kernel: 5.15.0-97-generic
	Compiler: gcc gcc (Ubuntu 11.4.0-1ubuntu1~22.04) 11.4.0

Ubuntu 22.04
	Kernel: 5.15.0-100-generic
	Compiler: gcc gcc (Ubuntu 11.4.0-1ubuntu1~22.04) 11.4.0

Ubuntu 20.04
	Kernel: 5.4.0-167-generic
	Compiler: gcc 9.4.0-1ubuntu1~20.04.1

To view detailed results, visit:
https://lab.dpdk.org/results/dashboard/patchsets/30546/

UNH-IOL DPDK Community Lab

To manage your email subscriptions, visit: 
https://lab.dpdk.org/results/dashboard/preferences/subscriptions/