From mboxrd@z Thu Jan  1 00:00:00 1970
Return-Path: <test-report-bounces@dpdk.org>
Received: from mails.dpdk.org (mails.dpdk.org [217.70.189.124])
	by inbox.dpdk.org (Postfix) with ESMTP id CCBD0456B1
	for <public@inbox.dpdk.org>; Thu, 25 Jul 2024 10:22:32 +0200 (CEST)
Received: from mails.dpdk.org (localhost [127.0.0.1])
	by mails.dpdk.org (Postfix) with ESMTP id BF46E42DDC;
	Thu, 25 Jul 2024 10:22:32 +0200 (CEST)
Received: from mail-io1-f97.google.com (mail-io1-f97.google.com
 [209.85.166.97]) by mails.dpdk.org (Postfix) with ESMTP id 6774940648
 for <test-report@dpdk.org>; Thu, 25 Jul 2024 10:22:31 +0200 (CEST)
Received: by mail-io1-f97.google.com with SMTP id
 ca18e2360f4ac-8046f65536dso30420039f.1
 for <test-report@dpdk.org>; Thu, 25 Jul 2024 01:22:31 -0700 (PDT)
DKIM-Signature: v=1; a=rsa-sha256; c=relaxed/relaxed;
 d=iol.unh.edu; s=unh-iol; t=1721895751; x=1722500551; darn=dpdk.org;
 h=references:in-reply-to:cc:to:from:subject:message-id:date:from:to
 :cc:subject:date:message-id:reply-to;
 bh=khtz+CYtEbPRkWTjGHE0f99yXJHhBfG+1ibwYBmwCEg=;
 b=KWhkuCxAk9BsPFNuY0+MSfhJ0CVXsi/NoMUb+7uvBh7MgrQ2WSLncIMfKuE61Dsu0j
 KjemG9jvVqGzHcyjgmMasjVAjGKZ/gEGlm/EWAuEYntN1vOdtKCV1fUQBjtNLO0NZiJf
 r/eOXP3nsUyaVjbrBaQLlpMzIo+3QZiffrLgI=
X-Google-DKIM-Signature: v=1; a=rsa-sha256; c=relaxed/relaxed;
 d=1e100.net; s=20230601; t=1721895751; x=1722500551;
 h=references:in-reply-to:cc:to:from:subject:message-id:date
 :x-gm-message-state:from:to:cc:subject:date:message-id:reply-to;
 bh=khtz+CYtEbPRkWTjGHE0f99yXJHhBfG+1ibwYBmwCEg=;
 b=FTGpBqimpnRCIK9TfQM0DR5exq4dUQXIxaRYW0l4RMdSdxtWDI1rZTktKIikgbRqWw
 3/vhWXMCe7YAx7ECn9VkeRDnlFcS711oERDS68rb8LlGGa4eSnUBe35AzgSrab1+rPpi
 fJMnbWUjGYV1Iw7eN4utSSKxf8rUICfOdCXI52zY/J+uUN6iIbuOHEtKvb/9nCg9PJus
 JFG2AguFvgvzlRnoj5/4Fl9d/Nx5lF61aD0UmwFPaUdx47uh6orGLCUP3DQuAK5tzBOr
 c2K7WIv5MQRPWvkhMzW4YcyAHGXf7mL7QxED3lkj5NoV4NT1lxwcXLICF8jOXgTN6v0v
 VbcQ==
X-Gm-Message-State: AOJu0YzA17lRCunDO65QZSQUVQjxVgn8zTVb9VvslokF16ClRdrXUgw/
 ik8ZtOey1EEjJxKtHaEj/vhkFM5XzE6bb0PLgzqiXTcVpeGY20yNlzh4VyESgtrXrYGgdolEbJ9
 OTz9GyiXk2DL9iMTa9EJUB2HX7TPhHcHXrFYsRGxw
X-Google-Smtp-Source: AGHT+IFR7RmUtAMZwiY65wvO8Je2M6nF/npH+tpdhuxhwlvdaURRuKV2OYrJJottlbV3rsOqVm413j0nN9uN
X-Received: by 2002:a05:6602:6b07:b0:7f9:beb8:7952 with SMTP id
 ca18e2360f4ac-81f7e4c7336mr150731739f.13.1721895750790; 
 Thu, 25 Jul 2024 01:22:30 -0700 (PDT)
Received: from postal.iol.unh.edu (postal.iol.unh.edu. [132.177.123.84])
 by smtp-relay.gmail.com with ESMTPS id
 8926c6da1cb9f-4c29faa4b6bsm61883173.25.2024.07.25.01.22.30
 (version=TLS1_2 cipher=ECDHE-ECDSA-AES128-GCM-SHA256 bits=128/128);
 Thu, 25 Jul 2024 01:22:30 -0700 (PDT)
X-Relaying-Domain: iol.unh.edu
Date: Thu, 25 Jul 2024 01:22:30 -0700 (PDT)
Message-ID: <66a20b46.050a0220.85db9.25bbSMTPIN_ADDED_MISSING@mx.google.com>
Received: from [172.17.0.3] (unknown [172.18.0.217])
 by postal.iol.unh.edu (Postfix) with ESMTP id 41BE560524C8;
 Thu, 25 Jul 2024 04:22:30 -0400 (EDT)
Subject: |PENDING| pw142707-142709 [PATCH] [v4,3/3] test-pmd: add more packet
From: dpdklab@iol.unh.edu
To: Test Report <test-report@dpdk.org>
Cc: dpdk-test-reports@iol.unh.edu
In-Reply-To: <20240724184741.150763-4-stephen@networkplumber.org>
References: <20240724184741.150763-4-stephen@networkplumber.org>
Content-Type: text/plain
X-BeenThere: test-report@dpdk.org
X-Mailman-Version: 2.1.29
Precedence: list
List-Id: automatic DPDK test reports <test-report.dpdk.org>
List-Unsubscribe: <https://mails.dpdk.org/options/test-report>,
 <mailto:test-report-request@dpdk.org?subject=unsubscribe>
List-Archive: <http://mails.dpdk.org/archives/test-report/>
List-Post: <mailto:test-report@dpdk.org>
List-Help: <mailto:test-report-request@dpdk.org?subject=help>
List-Subscribe: <https://mails.dpdk.org/listinfo/test-report>,
 <mailto:test-report-request@dpdk.org?subject=subscribe>
Errors-To: test-report-bounces@dpdk.org

Test-Label: iol-unit-arm64-testing
Test-Status: PENDING
http://dpdk.org/patch/142709

_Testing pending_

Submitter: Stephen Hemminger <stephen@networkplumber.org>
Date: Wednesday, July 24 2024 18:46:14 
DPDK git baseline: Repo:dpdk
  Branch: master
  CommitID:82c47f005b9a0a1e3a649664b7713443d18abe43

142707-142709 --> testing pending

Upstream job id: Generic-Unit-Test-DPDK#244610

Test environment and result as below:

+--------------------------+----------------+
|       Environment        | dpdk_unit_test |
+==========================+================+
| CentOS Stream 9 (ARM)    | PASS           |
+--------------------------+----------------+
| Debian 11 (Buster) (ARM) | PASS           |
+--------------------------+----------------+
| Debian 12 (arm)          | PASS           |
+--------------------------+----------------+
| Fedora 37 (ARM)          | PASS           |
+--------------------------+----------------+
| Fedora 38 (ARM)          | PASS           |
+--------------------------+----------------+
| Fedora 38 (ARM Clang)    | PEND           |
+--------------------------+----------------+
| Fedora 39 (ARM)          | PEND           |
+--------------------------+----------------+
| Fedora 40 (ARM Clang)    | PEND           |
+--------------------------+----------------+
| Fedora 40 (ARM)          | PEND           |
+--------------------------+----------------+
| Fedora 39 (ARM Clang)    | PEND           |
+--------------------------+----------------+


CentOS Stream 9 (ARM)
	Kernel: Container Host Kernel
	Compiler: gcc 11.4.1

Debian 11 (Buster) (ARM)
	Kernel: Container Host Kernel
	Compiler: gcc 10.2.1

Debian 12 (arm)
	Kernel: Container Host Kernel
	Compiler: gcc 12.2.0

Fedora 37 (ARM)
	Kernel: Depends on container host
	Compiler: gcc 12.3.1

Fedora 38 (ARM)
	Kernel: Depends on container host
	Compiler: gcc 13.2.1

Fedora 38 (ARM Clang)
	Kernel: Depends on container host
	Compiler: clang 16.0.6

Fedora 39 (ARM)
	Kernel: Depends on container host
	Compiler: gcc 13.2.1

Fedora 40 (ARM Clang)
	Kernel: Depends on container host
	Compiler: clang 18.1.6

Fedora 40 (ARM)
	Kernel: Depends on container host
	Compiler: gcc 14.1.1

Fedora 39 (ARM Clang)
	Kernel: Depends on container host
	Compiler: clang 17.0.6

To view detailed results, visit:
https://lab.dpdk.org/results/dashboard/patchsets/30615/

UNH-IOL DPDK Community Lab

To manage your email subscriptions, visit: 
https://lab.dpdk.org/results/dashboard/preferences/subscriptions/