From mboxrd@z Thu Jan  1 00:00:00 1970
Return-Path: <test-report-bounces@dpdk.org>
Received: from mails.dpdk.org (mails.dpdk.org [217.70.189.124])
	by inbox.dpdk.org (Postfix) with ESMTP id 8C702456B3
	for <public@inbox.dpdk.org>; Thu, 25 Jul 2024 11:06:28 +0200 (CEST)
Received: from mails.dpdk.org (localhost [127.0.0.1])
	by mails.dpdk.org (Postfix) with ESMTP id 4DB7E4349B;
	Thu, 25 Jul 2024 11:06:28 +0200 (CEST)
Received: from mail-vk1-f225.google.com (mail-vk1-f225.google.com
 [209.85.221.225])
 by mails.dpdk.org (Postfix) with ESMTP id 3A97B40DD7
 for <test-report@dpdk.org>; Thu, 25 Jul 2024 11:06:15 +0200 (CEST)
Received: by mail-vk1-f225.google.com with SMTP id
 71dfb90a1353d-4f52a3938bbso305269e0c.0
 for <test-report@dpdk.org>; Thu, 25 Jul 2024 02:06:15 -0700 (PDT)
DKIM-Signature: v=1; a=rsa-sha256; c=relaxed/relaxed;
 d=iol.unh.edu; s=unh-iol; t=1721898374; x=1722503174; darn=dpdk.org;
 h=references:in-reply-to:cc:to:from:subject:message-id:date:from:to
 :cc:subject:date:message-id:reply-to;
 bh=FHb6oJA9Soa/38fsDXiAFW9qc+gSQGYrtmg+f5MFszc=;
 b=auVwFjht6w2CwddjRSIv8LraydAB54lyyqgLPMDfET0O6+C6xvPeELbTJcOLOid+36
 d7iHFwxKz0LdVcBS+BlDtfA+Gt6F0M/qEEfQQ/P6l8B+GiYDEcgkQFLkbYrZe4yJ1miV
 Y4z+VvhoodgzKFNT3kfWpjDzPWjwIwP6DMfvI=
X-Google-DKIM-Signature: v=1; a=rsa-sha256; c=relaxed/relaxed;
 d=1e100.net; s=20230601; t=1721898374; x=1722503174;
 h=references:in-reply-to:cc:to:from:subject:message-id:date
 :x-gm-message-state:from:to:cc:subject:date:message-id:reply-to;
 bh=FHb6oJA9Soa/38fsDXiAFW9qc+gSQGYrtmg+f5MFszc=;
 b=CgbO7KZGVVN3k+Ai9pvD2fDUQM0MWtBpQcvjTN9rw6aLyTVIspyKcPXsaodKvqLzBq
 NK/eQmTc51vAOFvO9ojNyW8dXbeCOEYusOmcTQnuomDjBWjuRk59cu1Z4K4/JcNtSvEo
 7IwFxAUccZixZnN5A5tg9qc0hSY+GYIGLvxBTWfVE37zotUhxPcdVYPnac7KUGRZ3Caf
 H3JO428Zf0M/k5wKLM9Wl80nCtCwQYGmZWlA2KamYJnB5QFGd2bC++2+RDyAHxqhkC5O
 eEcG6zc6/1eZl++Z4Jb7fdMbz5eb0CJOPaSoRK4TeOpAqm93HFFUsOf7OXxoIz/stGIF
 uj/w==
X-Gm-Message-State: AOJu0YzK3BPN5OSb3p+ILTmeB6gZtnv7AwPET4OIoSGJR96U/rtzjRi4
 Xe74Uap1fZvPas0WN7GzUG9H2eCzIrRmD+4UDOctJ4DVvNxDVgfJ/7/tUA3tm5/kR88f6oZlXCZ
 S+5iEcvrCoH9UAqdfivoInGMtqM/vvkBVstIEvB96S1tJsQ7g9yWffrsf
X-Google-Smtp-Source: AGHT+IHsBgshelzlztbtVK6n1tt42y/awI2ufPuhkwrgau5WLtqBGi1v7php8jiscModTYwZpGLQbkpxaj/d
X-Received: by 2002:a05:6122:2086:b0:4f2:a973:8ae with SMTP id
 71dfb90a1353d-4f6c5b6c781mr2884804e0c.5.1721898374546; 
 Thu, 25 Jul 2024 02:06:14 -0700 (PDT)
Received: from postal.iol.unh.edu (postal.iol.unh.edu.
 [2606:4100:3880:1234::84]) by smtp-relay.gmail.com with ESMTPS id
 71dfb90a1353d-4f6c8961f7csm100522e0c.10.2024.07.25.02.06.14
 (version=TLS1_2 cipher=ECDHE-ECDSA-AES128-GCM-SHA256 bits=128/128);
 Thu, 25 Jul 2024 02:06:14 -0700 (PDT)
X-Relaying-Domain: iol.unh.edu
Date: Thu, 25 Jul 2024 02:06:14 -0700 (PDT)
Message-ID: <66a21586.050a0220.85d44.3865SMTPIN_ADDED_MISSING@mx.google.com>
Received: from [172.17.0.4] (unknown [172.18.0.217])
 by postal.iol.unh.edu (Postfix) with ESMTP id 328EF60524C8;
 Thu, 25 Jul 2024 05:06:14 -0400 (EDT)
Subject: |PENDING| pw142707-142709 [PATCH] [v4,3/3] test-pmd: add more packet
From: dpdklab@iol.unh.edu
To: Test Report <test-report@dpdk.org>
Cc: dpdk-test-reports@iol.unh.edu
In-Reply-To: <20240724184741.150763-4-stephen@networkplumber.org>
References: <20240724184741.150763-4-stephen@networkplumber.org>
Content-Type: text/plain
X-BeenThere: test-report@dpdk.org
X-Mailman-Version: 2.1.29
Precedence: list
List-Id: automatic DPDK test reports <test-report.dpdk.org>
List-Unsubscribe: <https://mails.dpdk.org/options/test-report>,
 <mailto:test-report-request@dpdk.org?subject=unsubscribe>
List-Archive: <http://mails.dpdk.org/archives/test-report/>
List-Post: <mailto:test-report@dpdk.org>
List-Help: <mailto:test-report-request@dpdk.org?subject=help>
List-Subscribe: <https://mails.dpdk.org/listinfo/test-report>,
 <mailto:test-report-request@dpdk.org?subject=subscribe>
Errors-To: test-report-bounces@dpdk.org

Test-Label: iol-compile-arm64-testing
Test-Status: PENDING
http://dpdk.org/patch/142709

_Testing pending_

Submitter: Stephen Hemminger <stephen@networkplumber.org>
Date: Wednesday, July 24 2024 18:46:14 
DPDK git baseline: Repo:dpdk
  Branch: master
  CommitID:82c47f005b9a0a1e3a649664b7713443d18abe43

142707-142709 --> testing pending

Upstream job id: Generic-DPDK-Compile-Meson#279645

Test environment and result as below:

+------------------------------------+--------------------+
|            Environment             | dpdk_meson_compile |
+====================================+====================+
| RHEL9 (ARM)                        | PEND               |
+------------------------------------+--------------------+
| Ubuntu 20.04 ARM GCC Cross Compile | PASS               |
+------------------------------------+--------------------+
| Ubuntu 20.04 ARM SVE               | PASS               |
+------------------------------------+--------------------+
| Debian 12 with MUSDK               | PASS               |
+------------------------------------+--------------------+
| Fedora 37 (ARM)                    | PEND               |
+------------------------------------+--------------------+
| Fedora 38 (ARM)                    | PEND               |
+------------------------------------+--------------------+
| Fedora 38 (ARM Clang)              | PEND               |
+------------------------------------+--------------------+
| Fedora 39 (ARM)                    | PEND               |
+------------------------------------+--------------------+
| Fedora 39 (ARM Clang)              | PEND               |
+------------------------------------+--------------------+


RHEL9 (ARM)
	Kernel: Depends on container host
	Compiler: gcc 11.4.1

Ubuntu 20.04 ARM GCC Cross Compile
	Kernel: 5.4.0-167-generic
	Compiler: aarch64-linux-gnu-gcc (Ubuntu 9.4.0-1ubuntu1~20.04.2) 9.4.0

Ubuntu 20.04 ARM SVE
	Kernel: 5.4.0-167-generic
	Compiler: gcc (Ubuntu 10.5.0-1ubuntu1~20.04) 10.5.0

Debian 12 with MUSDK
	Kernel: Container Host Kernel
	Compiler: gcc 12.2.0

Fedora 37 (ARM)
	Kernel: Depends on container host
	Compiler: gcc 12.3.1

Fedora 38 (ARM)
	Kernel: Depends on container host
	Compiler: gcc 13.2.1

Fedora 38 (ARM Clang)
	Kernel: Depends on container host
	Compiler: clang 16.0.6

Fedora 39 (ARM)
	Kernel: Depends on container host
	Compiler: gcc 13.2.1

Fedora 39 (ARM Clang)
	Kernel: Depends on container host
	Compiler: clang 17.0.6

To view detailed results, visit:
https://lab.dpdk.org/results/dashboard/patchsets/30615/

UNH-IOL DPDK Community Lab

To manage your email subscriptions, visit: 
https://lab.dpdk.org/results/dashboard/preferences/subscriptions/