From mboxrd@z Thu Jan  1 00:00:00 1970
Return-Path: <test-report-bounces@dpdk.org>
Received: from mails.dpdk.org (mails.dpdk.org [217.70.189.124])
	by inbox.dpdk.org (Postfix) with ESMTP id DCB8B456B3
	for <public@inbox.dpdk.org>; Thu, 25 Jul 2024 11:11:54 +0200 (CEST)
Received: from mails.dpdk.org (localhost [127.0.0.1])
	by mails.dpdk.org (Postfix) with ESMTP id C8EAB40DD7;
	Thu, 25 Jul 2024 11:11:54 +0200 (CEST)
Received: from mail-qv1-f100.google.com (mail-qv1-f100.google.com
 [209.85.219.100])
 by mails.dpdk.org (Postfix) with ESMTP id E9DF740648
 for <test-report@dpdk.org>; Thu, 25 Jul 2024 11:11:38 +0200 (CEST)
Received: by mail-qv1-f100.google.com with SMTP id
 6a1803df08f44-6b7a3e4686eso4719316d6.1
 for <test-report@dpdk.org>; Thu, 25 Jul 2024 02:11:38 -0700 (PDT)
DKIM-Signature: v=1; a=rsa-sha256; c=relaxed/relaxed;
 d=iol.unh.edu; s=unh-iol; t=1721898698; x=1722503498; darn=dpdk.org;
 h=references:in-reply-to:cc:to:from:subject:message-id:date:from:to
 :cc:subject:date:message-id:reply-to;
 bh=5klzB42Pv2Xv10JXHWspE/OChr5jRpGLXi2Pd6HJi/8=;
 b=jJdKYQxci/3GfotJI41qqMvr5Gg3vCMzbb4iVZibJmAKV1N76k0idZDPe+dZt6vmAb
 DJ/RVimBiNjKnzBd+/WM+1yEPu4jg0ZQdpkA1nvLZ8V7GCb98k63FuhPmtje5s10DkZx
 V8W8A0W6vzDfoCKAeJ+PmiZWa7jrdJs1vvNFU=
X-Google-DKIM-Signature: v=1; a=rsa-sha256; c=relaxed/relaxed;
 d=1e100.net; s=20230601; t=1721898698; x=1722503498;
 h=references:in-reply-to:cc:to:from:subject:message-id:date
 :x-gm-message-state:from:to:cc:subject:date:message-id:reply-to;
 bh=5klzB42Pv2Xv10JXHWspE/OChr5jRpGLXi2Pd6HJi/8=;
 b=XQhKP4IR9A6DAD6ThFSjaR+hxH/7p4HMUv6+POdIsy8XpkK57NPc+fdHInBAFqN1RW
 K8JG0sWC9M62bB1/v28w8AT9WrX2AIh6H14wMBURB9ndQB+QJRV6n7gRBXyq4lB4ptut
 ci2Sfr78AicBoi27Ro1U+w6Z5TwYBFNjicwlawi+1ztOIhfbGOJ8JXt1QiwJNsWIAeyW
 YNihpElWJkbKYYocNjz1kTk3WzY9rse6E2IBtAoXYQ3/GPhUXzLmISpOmRezg2KLAeIN
 fEPZ6QZ/0tfCh0VjYX+hECLlIQjaDNw7HNJgwW+83FmQzSwxLnrvlhGJ/jDzY7MSHBiU
 VALw==
X-Gm-Message-State: AOJu0YzuzYoQV+mkHxBX6nPRH8NSHxS1+sQUadROVvtfALWd3wEqiCD2
 U+Eps9eqjPOK0869jvw+eDIUrxiubEsalo5iWEqa1TTzUPXF44Q9NTUcGcJY8bmsGZwZdK/YR0+
 +MkxW6YB+djjqVcKlbyXrFWPTf/4YpWK2DtVbRNLTAi6PuytEci40zJp+
X-Google-Smtp-Source: AGHT+IGuik5zDB41rEVNberVcPa5wMVlvxu2kuz63OAhxFOAq9T/OAzWo1CwkklR51J4FjoN8C4YZ6VO5mYC
X-Received: by 2002:a05:6214:20c2:b0:6b5:79:ff08 with SMTP id
 6a1803df08f44-6bb406d100emr18448606d6.6.1721898698124; 
 Thu, 25 Jul 2024 02:11:38 -0700 (PDT)
Received: from postal.iol.unh.edu (postal.iol.unh.edu.
 [2606:4100:3880:1234::84]) by smtp-relay.gmail.com with ESMTPS id
 6a1803df08f44-6bb3f8dda21sm783586d6.6.2024.07.25.02.11.38
 (version=TLS1_2 cipher=ECDHE-ECDSA-AES128-GCM-SHA256 bits=128/128);
 Thu, 25 Jul 2024 02:11:38 -0700 (PDT)
X-Relaying-Domain: iol.unh.edu
Date: Thu, 25 Jul 2024 02:11:38 -0700 (PDT)
Message-ID: <66a216ca.050a0220.ff59.2f15SMTPIN_ADDED_MISSING@mx.google.com>
Received: from [172.17.0.2] (unknown [172.18.0.217])
 by postal.iol.unh.edu (Postfix) with ESMTP id D96EF60524C8;
 Thu, 25 Jul 2024 05:11:37 -0400 (EDT)
Subject: |PENDING| pw142707-142709 [PATCH] [v4,3/3] test-pmd: add more packet
From: dpdklab@iol.unh.edu
To: Test Report <test-report@dpdk.org>
Cc: dpdk-test-reports@iol.unh.edu
In-Reply-To: <20240724184741.150763-4-stephen@networkplumber.org>
References: <20240724184741.150763-4-stephen@networkplumber.org>
Content-Type: text/plain
X-BeenThere: test-report@dpdk.org
X-Mailman-Version: 2.1.29
Precedence: list
List-Id: automatic DPDK test reports <test-report.dpdk.org>
List-Unsubscribe: <https://mails.dpdk.org/options/test-report>,
 <mailto:test-report-request@dpdk.org?subject=unsubscribe>
List-Archive: <http://mails.dpdk.org/archives/test-report/>
List-Post: <mailto:test-report@dpdk.org>
List-Help: <mailto:test-report-request@dpdk.org?subject=help>
List-Subscribe: <https://mails.dpdk.org/listinfo/test-report>,
 <mailto:test-report-request@dpdk.org?subject=subscribe>
Errors-To: test-report-bounces@dpdk.org

Test-Label: iol-compile-arm64-testing
Test-Status: PENDING
http://dpdk.org/patch/142709

_Testing pending_

Submitter: Stephen Hemminger <stephen@networkplumber.org>
Date: Wednesday, July 24 2024 18:46:14 
DPDK git baseline: Repo:dpdk
  Branch: master
  CommitID:82c47f005b9a0a1e3a649664b7713443d18abe43

142707-142709 --> testing pending

Upstream job id: Generic-DPDK-Compile-Meson#279647

Test environment and result as below:

+------------------------------------+--------------------+
|            Environment             | dpdk_meson_compile |
+====================================+====================+
| RHEL9 (ARM)                        | PASS               |
+------------------------------------+--------------------+
| Ubuntu 20.04 ARM GCC Cross Compile | PASS               |
+------------------------------------+--------------------+
| Ubuntu 20.04 ARM SVE               | PASS               |
+------------------------------------+--------------------+
| Debian 12 with MUSDK               | PASS               |
+------------------------------------+--------------------+
| Fedora 37 (ARM)                    | PASS               |
+------------------------------------+--------------------+
| Fedora 38 (ARM)                    | PASS               |
+------------------------------------+--------------------+
| Fedora 38 (ARM Clang)              | PEND               |
+------------------------------------+--------------------+
| Fedora 39 (ARM)                    | PEND               |
+------------------------------------+--------------------+
| Fedora 39 (ARM Clang)              | PEND               |
+------------------------------------+--------------------+
| Fedora 40 (ARM)                    | PEND               |
+------------------------------------+--------------------+
| Fedora 40 (ARM Clang)              | PEND               |
+------------------------------------+--------------------+
| Ubuntu 20.04 (ARM)                 | PEND               |
+------------------------------------+--------------------+
| Ubuntu 22.04 (ARM)                 | PEND               |
+------------------------------------+--------------------+
| Ubuntu 24.04 (ARM)                 | PEND               |
+------------------------------------+--------------------+


RHEL9 (ARM)
	Kernel: Depends on container host
	Compiler: gcc 11.4.1

Ubuntu 20.04 ARM GCC Cross Compile
	Kernel: 5.4.0-167-generic
	Compiler: aarch64-linux-gnu-gcc (Ubuntu 9.4.0-1ubuntu1~20.04.2) 9.4.0

Ubuntu 20.04 ARM SVE
	Kernel: 5.4.0-167-generic
	Compiler: gcc (Ubuntu 10.5.0-1ubuntu1~20.04) 10.5.0

Debian 12 with MUSDK
	Kernel: Container Host Kernel
	Compiler: gcc 12.2.0

Fedora 37 (ARM)
	Kernel: Depends on container host
	Compiler: gcc 12.3.1

Fedora 38 (ARM)
	Kernel: Depends on container host
	Compiler: gcc 13.2.1

Fedora 38 (ARM Clang)
	Kernel: Depends on container host
	Compiler: clang 16.0.6

Fedora 39 (ARM)
	Kernel: Depends on container host
	Compiler: gcc 13.2.1

Fedora 39 (ARM Clang)
	Kernel: Depends on container host
	Compiler: clang 17.0.6

Fedora 40 (ARM)
	Kernel: Depends on container host
	Compiler: gcc 14.1.1

Fedora 40 (ARM Clang)
	Kernel: Depends on container host
	Compiler: clang 18.1.6

Ubuntu 20.04 (ARM)
	Kernel: Container Host Kernel
	Compiler: gcc 9.4.0

Ubuntu 22.04 (ARM)
	Kernel: Container Host Kernel
	Compiler: gcc 11.4.0

Ubuntu 24.04 (ARM)
	Kernel: 5.4.0-167-generic
	Compiler: gcc 13.2.0

To view detailed results, visit:
https://lab.dpdk.org/results/dashboard/patchsets/30615/

UNH-IOL DPDK Community Lab

To manage your email subscriptions, visit: 
https://lab.dpdk.org/results/dashboard/preferences/subscriptions/