From mboxrd@z Thu Jan  1 00:00:00 1970
Return-Path: <test-report-bounces@dpdk.org>
Received: from mails.dpdk.org (mails.dpdk.org [217.70.189.124])
	by inbox.dpdk.org (Postfix) with ESMTP id 1D7C3456B3
	for <public@inbox.dpdk.org>; Thu, 25 Jul 2024 11:30:37 +0200 (CEST)
Received: from mails.dpdk.org (localhost [127.0.0.1])
	by mails.dpdk.org (Postfix) with ESMTP id 1716240DD7;
	Thu, 25 Jul 2024 11:30:37 +0200 (CEST)
Received: from mail-qv1-f98.google.com (mail-qv1-f98.google.com
 [209.85.219.98]) by mails.dpdk.org (Postfix) with ESMTP id 1E6D440648
 for <test-report@dpdk.org>; Thu, 25 Jul 2024 11:30:36 +0200 (CEST)
Received: by mail-qv1-f98.google.com with SMTP id
 6a1803df08f44-6b79c969329so3893696d6.0
 for <test-report@dpdk.org>; Thu, 25 Jul 2024 02:30:36 -0700 (PDT)
DKIM-Signature: v=1; a=rsa-sha256; c=relaxed/relaxed;
 d=iol.unh.edu; s=unh-iol; t=1721899835; x=1722504635; darn=dpdk.org;
 h=references:in-reply-to:cc:to:from:subject:message-id:date:from:to
 :cc:subject:date:message-id:reply-to;
 bh=R2bJvgagQfZ5YjH5L5lKQp3emZ1qEMcMdWjHGlaO5iw=;
 b=jgvhv2zoV9M7fZkCi5j1bBdhlt4s+ep7uMY+l+HXj2jIh2SNAZlKPqWh7TYxWGPziN
 YFtLT0AOs7/MAC6+gmPk8ITY71Jkc+zy3FqHF2xRB2vXCL6rqUhH3pSUzULkNVF0Tjx6
 THh3geD42brvpVTL6IrDYZ89uLmBpdqXh/o6w=
X-Google-DKIM-Signature: v=1; a=rsa-sha256; c=relaxed/relaxed;
 d=1e100.net; s=20230601; t=1721899835; x=1722504635;
 h=references:in-reply-to:cc:to:from:subject:message-id:date
 :x-gm-message-state:from:to:cc:subject:date:message-id:reply-to;
 bh=R2bJvgagQfZ5YjH5L5lKQp3emZ1qEMcMdWjHGlaO5iw=;
 b=m6V7dkntgmtNyC6gsc7L9FRX1oddfyCriP3mMOiY/NA4mwNLdFgGiPkrX6V38ESbeB
 Z2WC5cIMLguE9OYjNWYagnUKtkQG/vBpcwd7s2yM5bGU7+8uHycSu4VfpibAbVums64m
 pq8y/tBBjbqTz1FsogUgjNLPOXjFSYPX9WxmKsvyfemBdLnJANMzyJj14qVjPutuixKs
 KcxoXTIBhzy8so6nZHi4wdGz8LopBxp74mD0uCWx/8u70Bfdy24t05f+yr9D7B91uNwN
 x8ohrGrZU2toRC7VC4eSY9ekb+ucJcuVhfPJCElN3Gqpps48owHxdKi087P89jVQcgGD
 FGCQ==
X-Gm-Message-State: AOJu0YxxM7nRV3PK60c1fJxsYNutXrLzA9wKy9VG5VdAbv8xGi/pARin
 IJSzTMJAUFwy6Jh3PELy/iX4txojkQtnsaOfl8zzdsYTBh/eZJs9heP2xFw7yEX3/r7uQhR37eH
 MhSmBjZaMt2jQns5bE/IVImcD5DNqqR2FJhM45utwZ1BXqvctSb05TFcZ
X-Google-Smtp-Source: AGHT+IEYJCfLKpzTkCNwXi1NV0xyIBM9H+J4UtRRaU25K1emKgNUBcCf3dZYham6jMqB/LocEiJJKQCunF5b
X-Received: by 2002:a05:6214:40c:b0:6b7:b197:c825 with SMTP id
 6a1803df08f44-6bb4071c692mr14320976d6.14.1721899835450; 
 Thu, 25 Jul 2024 02:30:35 -0700 (PDT)
Received: from postal.iol.unh.edu (postal.iol.unh.edu.
 [2606:4100:3880:1234::84]) by smtp-relay.gmail.com with ESMTPS id
 6a1803df08f44-6bb3f8fe4c3sm829206d6.23.2024.07.25.02.30.35
 (version=TLS1_2 cipher=ECDHE-ECDSA-AES128-GCM-SHA256 bits=128/128);
 Thu, 25 Jul 2024 02:30:35 -0700 (PDT)
X-Relaying-Domain: iol.unh.edu
Date: Thu, 25 Jul 2024 02:30:35 -0700 (PDT)
Message-ID: <66a21b3b.0c0a0220.7f014.3319SMTPIN_ADDED_MISSING@mx.google.com>
Received: from [172.17.0.3] (unknown [172.18.0.217])
 by postal.iol.unh.edu (Postfix) with ESMTP id 1A78A60524C8;
 Thu, 25 Jul 2024 05:30:35 -0400 (EDT)
Subject: |PENDING| pw142704-142706 [PATCH] [v6,3/3] dts: Improve logging for 
From: dpdklab@iol.unh.edu
To: Test Report <test-report@dpdk.org>
Cc: dpdk-test-reports@iol.unh.edu
In-Reply-To: <20240724183914.436188-4-jspewock@iol.unh.edu>
References: <20240724183914.436188-4-jspewock@iol.unh.edu>
Content-Type: text/plain
X-BeenThere: test-report@dpdk.org
X-Mailman-Version: 2.1.29
Precedence: list
List-Id: automatic DPDK test reports <test-report.dpdk.org>
List-Unsubscribe: <https://mails.dpdk.org/options/test-report>,
 <mailto:test-report-request@dpdk.org?subject=unsubscribe>
List-Archive: <http://mails.dpdk.org/archives/test-report/>
List-Post: <mailto:test-report@dpdk.org>
List-Help: <mailto:test-report-request@dpdk.org?subject=help>
List-Subscribe: <https://mails.dpdk.org/listinfo/test-report>,
 <mailto:test-report-request@dpdk.org?subject=subscribe>
Errors-To: test-report-bounces@dpdk.org

Test-Label: iol-unit-amd64-testing
Test-Status: PENDING
http://dpdk.org/patch/142706

_Testing pending_

Submitter: Jeremy Spewock <jspewock@iol.unh.edu>
Date: Wednesday, July 24 2024 18:39:14 
DPDK git baseline: Repo:dpdk
  Branch: master
  CommitID:82c47f005b9a0a1e3a649664b7713443d18abe43

142704-142706 --> testing pending

Upstream job id: Generic-Unit-Test-DPDK#244643

Test environment and result as below:

+-------------------+----------------+
|    Environment    | dpdk_unit_test |
+===================+================+
| CentOS Stream 8   | PASS           |
+-------------------+----------------+
| CentOS Stream 9   | PASS           |
+-------------------+----------------+
| Debian Bullseye   | PASS           |
+-------------------+----------------+
| Debian 12         | PASS           |
+-------------------+----------------+
| Fedora 37         | PASS           |
+-------------------+----------------+
| Fedora 38         | PASS           |
+-------------------+----------------+
| Fedora 38 (Clang) | PEND           |
+-------------------+----------------+
| Fedora 39         | PEND           |
+-------------------+----------------+
| Fedora 39 (Clang) | PEND           |
+-------------------+----------------+
| Fedora 40         | PEND           |
+-------------------+----------------+
| Fedora 40 (Clang) | PEND           |
+-------------------+----------------+
| openSUSE Leap 15  | PEND           |
+-------------------+----------------+
| RHEL9             | PEND           |
+-------------------+----------------+
| Ubuntu 20.04      | PEND           |
+-------------------+----------------+


CentOS Stream 8
	Kernel: 5.4.0-167-generic
	Compiler: gcc 8.5.0 20210514

CentOS Stream 9
	Kernel: 5.4.0-167-generic
	Compiler: gcc 11.4.1 20230605

Debian Bullseye
	Kernel: 5.4.0-167-generic
	Compiler: gcc 10.2.1-6

Debian 12
	Kernel: Container Host Kernel
	Compiler: gcc 12.2.0

Fedora 37
	Kernel: Depends on container host system
	Compiler: gcc 12.3.1

Fedora 38
	Kernel: Depends on container host
	Compiler: gcc 13.2.1

Fedora 38 (Clang)
	Kernel: Depends on container host
	Compiler: clang 16.0.6

Fedora 39
	Kernel: Depends on container host
	Compiler: gcc 13.2.1

Fedora 39 (Clang)
	Kernel: Depends on container host
	Compiler: clang 17.0.6

Fedora 40
	Kernel: Depends on container host
	Compiler: gcc 14.1.1

Fedora 40 (Clang)
	Kernel: Depends on container host
	Compiler: clang 18.1.6

openSUSE Leap 15
	Kernel: 5.4.0-167-generic
	Compiler: gcc 7.5.0

RHEL9
	Kernel: Depends on container host
	Compiler: gcc 11.4.1

Ubuntu 20.04
	Kernel: 5.4.0-167-generic
	Compiler: gcc 9.4.0-1ubuntu1~20.04.1

To view detailed results, visit:
https://lab.dpdk.org/results/dashboard/patchsets/30614/

UNH-IOL DPDK Community Lab

To manage your email subscriptions, visit: 
https://lab.dpdk.org/results/dashboard/preferences/subscriptions/