From mboxrd@z Thu Jan  1 00:00:00 1970
Return-Path: <test-report-bounces@dpdk.org>
Received: from mails.dpdk.org (mails.dpdk.org [217.70.189.124])
	by inbox.dpdk.org (Postfix) with ESMTP id 281AE456B3
	for <public@inbox.dpdk.org>; Thu, 25 Jul 2024 11:33:47 +0200 (CEST)
Received: from mails.dpdk.org (localhost [127.0.0.1])
	by mails.dpdk.org (Postfix) with ESMTP id 23B9C40DD7;
	Thu, 25 Jul 2024 11:33:47 +0200 (CEST)
Received: from mail-pf1-f228.google.com (mail-pf1-f228.google.com
 [209.85.210.228])
 by mails.dpdk.org (Postfix) with ESMTP id 9635540648
 for <test-report@dpdk.org>; Thu, 25 Jul 2024 11:33:46 +0200 (CEST)
Received: by mail-pf1-f228.google.com with SMTP id
 d2e1a72fcca58-70d18112b60so538373b3a.1
 for <test-report@dpdk.org>; Thu, 25 Jul 2024 02:33:46 -0700 (PDT)
DKIM-Signature: v=1; a=rsa-sha256; c=relaxed/relaxed;
 d=iol.unh.edu; s=unh-iol; t=1721900026; x=1722504826; darn=dpdk.org;
 h=references:in-reply-to:cc:to:from:subject:message-id:date:from:to
 :cc:subject:date:message-id:reply-to;
 bh=49jDGVJYMy7lEkqWsy5SrrQ2RJgro+TfZDCgB/8sUUw=;
 b=DaOcvqhbZSDxu2p2Q5Zal/Oy9L6ypmGSKfQHZlnrlssRrtPsXmF14mJLsc6oAsxv+H
 PDBr2wbQQx1VZ1s4Bt8fwDJmAI1tI2RtejEH4zRuFsoUEzKFSHSMb6Zp1powIGt1tr16
 +ZoYLRxaGbWeu5rHBdtykPOVyijxQdcw+rgLE=
X-Google-DKIM-Signature: v=1; a=rsa-sha256; c=relaxed/relaxed;
 d=1e100.net; s=20230601; t=1721900026; x=1722504826;
 h=references:in-reply-to:cc:to:from:subject:message-id:date
 :x-gm-message-state:from:to:cc:subject:date:message-id:reply-to;
 bh=49jDGVJYMy7lEkqWsy5SrrQ2RJgro+TfZDCgB/8sUUw=;
 b=Of3QjDdJCY0bvN5oBg3rVU/ZMrHyQAR6sb0tCNX4Nvtw7BUwnGjmsQGu6qwFg0p7a+
 E/RKUeq4g6dgxL0EjQ59EuPT07/MfV0MznFMEMPFe7SCyRY5g8oLLSZVLlpBuJ+Xqsz0
 k+HEi4A1gsRoCBq8fQzc/k2wudMSBoSC48HHN/p3hGpIJFQaV2vIIrePkC6CgaTqRL0f
 /zXL5ezMoccrvzmrORc3Ba27oU7cjOPbXPYxqTbg9JHHKLacYOdqg9xruyFifuTTPndh
 fZu+vbgsQzgmHZrIaU/pKS9J5B9N7pBcISouzLz0fugAbSWoXr1n6y91bRoV2nYIkFpU
 fXcQ==
X-Gm-Message-State: AOJu0YwFMDQm1dbG/GeUgL/y84qd+i33ilNcWKXurZXbFJ47scxhYyE7
 QdQ37Y2UiC+AT/+TdJqrclvDnYj2EANM/lYOw82IT7jG6oI0rj523wUym7yCe5ZEPgDM54XUW6p
 K3KYwBL2Zlb6grH+O+uUy/K0Tsekgaz8/n8v9DCX+
X-Google-Smtp-Source: AGHT+IFu2fag/88QZ/WwHbIcbmDxVIB8MTzt6hcuFM7PQ8cetIgq+WvY0tULBpSM6vnuewIWFwztdARixZj/
X-Received: by 2002:a05:6a00:94a2:b0:706:aa39:d5c1 with SMTP id
 d2e1a72fcca58-70eaa21879amr4192884b3a.8.1721900025737; 
 Thu, 25 Jul 2024 02:33:45 -0700 (PDT)
Received: from postal.iol.unh.edu (postal.iol.unh.edu. [132.177.123.84])
 by smtp-relay.gmail.com with ESMTPS id
 41be03b00d2f7-7a9f77996desm76015a12.6.2024.07.25.02.33.45
 (version=TLS1_2 cipher=ECDHE-ECDSA-AES128-GCM-SHA256 bits=128/128);
 Thu, 25 Jul 2024 02:33:45 -0700 (PDT)
X-Relaying-Domain: iol.unh.edu
Date: Thu, 25 Jul 2024 02:33:45 -0700 (PDT)
Message-ID: <66a21bf9.630a0220.39ce75.31e0SMTPIN_ADDED_MISSING@mx.google.com>
Received: from [172.17.0.3] (unknown [172.18.0.217])
 by postal.iol.unh.edu (Postfix) with ESMTP id ECB4C60524C8;
 Thu, 25 Jul 2024 05:33:44 -0400 (EDT)
Subject: |PENDING| pw142704-142706 [PATCH] [v6,3/3] dts: Improve logging for 
From: dpdklab@iol.unh.edu
To: Test Report <test-report@dpdk.org>
Cc: dpdk-test-reports@iol.unh.edu
In-Reply-To: <20240724183914.436188-4-jspewock@iol.unh.edu>
References: <20240724183914.436188-4-jspewock@iol.unh.edu>
Content-Type: text/plain
X-BeenThere: test-report@dpdk.org
X-Mailman-Version: 2.1.29
Precedence: list
List-Id: automatic DPDK test reports <test-report.dpdk.org>
List-Unsubscribe: <https://mails.dpdk.org/options/test-report>,
 <mailto:test-report-request@dpdk.org?subject=unsubscribe>
List-Archive: <http://mails.dpdk.org/archives/test-report/>
List-Post: <mailto:test-report@dpdk.org>
List-Help: <mailto:test-report-request@dpdk.org?subject=help>
List-Subscribe: <https://mails.dpdk.org/listinfo/test-report>,
 <mailto:test-report-request@dpdk.org?subject=subscribe>
Errors-To: test-report-bounces@dpdk.org

Test-Label: iol-unit-arm64-testing
Test-Status: PENDING
http://dpdk.org/patch/142706

_Testing pending_

Submitter: Jeremy Spewock <jspewock@iol.unh.edu>
Date: Wednesday, July 24 2024 18:39:14 
DPDK git baseline: Repo:dpdk
  Branch: master
  CommitID:82c47f005b9a0a1e3a649664b7713443d18abe43

142704-142706 --> testing pending

Upstream job id: Generic-Unit-Test-DPDK#244640

Test environment and result as below:

+-----------------------------+----------------+--------------+
|         Environment         | dpdk_unit_test | lpm_autotest |
+=============================+================+==============+
| CentOS Stream 9 (ARM)       | PASS           | SKIPPED      |
+-----------------------------+----------------+--------------+
| Debian 11 (Buster) (ARM)    | PASS           | SKIPPED      |
+-----------------------------+----------------+--------------+
| Fedora 37 (ARM)             | PASS           | SKIPPED      |
+-----------------------------+----------------+--------------+
| Debian 12 (arm)             | PASS           | SKIPPED      |
+-----------------------------+----------------+--------------+
| Fedora 38 (ARM)             | PEND           | SKIPPED      |
+-----------------------------+----------------+--------------+
| Fedora 38 (ARM Clang)       | PEND           | SKIPPED      |
+-----------------------------+----------------+--------------+
| Fedora 39 (ARM)             | PEND           | SKIPPED      |
+-----------------------------+----------------+--------------+
| Fedora 39 (ARM Clang)       | PEND           | SKIPPED      |
+-----------------------------+----------------+--------------+
| Fedora 40 (ARM)             | PEND           | SKIPPED      |
+-----------------------------+----------------+--------------+
| Fedora 40 (ARM Clang)       | PEND           | SKIPPED      |
+-----------------------------+----------------+--------------+
| RHEL9 (ARM)                 | PEND           | SKIPPED      |
+-----------------------------+----------------+--------------+
| Ubuntu 20.04 (ARM)          | PEND           | SKIPPED      |
+-----------------------------+----------------+--------------+
| Ubuntu 22.04 (ARM)          | PEND           | SKIPPED      |
+-----------------------------+----------------+--------------+
| Ubuntu 24.04 (ARM)          | PEND           | SKIPPED      |
+-----------------------------+----------------+--------------+
| 32-bit Ubuntu 20.04.4 (ARM) | PEND           | SKIPPED      |
+-----------------------------+----------------+--------------+
| Ubuntu 20.04 ARM SVE        | SKIPPED        | PEND         |
+-----------------------------+----------------+--------------+


CentOS Stream 9 (ARM)
	Kernel: Container Host Kernel
	Compiler: gcc 11.4.1

Debian 11 (Buster) (ARM)
	Kernel: Container Host Kernel
	Compiler: gcc 10.2.1

Fedora 37 (ARM)
	Kernel: Depends on container host
	Compiler: gcc 12.3.1

Debian 12 (arm)
	Kernel: Container Host Kernel
	Compiler: gcc 12.2.0

Fedora 38 (ARM)
	Kernel: Depends on container host
	Compiler: gcc 13.2.1

Fedora 38 (ARM Clang)
	Kernel: Depends on container host
	Compiler: clang 16.0.6

Fedora 39 (ARM)
	Kernel: Depends on container host
	Compiler: gcc 13.2.1

Fedora 39 (ARM Clang)
	Kernel: Depends on container host
	Compiler: clang 17.0.6

Fedora 40 (ARM)
	Kernel: Depends on container host
	Compiler: gcc 14.1.1

Fedora 40 (ARM Clang)
	Kernel: Depends on container host
	Compiler: clang 18.1.6

RHEL9 (ARM)
	Kernel: Depends on container host
	Compiler: gcc 11.4.1

Ubuntu 20.04 (ARM)
	Kernel: Container Host Kernel
	Compiler: gcc 9.4.0

Ubuntu 22.04 (ARM)
	Kernel: Container Host Kernel
	Compiler: gcc 11.4.0

Ubuntu 24.04 (ARM)
	Kernel: 5.4.0-167-generic
	Compiler: gcc 13.2.0

32-bit Ubuntu 20.04.4 (ARM)
	Kernel: 5.4.0-155-generic aarch64
	Compiler: gcc 9.4

Ubuntu 20.04 ARM SVE
	Kernel: 5.4.0-167-generic
	Compiler: gcc (Ubuntu 10.5.0-1ubuntu1~20.04) 10.5.0

To view detailed results, visit:
https://lab.dpdk.org/results/dashboard/patchsets/30614/

UNH-IOL DPDK Community Lab

To manage your email subscriptions, visit: 
https://lab.dpdk.org/results/dashboard/preferences/subscriptions/