From mboxrd@z Thu Jan  1 00:00:00 1970
Return-Path: <test-report-bounces@dpdk.org>
Received: from mails.dpdk.org (mails.dpdk.org [217.70.189.124])
	by inbox.dpdk.org (Postfix) with ESMTP id 2EE93456B3
	for <public@inbox.dpdk.org>; Thu, 25 Jul 2024 11:41:22 +0200 (CEST)
Received: from mails.dpdk.org (localhost [127.0.0.1])
	by mails.dpdk.org (Postfix) with ESMTP id 2A6B840DD7;
	Thu, 25 Jul 2024 11:41:22 +0200 (CEST)
Received: from mail-oa1-f99.google.com (mail-oa1-f99.google.com
 [209.85.160.99]) by mails.dpdk.org (Postfix) with ESMTP id D6B7040648
 for <test-report@dpdk.org>; Thu, 25 Jul 2024 11:40:45 +0200 (CEST)
Received: by mail-oa1-f99.google.com with SMTP id
 586e51a60fabf-250ca14422aso365118fac.0
 for <test-report@dpdk.org>; Thu, 25 Jul 2024 02:40:45 -0700 (PDT)
DKIM-Signature: v=1; a=rsa-sha256; c=relaxed/relaxed;
 d=iol.unh.edu; s=unh-iol; t=1721900445; x=1722505245; darn=dpdk.org;
 h=references:in-reply-to:cc:to:from:subject:message-id:date:from:to
 :cc:subject:date:message-id:reply-to;
 bh=GsxDwCVUqqLSbKA6Qd+LdtwiGuQqI8VnSL3miVa4uPw=;
 b=RfNkZXE7MPaSDEFTEzlEUPjRXgGfYyUCXDqRMLcsEHa8xSA/X8MevcZyMsX0VvKz+c
 gDVxkD15DHe94wR12ulXUNPVmN3IL1xZonj8IKx/2p1/IBMJoDaJ3ZDte5Lf+z4DVa/0
 deb4LXNJG8InBC4fULZIDMfkzVInvkT0w7ojE=
X-Google-DKIM-Signature: v=1; a=rsa-sha256; c=relaxed/relaxed;
 d=1e100.net; s=20230601; t=1721900445; x=1722505245;
 h=references:in-reply-to:cc:to:from:subject:message-id:date
 :x-gm-message-state:from:to:cc:subject:date:message-id:reply-to;
 bh=GsxDwCVUqqLSbKA6Qd+LdtwiGuQqI8VnSL3miVa4uPw=;
 b=Qoq3y4wVEfjipYNPBjuKEFUp7djJh8guSG97UuEpmzjanEO2E+L0f7wp4hx4D3pdac
 6jVk4wwisgi1N24lJ6RNiXiRnFIvoMFn+JtWMGXVq3zexx+x/1xk+sxtdhQih4uLodlc
 0YTSJWB8KV/dW+z/0FL3RCFZ3RwROzuTrqeAg/+cQNDWfJexuZMzbcMcP7VG1JZYUtrd
 cCG9QF+RkR/3aN+tw5x6jemGC5KwkKe4gWICBuiGRj4vnpGKm3Yy5YqZDI4Y45vSbDMR
 m3Jv6f8eqlo6Cqe89XDlNwbWndr7/ZqDBXmvng5es2AMWgk5OtrP0pQs8sbOHwn80tOi
 Z3KQ==
X-Gm-Message-State: AOJu0Yw5eZQu36xQfDGlCwyI7VYYARA+1vuVYw70sqEsrcsLCu4PWvoE
 xjQ6PSA+bq3ZezGcBDmi9FxAb72y22DCORFy3+mlAWws+skNAsTAdDvF5HLD9ZDMyr6PQeT+zpS
 Z2aDUaEuXhr88F3TF07OrGjFRNENQWKoxbz7rTdzgRp7cVhSBZhcq/KzA
X-Google-Smtp-Source: AGHT+IF84EHAE7NyVjBxCwXt5yOxLFFh4XZtdyfeoYTaPr1Gyo5z6rPaY5I1zfpMYDH2n9uGMGtvoMH0eYl5
X-Received: by 2002:a05:6870:9a23:b0:261:113c:1507 with SMTP id
 586e51a60fabf-264a0d37691mr2603371fac.20.1721900445090; 
 Thu, 25 Jul 2024 02:40:45 -0700 (PDT)
Received: from postal.iol.unh.edu (postal.iol.unh.edu.
 [2606:4100:3880:1234::84]) by smtp-relay.gmail.com with ESMTPS id
 586e51a60fabf-2655e1fb5bbsm95454fac.34.2024.07.25.02.40.45
 (version=TLS1_2 cipher=ECDHE-ECDSA-AES128-GCM-SHA256 bits=128/128);
 Thu, 25 Jul 2024 02:40:45 -0700 (PDT)
X-Relaying-Domain: iol.unh.edu
Date: Thu, 25 Jul 2024 02:40:45 -0700 (PDT)
Message-ID: <66a21d9d.050a0220.3742d0.367fSMTPIN_ADDED_MISSING@mx.google.com>
Received: from [172.21.0.6] (unknown [172.18.0.240])
 by postal.iol.unh.edu (Postfix) with ESMTP id B2DBE60524C8;
 Thu, 25 Jul 2024 05:40:44 -0400 (EDT)
Subject: |PENDING| pw142704-142706 [PATCH] [v6,3/3] dts: Improve logging for 
From: dpdklab@iol.unh.edu
To: Test Report <test-report@dpdk.org>
Cc: dpdk-test-reports@iol.unh.edu
In-Reply-To: <20240724183914.436188-4-jspewock@iol.unh.edu>
References: <20240724183914.436188-4-jspewock@iol.unh.edu>
Content-Type: text/plain
X-BeenThere: test-report@dpdk.org
X-Mailman-Version: 2.1.29
Precedence: list
List-Id: automatic DPDK test reports <test-report.dpdk.org>
List-Unsubscribe: <https://mails.dpdk.org/options/test-report>,
 <mailto:test-report-request@dpdk.org?subject=unsubscribe>
List-Archive: <http://mails.dpdk.org/archives/test-report/>
List-Post: <mailto:test-report@dpdk.org>
List-Help: <mailto:test-report-request@dpdk.org?subject=help>
List-Subscribe: <https://mails.dpdk.org/listinfo/test-report>,
 <mailto:test-report-request@dpdk.org?subject=subscribe>
Errors-To: test-report-bounces@dpdk.org

Test-Label: iol-unit-amd64-testing
Test-Status: PENDING
http://dpdk.org/patch/142706

_Testing pending_

Submitter: Jeremy Spewock <jspewock@iol.unh.edu>
Date: Wednesday, July 24 2024 18:39:14 
DPDK git baseline: Repo:dpdk
  Branch: master
  CommitID:82c47f005b9a0a1e3a649664b7713443d18abe43

142704-142706 --> testing pending

Upstream job id: Generic-Unit-Test-DPDK#244655

Test environment and result as below:

+---------------------+----------------+
|     Environment     | dpdk_unit_test |
+=====================+================+
| CentOS Stream 8     | PASS           |
+---------------------+----------------+
| CentOS Stream 9     | PASS           |
+---------------------+----------------+
| Debian Bullseye     | PASS           |
+---------------------+----------------+
| Debian 12           | PASS           |
+---------------------+----------------+
| Fedora 37           | PASS           |
+---------------------+----------------+
| Fedora 38           | PASS           |
+---------------------+----------------+
| Fedora 38 (Clang)   | PASS           |
+---------------------+----------------+
| Fedora 39           | PASS           |
+---------------------+----------------+
| Fedora 39 (Clang)   | PEND           |
+---------------------+----------------+
| Fedora 40           | PASS           |
+---------------------+----------------+
| Fedora 40 (Clang)   | PEND           |
+---------------------+----------------+
| openSUSE Leap 15    | PASS           |
+---------------------+----------------+
| RHEL9               | PEND           |
+---------------------+----------------+
| Ubuntu 20.04        | PEND           |
+---------------------+----------------+
| Ubuntu 22.04        | PEND           |
+---------------------+----------------+
| Ubuntu 24.04        | PEND           |
+---------------------+----------------+
| Windows Server 2019 | PEND           |
+---------------------+----------------+
| Windows Server 2022 | PEND           |
+---------------------+----------------+


CentOS Stream 8
	Kernel: 5.4.0-167-generic
	Compiler: gcc 8.5.0 20210514

CentOS Stream 9
	Kernel: 5.4.0-167-generic
	Compiler: gcc 11.4.1 20230605

Debian Bullseye
	Kernel: 5.4.0-167-generic
	Compiler: gcc 10.2.1-6

Debian 12
	Kernel: Container Host Kernel
	Compiler: gcc 12.2.0

Fedora 37
	Kernel: Depends on container host system
	Compiler: gcc 12.3.1

Fedora 38
	Kernel: Depends on container host
	Compiler: gcc 13.2.1

Fedora 38 (Clang)
	Kernel: Depends on container host
	Compiler: clang 16.0.6

Fedora 39
	Kernel: Depends on container host
	Compiler: gcc 13.2.1

Fedora 39 (Clang)
	Kernel: Depends on container host
	Compiler: clang 17.0.6

Fedora 40
	Kernel: Depends on container host
	Compiler: gcc 14.1.1

Fedora 40 (Clang)
	Kernel: Depends on container host
	Compiler: clang 18.1.6

openSUSE Leap 15
	Kernel: 5.4.0-167-generic
	Compiler: gcc 7.5.0

RHEL9
	Kernel: Depends on container host
	Compiler: gcc 11.4.1

Ubuntu 20.04
	Kernel: 5.4.0-167-generic
	Compiler: gcc 9.4.0-1ubuntu1~20.04.1

Ubuntu 22.04
	Kernel: 5.4.0-167-generic
	Compiler: gcc 11.4.0

Ubuntu 24.04
	Kernel: 5.4.0-167-generic
	Compiler: gcc 13.2.0

Windows Server 2019
	Kernel: 10.0.17763
	Compiler: clang 14.0 and gcc 8.1.0 (MinGW)

Windows Server 2022
	Kernel: 10.0.20348.2031
	Compiler: clang 15.0.7, gcc 8.1.0 (MinGW), and MSVC VS 17.9

To view detailed results, visit:
https://lab.dpdk.org/results/dashboard/patchsets/30614/

UNH-IOL DPDK Community Lab

To manage your email subscriptions, visit: 
https://lab.dpdk.org/results/dashboard/preferences/subscriptions/