From mboxrd@z Thu Jan  1 00:00:00 1970
Return-Path: <test-report-bounces@dpdk.org>
Received: from mails.dpdk.org (mails.dpdk.org [217.70.189.124])
	by inbox.dpdk.org (Postfix) with ESMTP id 5560945616
	for <public@inbox.dpdk.org>; Thu, 25 Jul 2024 12:19:28 +0200 (CEST)
Received: from mails.dpdk.org (localhost [127.0.0.1])
	by mails.dpdk.org (Postfix) with ESMTP id 51BE2434F2;
	Thu, 25 Jul 2024 12:19:28 +0200 (CEST)
Received: from mail-oi1-f226.google.com (mail-oi1-f226.google.com
 [209.85.167.226])
 by mails.dpdk.org (Postfix) with ESMTP id 2B56B40648
 for <test-report@dpdk.org>; Thu, 25 Jul 2024 12:19:26 +0200 (CEST)
Received: by mail-oi1-f226.google.com with SMTP id
 5614622812f47-3db12a2f530so345050b6e.1
 for <test-report@dpdk.org>; Thu, 25 Jul 2024 03:19:26 -0700 (PDT)
DKIM-Signature: v=1; a=rsa-sha256; c=relaxed/relaxed;
 d=iol.unh.edu; s=unh-iol; t=1721902765; x=1722507565; darn=dpdk.org;
 h=references:in-reply-to:cc:to:from:subject:message-id:date:from:to
 :cc:subject:date:message-id:reply-to;
 bh=fNkYU8zi3wuwddU1VHBlRB5CfHQtv1NX63iql0OJL4g=;
 b=KjKbWDiDGjUfPqKfKRrX1PiE0gahe+cCgUqvhAGiWGZN8T7szs1i5/1cMyLdg8dlnx
 U4pdSxwcVLkGz7VBOuRuMImME+DEHDRnAKCDVR3RQuTlIEsj9m/8Cp5Nppidp2cc6wBk
 ID9nCQer5diL4BrHA616LrULk3wnMZ0Kg/ENQ=
X-Google-DKIM-Signature: v=1; a=rsa-sha256; c=relaxed/relaxed;
 d=1e100.net; s=20230601; t=1721902765; x=1722507565;
 h=references:in-reply-to:cc:to:from:subject:message-id:date
 :x-gm-message-state:from:to:cc:subject:date:message-id:reply-to;
 bh=fNkYU8zi3wuwddU1VHBlRB5CfHQtv1NX63iql0OJL4g=;
 b=uB8oUlq09S2K8m34E5d9OFP9zX3aknq92rmNZUb84XEhNABopA9DabJvUOiNHFHMq/
 kRg7+0if0WXpHQPtSTIiAMocUjom8OdYrVTTHQC6Loz7lHH3vvnUydV+rJQoPN3xhXI0
 pbDo8HiNGJEtRuKvv63+BOwDO+4Ts2Qsv/WI9GPwPwN5kfpPigbM306ggWZbk1wuidUP
 FobA2C5o8SL4G0rCzHBjQKFo4/ReD1V9LHBKP+axd5qqXx1udli+3itiuer29jNXnqFB
 J/ojy+OuKPh39D/BDivnvvJ1Oq0ixjo3J+SvIFp1N1LULQuIv9fNjCAMFAh82QX0T13s
 /8ww==
X-Gm-Message-State: AOJu0YxSvDlxxumrvwtpoq9r5e41lI2zskZbVsK2KAC2HYMCry5jG26x
 BRSj/qQtvNHn7IE1nDSCo/x0A9lfQlI+MH0T3tXixnBQg993mtLz2CWUq5CgnTOLoSwkB0tqpi0
 aFDmi0b1nPW+OnzG7Lqdro1AqCZp41JtaL/N7TRbp
X-Google-Smtp-Source: AGHT+IEAgBGTWkoZ1k9r86XFhNUIopqzFtnMrZZknplvuH1U3nLYmynlT+M0Bz1+Cs8GHEUpTC9jVzVsvsHt
X-Received: by 2002:a05:6358:621b:b0:1a6:72b8:d08f with SMTP id
 e5c5f4694b2df-1acf891b952mr294190355d.29.1721902765184; 
 Thu, 25 Jul 2024 03:19:25 -0700 (PDT)
Received: from postal.iol.unh.edu (postal.iol.unh.edu. [132.177.123.84])
 by smtp-relay.gmail.com with ESMTPS id
 6a1803df08f44-6bb3fab998csm827766d6.70.2024.07.25.03.19.25
 (version=TLS1_2 cipher=ECDHE-ECDSA-AES128-GCM-SHA256 bits=128/128);
 Thu, 25 Jul 2024 03:19:25 -0700 (PDT)
X-Relaying-Domain: iol.unh.edu
Date: Thu, 25 Jul 2024 03:19:25 -0700 (PDT)
Message-ID: <66a226ad.050a0220.1ef04.319dSMTPIN_ADDED_MISSING@mx.google.com>
Received: from [172.17.0.3] (unknown [172.18.0.217])
 by postal.iol.unh.edu (Postfix) with ESMTP id D3F4B60524C8;
 Thu, 25 Jul 2024 06:19:24 -0400 (EDT)
Subject: |PENDING| pw142704-142706 [PATCH] [v6,3/3] dts: Improve logging for 
From: dpdklab@iol.unh.edu
To: Test Report <test-report@dpdk.org>
Cc: dpdk-test-reports@iol.unh.edu
In-Reply-To: <20240724183914.436188-4-jspewock@iol.unh.edu>
References: <20240724183914.436188-4-jspewock@iol.unh.edu>
Content-Type: text/plain
X-BeenThere: test-report@dpdk.org
X-Mailman-Version: 2.1.29
Precedence: list
List-Id: automatic DPDK test reports <test-report.dpdk.org>
List-Unsubscribe: <https://mails.dpdk.org/options/test-report>,
 <mailto:test-report-request@dpdk.org?subject=unsubscribe>
List-Archive: <http://mails.dpdk.org/archives/test-report/>
List-Post: <mailto:test-report@dpdk.org>
List-Help: <mailto:test-report-request@dpdk.org?subject=help>
List-Subscribe: <https://mails.dpdk.org/listinfo/test-report>,
 <mailto:test-report-request@dpdk.org?subject=subscribe>
Errors-To: test-report-bounces@dpdk.org

Test-Label: iol-compile-arm64-testing
Test-Status: PENDING
http://dpdk.org/patch/142706

_Testing pending_

Submitter: Jeremy Spewock <jspewock@iol.unh.edu>
Date: Wednesday, July 24 2024 18:39:14 
DPDK git baseline: Repo:dpdk
  Branch: master
  CommitID:82c47f005b9a0a1e3a649664b7713443d18abe43

142704-142706 --> testing pending

Upstream job id: Generic-DPDK-Compile-Meson#279691

Test environment and result as below:

+----------------------------------------+--------------------+
|              Environment               | dpdk_meson_compile |
+========================================+====================+
| RHEL9 (ARM)                            | PASS               |
+----------------------------------------+--------------------+
| Ubuntu 20.04 ARM SVE                   | PASS               |
+----------------------------------------+--------------------+
| Ubuntu 20.04 ARM GCC Cross Compile     | PASS               |
+----------------------------------------+--------------------+
| Debian 12 with MUSDK                   | PASS               |
+----------------------------------------+--------------------+
| Fedora 37 (ARM)                        | PASS               |
+----------------------------------------+--------------------+
| Fedora 38 (ARM Clang)                  | PEND               |
+----------------------------------------+--------------------+
| Fedora 38 (ARM)                        | PASS               |
+----------------------------------------+--------------------+
| Fedora 39 (ARM)                        | PASS               |
+----------------------------------------+--------------------+
| Fedora 39 (ARM Clang)                  | PEND               |
+----------------------------------------+--------------------+
| Fedora 40 (ARM)                        | PASS               |
+----------------------------------------+--------------------+
| Fedora 40 (ARM Clang)                  | PEND               |
+----------------------------------------+--------------------+
| Ubuntu 20.04 (ARM)                     | PASS               |
+----------------------------------------+--------------------+
| Ubuntu 22.04 (ARM)                     | PASS               |
+----------------------------------------+--------------------+
| CentOS Stream 9 (ARM)                  | PEND               |
+----------------------------------------+--------------------+
| Ubuntu 20.04 ARM Clang Cross Compile   | PASS               |
+----------------------------------------+--------------------+
| Debian 12 (arm)                        | PEND               |
+----------------------------------------+--------------------+
| Debian 11 (Buster) (ARM)               | PEND               |
+----------------------------------------+--------------------+
| Ubuntu 24.04 (ARM)                     | PEND               |
+----------------------------------------+--------------------+
| Ubuntu 20.04 aarch32 GCC Cross Compile | PASS               |
+----------------------------------------+--------------------+


RHEL9 (ARM)
	Kernel: Depends on container host
	Compiler: gcc 11.4.1

Ubuntu 20.04 ARM SVE
	Kernel: 5.4.0-167-generic
	Compiler: gcc (Ubuntu 10.5.0-1ubuntu1~20.04) 10.5.0

Ubuntu 20.04 ARM GCC Cross Compile
	Kernel: 5.4.0-167-generic
	Compiler: aarch64-linux-gnu-gcc (Ubuntu 9.4.0-1ubuntu1~20.04.2) 9.4.0

Debian 12 with MUSDK
	Kernel: Container Host Kernel
	Compiler: gcc 12.2.0

Fedora 37 (ARM)
	Kernel: Depends on container host
	Compiler: gcc 12.3.1

Fedora 38 (ARM Clang)
	Kernel: Depends on container host
	Compiler: clang 16.0.6

Fedora 38 (ARM)
	Kernel: Depends on container host
	Compiler: gcc 13.2.1

Fedora 39 (ARM)
	Kernel: Depends on container host
	Compiler: gcc 13.2.1

Fedora 39 (ARM Clang)
	Kernel: Depends on container host
	Compiler: clang 17.0.6

Fedora 40 (ARM)
	Kernel: Depends on container host
	Compiler: gcc 14.1.1

Fedora 40 (ARM Clang)
	Kernel: Depends on container host
	Compiler: clang 18.1.6

Ubuntu 20.04 (ARM)
	Kernel: Container Host Kernel
	Compiler: gcc 9.4.0

Ubuntu 22.04 (ARM)
	Kernel: Container Host Kernel
	Compiler: gcc 11.4.0

CentOS Stream 9 (ARM)
	Kernel: Container Host Kernel
	Compiler: gcc 11.4.1

Ubuntu 20.04 ARM Clang Cross Compile
	Kernel: 5.4.0-72-generic
	Compiler: clang 10.0.0-4ubuntu1

Debian 12 (arm)
	Kernel: Container Host Kernel
	Compiler: gcc 12.2.0

Debian 11 (Buster) (ARM)
	Kernel: Container Host Kernel
	Compiler: gcc 10.2.1

Ubuntu 24.04 (ARM)
	Kernel: 5.4.0-167-generic
	Compiler: gcc 13.2.0

Ubuntu 20.04 aarch32 GCC Cross Compile
	Kernel: 5.4.0-167-generic
	Compiler: gcc 9.4.0

To view detailed results, visit:
https://lab.dpdk.org/results/dashboard/patchsets/30614/

UNH-IOL DPDK Community Lab

To manage your email subscriptions, visit: 
https://lab.dpdk.org/results/dashboard/preferences/subscriptions/