From mboxrd@z Thu Jan  1 00:00:00 1970
Return-Path: <test-report-bounces@dpdk.org>
Received: from mails.dpdk.org (mails.dpdk.org [217.70.189.124])
	by inbox.dpdk.org (Postfix) with ESMTP id 026D9456B4
	for <public@inbox.dpdk.org>; Thu, 25 Jul 2024 12:32:45 +0200 (CEST)
Received: from mails.dpdk.org (localhost [127.0.0.1])
	by mails.dpdk.org (Postfix) with ESMTP id F01F840DD7;
	Thu, 25 Jul 2024 12:32:44 +0200 (CEST)
Received: from mail-il1-f227.google.com (mail-il1-f227.google.com
 [209.85.166.227])
 by mails.dpdk.org (Postfix) with ESMTP id 098AB40648
 for <test-report@dpdk.org>; Thu, 25 Jul 2024 12:32:43 +0200 (CEST)
Received: by mail-il1-f227.google.com with SMTP id
 e9e14a558f8ab-39865a15900so1484295ab.1
 for <test-report@dpdk.org>; Thu, 25 Jul 2024 03:32:42 -0700 (PDT)
DKIM-Signature: v=1; a=rsa-sha256; c=relaxed/relaxed;
 d=iol.unh.edu; s=unh-iol; t=1721903562; x=1722508362; darn=dpdk.org;
 h=references:in-reply-to:cc:to:from:subject:message-id:date:from:to
 :cc:subject:date:message-id:reply-to;
 bh=+5OlS5WBHProlsN/XawIj6Wq2U5n12l9rvWYJbNBh/g=;
 b=NH9/GW0VwhhSmEWXCIsh3OXTJYPHVLdd4rjmoKq223SFjV+FDaiPzwIExzJvhEUV9Z
 sSllUwBW9M7l/tF7U7876Z0IUamrFFQQC6fy4ZIjm/CgiGeDSXDr20NLwLCqdAL3ReHz
 x4P8Q4uJJgqUv+R4w+5lN+4KzG2HqVsn8prTw=
X-Google-DKIM-Signature: v=1; a=rsa-sha256; c=relaxed/relaxed;
 d=1e100.net; s=20230601; t=1721903562; x=1722508362;
 h=references:in-reply-to:cc:to:from:subject:message-id:date
 :x-gm-message-state:from:to:cc:subject:date:message-id:reply-to;
 bh=+5OlS5WBHProlsN/XawIj6Wq2U5n12l9rvWYJbNBh/g=;
 b=bz2/d7nv+flG7RfUAHlLDMxNLCgQ1BiUDO6IBOw4j4vqe7DcdpdAvjA1W5/EIKIzSl
 5i2+edsI7sJfl8VpKtMKTmcjl2bP0GccteNOGvccE1RTfyuUpcDaec2riXfJVf7kVa/D
 l6zsQQj0tKgs3YGi1nvuC5hhm4wXB8fG2M0fFdnst24THUOJ9R0fVX3cmjqiRfuVhZhZ
 xK3jvc1uMNs1y+KHPUPbYKCCw+6KsWYQA+oG+GbCpzCRY5bhu48D4vgCQRqecuJmrE0M
 SUvjDm362GReqvOdJRG/XLAgjUtHosD3NqnO5zuqvGJTYtuh8TZTqEInpnnTNQyWJdCZ
 fHgg==
X-Gm-Message-State: AOJu0Yz5BX7XwTFyeIfJEfn9vaafgoXUTjKwF7p0PsO4v++Y6OZvOusr
 j4OLVi9uILuGbg6SVTmKQRREc++USZFhcDW4gUXlXzdwFahCSRu1lmpaLmoPz9yyxMJr3EJR17x
 NgzrTvSz7W5VQhGG7KgFbpxLOv7f3xn0MkX6gBuJN
X-Google-Smtp-Source: AGHT+IEDfDi2mdfQ/n4bAogjHeHnfOwRM3ac0Lhnjvgw6I2bd6BT0u7+7hce+auEZKqwoS/Fo9dCvmICusoY
X-Received: by 2002:a92:cda3:0:b0:396:d1c5:e66 with SMTP id
 e9e14a558f8ab-39a2181404amr25217555ab.20.1721903562252; 
 Thu, 25 Jul 2024 03:32:42 -0700 (PDT)
Received: from postal.iol.unh.edu (postal.iol.unh.edu. [132.177.123.84])
 by smtp-relay.gmail.com with ESMTPS id
 41be03b00d2f7-7a9f7d6e1a3sm83668a12.12.2024.07.25.03.32.42
 (version=TLS1_2 cipher=ECDHE-ECDSA-AES128-GCM-SHA256 bits=128/128);
 Thu, 25 Jul 2024 03:32:42 -0700 (PDT)
X-Relaying-Domain: iol.unh.edu
Date: Thu, 25 Jul 2024 03:32:42 -0700 (PDT)
Message-ID: <66a229ca.630a0220.2874ea.374cSMTPIN_ADDED_MISSING@mx.google.com>
Received: from [172.17.0.4] (unknown [172.18.0.217])
 by postal.iol.unh.edu (Postfix) with ESMTP id 7741960524C8;
 Thu, 25 Jul 2024 06:32:41 -0400 (EDT)
Subject: |SUCCESS| pw142704-142706 [PATCH] [v6,3/3] dts: Improve logging for 
From: dpdklab@iol.unh.edu
To: Test Report <test-report@dpdk.org>
Cc: dpdk-test-reports@iol.unh.edu
In-Reply-To: <20240724183914.436188-4-jspewock@iol.unh.edu>
References: <20240724183914.436188-4-jspewock@iol.unh.edu>
Content-Type: text/plain
X-BeenThere: test-report@dpdk.org
X-Mailman-Version: 2.1.29
Precedence: list
List-Id: automatic DPDK test reports <test-report.dpdk.org>
List-Unsubscribe: <https://mails.dpdk.org/options/test-report>,
 <mailto:test-report-request@dpdk.org?subject=unsubscribe>
List-Archive: <http://mails.dpdk.org/archives/test-report/>
List-Post: <mailto:test-report@dpdk.org>
List-Help: <mailto:test-report-request@dpdk.org?subject=help>
List-Subscribe: <https://mails.dpdk.org/listinfo/test-report>,
 <mailto:test-report-request@dpdk.org?subject=subscribe>
Errors-To: test-report-bounces@dpdk.org

Test-Label: iol-unit-amd64-testing
Test-Status: SUCCESS
http://dpdk.org/patch/142706

_Testing PASS_

Submitter: Jeremy Spewock <jspewock@iol.unh.edu>
Date: Wednesday, July 24 2024 18:39:14 
DPDK git baseline: Repo:dpdk
  Branch: master
  CommitID:82c47f005b9a0a1e3a649664b7713443d18abe43

142704-142706 --> testing pass

Upstream job id: Generic-Unit-Test-DPDK#244656

Test environment and result as below:

+---------------------+----------------+
|     Environment     | dpdk_unit_test |
+=====================+================+
| CentOS Stream 8     | PASS           |
+---------------------+----------------+
| CentOS Stream 9     | PASS           |
+---------------------+----------------+
| Debian Bullseye     | PASS           |
+---------------------+----------------+
| Debian 12           | PASS           |
+---------------------+----------------+
| Fedora 37           | PASS           |
+---------------------+----------------+
| Fedora 38           | PASS           |
+---------------------+----------------+
| Fedora 38 (Clang)   | PASS           |
+---------------------+----------------+
| Fedora 39           | PASS           |
+---------------------+----------------+
| Fedora 39 (Clang)   | PASS           |
+---------------------+----------------+
| Fedora 40           | PASS           |
+---------------------+----------------+
| Fedora 40 (Clang)   | PASS           |
+---------------------+----------------+
| openSUSE Leap 15    | PASS           |
+---------------------+----------------+
| RHEL9               | PASS           |
+---------------------+----------------+
| Ubuntu 20.04        | PASS           |
+---------------------+----------------+
| Ubuntu 22.04        | PASS           |
+---------------------+----------------+
| Ubuntu 24.04        | PASS           |
+---------------------+----------------+
| Windows Server 2019 | PASS           |
+---------------------+----------------+
| Windows Server 2022 | PASS           |
+---------------------+----------------+
| RHEL8               | PASS           |
+---------------------+----------------+


CentOS Stream 8
	Kernel: 5.4.0-167-generic
	Compiler: gcc 8.5.0 20210514

CentOS Stream 9
	Kernel: 5.4.0-167-generic
	Compiler: gcc 11.4.1 20230605

Debian Bullseye
	Kernel: 5.4.0-167-generic
	Compiler: gcc 10.2.1-6

Debian 12
	Kernel: Container Host Kernel
	Compiler: gcc 12.2.0

Fedora 37
	Kernel: Depends on container host system
	Compiler: gcc 12.3.1

Fedora 38
	Kernel: Depends on container host
	Compiler: gcc 13.2.1

Fedora 38 (Clang)
	Kernel: Depends on container host
	Compiler: clang 16.0.6

Fedora 39
	Kernel: Depends on container host
	Compiler: gcc 13.2.1

Fedora 39 (Clang)
	Kernel: Depends on container host
	Compiler: clang 17.0.6

Fedora 40
	Kernel: Depends on container host
	Compiler: gcc 14.1.1

Fedora 40 (Clang)
	Kernel: Depends on container host
	Compiler: clang 18.1.6

openSUSE Leap 15
	Kernel: 5.4.0-167-generic
	Compiler: gcc 7.5.0

RHEL9
	Kernel: Depends on container host
	Compiler: gcc 11.4.1

Ubuntu 20.04
	Kernel: 5.4.0-167-generic
	Compiler: gcc 9.4.0-1ubuntu1~20.04.1

Ubuntu 22.04
	Kernel: 5.4.0-167-generic
	Compiler: gcc 11.4.0

Ubuntu 24.04
	Kernel: 5.4.0-167-generic
	Compiler: gcc 13.2.0

Windows Server 2019
	Kernel: 10.0.17763
	Compiler: clang 14.0 and gcc 8.1.0 (MinGW)

Windows Server 2022
	Kernel: 10.0.20348.2031
	Compiler: clang 15.0.7, gcc 8.1.0 (MinGW), and MSVC VS 17.9

RHEL8
	Kernel: 5.4.0-167-generic
	Compiler: gcc 8.5.0 20210514 (Red Hat 8.5.0-20)

To view detailed results, visit:
https://lab.dpdk.org/results/dashboard/patchsets/30614/

UNH-IOL DPDK Community Lab

To manage your email subscriptions, visit: 
https://lab.dpdk.org/results/dashboard/preferences/subscriptions/