From mboxrd@z Thu Jan  1 00:00:00 1970
Return-Path: <test-report-bounces@dpdk.org>
Received: from mails.dpdk.org (mails.dpdk.org [217.70.189.124])
	by inbox.dpdk.org (Postfix) with ESMTP id 1988645689
	for <public@inbox.dpdk.org>; Thu, 25 Jul 2024 12:55:39 +0200 (CEST)
Received: from mails.dpdk.org (localhost [127.0.0.1])
	by mails.dpdk.org (Postfix) with ESMTP id 128F1435CB;
	Thu, 25 Jul 2024 12:55:39 +0200 (CEST)
Received: from mail-yw1-f226.google.com (mail-yw1-f226.google.com
 [209.85.128.226])
 by mails.dpdk.org (Postfix) with ESMTP id 95CEC40648
 for <test-report@dpdk.org>; Thu, 25 Jul 2024 12:55:38 +0200 (CEST)
Received: by mail-yw1-f226.google.com with SMTP id
 00721157ae682-6659e81bc68so8320707b3.0
 for <test-report@dpdk.org>; Thu, 25 Jul 2024 03:55:38 -0700 (PDT)
DKIM-Signature: v=1; a=rsa-sha256; c=relaxed/relaxed;
 d=iol.unh.edu; s=unh-iol; t=1721904938; x=1722509738; darn=dpdk.org;
 h=references:in-reply-to:cc:to:from:subject:message-id:date:from:to
 :cc:subject:date:message-id:reply-to;
 bh=Of5pkULsZTQR2csuGsy5LeHS89ewkG3kFBCKN/tkbVs=;
 b=O3nR6XnMTZLvK4G0Yi03Ytn0hDA/F/vKY+oZPszGri64cxzc1WrBXtznjRgNZCmu4M
 aQ/quVtYQ1R+MlL8l9XXjzRDyyyWrGLEtb2E68UpNU7moktpTKBGP8P1l3ZCR/ZAjzuG
 AIstdWXyqoz1ZQzUT9Q1lMMLoC+1zuC0Owbbk=
X-Google-DKIM-Signature: v=1; a=rsa-sha256; c=relaxed/relaxed;
 d=1e100.net; s=20230601; t=1721904938; x=1722509738;
 h=references:in-reply-to:cc:to:from:subject:message-id:date
 :x-gm-message-state:from:to:cc:subject:date:message-id:reply-to;
 bh=Of5pkULsZTQR2csuGsy5LeHS89ewkG3kFBCKN/tkbVs=;
 b=rHxI7H1ZixsVCP3c944eSOS0QWUdrKsbdrrlpuTngpiDfvlpnRTLzLyaB5agutWA3J
 leK0n+i2qoVxgkHDyJARk/c0MUYN8F6Qgb57301cAiVEp/NT4tjgN7BVGcBPrOK63cIU
 7aCnqYEtfbWeHfld0azXPB+7/RiaN4Ki3rjqD9B3b4G5aeXi3yjJP1PI/MZxbXTIgV43
 VKQdpagr2xZ6HomtcRwuCw3f1RLCx6P8j6guC7PiGqvT0y58G4S6aR9GUAWdZ9nMh29O
 E7ZgkHO3nRF1PFeZUvnU0kJQTa/0J/sI3G5Oz/J2yl4iJc71WimZm0dVBnx3gHvc8H2Y
 A+BA==
X-Gm-Message-State: AOJu0Yz/lV1LZK1QrwoR313Ynkl65q7PN/bahy9jEVDyhavYm/fXGZqX
 2lNuo/M56Pl7GC6fHVYgCWTUesgSnanl+KScYCxvnhBYxDfq7usQa444XbEJXhxPuo8iprFqc+D
 ProYg3XJuDsoXoudkDRE7MOVLSqfjME9G9NQPpihdvhKuTc0QY0zj6WOd
X-Google-Smtp-Source: AGHT+IH1B+h5ZhSdS7hoJ9nCxGYip7XDm1A34O6u5IAhWe+cPjbwDJTIHrAuAf45p5rOZ6J1e0WP80izZMJI
X-Received: by 2002:a05:690c:ec5:b0:631:43e1:6b99 with SMTP id
 00721157ae682-67511a6982fmr32630057b3.12.1721904937901; 
 Thu, 25 Jul 2024 03:55:37 -0700 (PDT)
Received: from postal.iol.unh.edu (postal.iol.unh.edu.
 [2606:4100:3880:1234::84]) by smtp-relay.gmail.com with ESMTPS id
 00721157ae682-6756ad428c2sm1404907b3.53.2024.07.25.03.55.37
 (version=TLS1_2 cipher=ECDHE-ECDSA-AES128-GCM-SHA256 bits=128/128);
 Thu, 25 Jul 2024 03:55:37 -0700 (PDT)
X-Relaying-Domain: iol.unh.edu
Date: Thu, 25 Jul 2024 03:55:37 -0700 (PDT)
Message-ID: <66a22f29.810a0220.15b44f.5d27SMTPIN_ADDED_MISSING@mx.google.com>
Received: from [172.21.0.6] (unknown [172.18.0.240])
 by postal.iol.unh.edu (Postfix) with ESMTP id 8CA2560524CC;
 Thu, 25 Jul 2024 06:55:37 -0400 (EDT)
Subject: |PENDING| pw142713 [PATCH] eal/linux: clear asan after allocation an
From: dpdklab@iol.unh.edu
To: Test Report <test-report@dpdk.org>
Cc: dpdk-test-reports@iol.unh.edu
In-Reply-To: <20240723083419.12435-1-amichon@kalrayinc.com>
References: <20240723083419.12435-1-amichon@kalrayinc.com>
Content-Type: text/plain
X-BeenThere: test-report@dpdk.org
X-Mailman-Version: 2.1.29
Precedence: list
List-Id: automatic DPDK test reports <test-report.dpdk.org>
List-Unsubscribe: <https://mails.dpdk.org/options/test-report>,
 <mailto:test-report-request@dpdk.org?subject=unsubscribe>
List-Archive: <http://mails.dpdk.org/archives/test-report/>
List-Post: <mailto:test-report@dpdk.org>
List-Help: <mailto:test-report-request@dpdk.org?subject=help>
List-Subscribe: <https://mails.dpdk.org/listinfo/test-report>,
 <mailto:test-report-request@dpdk.org?subject=subscribe>
Errors-To: test-report-bounces@dpdk.org

Test-Label: iol-abi-testing
Test-Status: PENDING
http://dpdk.org/patch/142713

_Testing pending_

Submitter: Alex Michon <amichon@kalrayinc.com>
Date: Tuesday, July 23 2024 08:34:19 
DPDK git baseline: Repo:dpdk
  Branch: master
  CommitID:82c47f005b9a0a1e3a649664b7713443d18abe43

142713 --> testing pending

Upstream job id: Generic-DPDK-Compile-ABI#100421

Test environment and result as below:

+-------------------+----------+
|    Environment    | abi_test |
+===================+==========+
| CentOS Stream 8   | PASS     |
+-------------------+----------+
| CentOS Stream 9   | PASS     |
+-------------------+----------+
| Debian Bullseye   | PASS     |
+-------------------+----------+
| Fedora 37         | PASS     |
+-------------------+----------+
| Debian 12         | PASS     |
+-------------------+----------+
| Fedora 38 (Clang) | PASS     |
+-------------------+----------+
| Fedora 38         | PASS     |
+-------------------+----------+
| Fedora 39         | PASS     |
+-------------------+----------+
| Fedora 39 (Clang) | PASS     |
+-------------------+----------+
| openSUSE Leap 15  | PASS     |
+-------------------+----------+
| Fedora 40         | PEND     |
+-------------------+----------+
| Fedora 40 (Clang) | PASS     |
+-------------------+----------+
| RHEL8             | PEND     |
+-------------------+----------+
| RHEL9             | PASS     |
+-------------------+----------+
| Ubuntu 22.04      | PASS     |
+-------------------+----------+
| Ubuntu 24.04      | PASS     |
+-------------------+----------+


CentOS Stream 8
	Kernel: 5.4.0-167-generic
	Compiler: gcc 8.5.0 20210514

CentOS Stream 9
	Kernel: 5.4.0-167-generic
	Compiler: gcc 11.4.1 20230605

Debian Bullseye
	Kernel: 5.4.0-167-generic
	Compiler: gcc 10.2.1-6

Fedora 37
	Kernel: Depends on container host system
	Compiler: gcc 12.3.1

Debian 12
	Kernel: Container Host Kernel
	Compiler: gcc 12.2.0

Fedora 38 (Clang)
	Kernel: Depends on container host
	Compiler: clang 16.0.6

Fedora 38
	Kernel: Depends on container host
	Compiler: gcc 13.2.1

Fedora 39
	Kernel: Depends on container host
	Compiler: gcc 13.2.1

Fedora 39 (Clang)
	Kernel: Depends on container host
	Compiler: clang 17.0.6

openSUSE Leap 15
	Kernel: 5.4.0-167-generic
	Compiler: gcc 7.5.0

Fedora 40
	Kernel: Depends on container host
	Compiler: gcc 14.1.1

Fedora 40 (Clang)
	Kernel: Depends on container host
	Compiler: clang 18.1.6

RHEL8
	Kernel: 5.4.0-167-generic
	Compiler: gcc 8.5.0 20210514 (Red Hat 8.5.0-20)

RHEL9
	Kernel: Depends on container host
	Compiler: gcc 11.4.1

Ubuntu 22.04
	Kernel: 5.4.0-167-generic
	Compiler: gcc 11.4.0

Ubuntu 24.04
	Kernel: 5.4.0-167-generic
	Compiler: gcc 13.2.0

To view detailed results, visit:
https://lab.dpdk.org/results/dashboard/patchsets/30617/

UNH-IOL DPDK Community Lab

To manage your email subscriptions, visit: 
https://lab.dpdk.org/results/dashboard/preferences/subscriptions/