From mboxrd@z Thu Jan  1 00:00:00 1970
Return-Path: <test-report-bounces@dpdk.org>
Received: from mails.dpdk.org (mails.dpdk.org [217.70.189.124])
	by inbox.dpdk.org (Postfix) with ESMTP id CBFD0456AC
	for <public@inbox.dpdk.org>; Thu, 25 Jul 2024 18:21:15 +0200 (CEST)
Received: from mails.dpdk.org (localhost [127.0.0.1])
	by mails.dpdk.org (Postfix) with ESMTP id 319BE43642;
	Thu, 25 Jul 2024 18:21:04 +0200 (CEST)
Received: from mail-oa1-f99.google.com (mail-oa1-f99.google.com
 [209.85.160.99]) by mails.dpdk.org (Postfix) with ESMTP id 11B3A402AB
 for <test-report@dpdk.org>; Thu, 25 Jul 2024 18:03:48 +0200 (CEST)
Received: by mail-oa1-f99.google.com with SMTP id
 586e51a60fabf-260e6298635so152865fac.1
 for <test-report@dpdk.org>; Thu, 25 Jul 2024 09:03:48 -0700 (PDT)
DKIM-Signature: v=1; a=rsa-sha256; c=relaxed/relaxed;
 d=iol.unh.edu; s=unh-iol; t=1721923427; x=1722528227; darn=dpdk.org;
 h=references:in-reply-to:cc:to:from:subject:message-id:date:from:to
 :cc:subject:date:message-id:reply-to;
 bh=+I4bYdEs4TzhjwBBGlnm3p55k0ULrEKHPH1XN90M+28=;
 b=b+7uXA1XLO0LZU+lvWpG9cBuP0FJv7j8nqrztREf3TWzS2Kg+24GS/vvFVyKKc2Yc3
 xaaAN3N3Cy+r7pDK7wGpgZapAFd50YfL2F5ri3ECWsQXaSlW1KjPayxHlCebjXwudze+
 vEoSarjUCC3tBWQVVqD2l0mESlvl05LwJOUeE=
X-Google-DKIM-Signature: v=1; a=rsa-sha256; c=relaxed/relaxed;
 d=1e100.net; s=20230601; t=1721923427; x=1722528227;
 h=references:in-reply-to:cc:to:from:subject:message-id:date
 :x-gm-message-state:from:to:cc:subject:date:message-id:reply-to;
 bh=+I4bYdEs4TzhjwBBGlnm3p55k0ULrEKHPH1XN90M+28=;
 b=SgamHXZeqpxV04/SeNMdLA75UOaNwA/f1HKzqiClHCT4pbkiWW7eaYcmdzOIbok99X
 F/uu0u80zeIAmfYsulxFnaLeja8zwOuc31qMEdoRIqEnMMynBtxaVWiBzMBolZaueVl+
 FEQBdp2aJcwybNVWxhx3Em7MQcI63oI6+lKKk/ygg/pGcWlhFR9L82y1xhxXaPN28sDH
 UFw7+hYWkIrV66gWvsrAuigGa54UAXlf3bR0MdGIYpHy4ugCWIR5BWfsF8XfgPeOJDdF
 tdQGUfAWugdt71Q5RTnde1jZpeE4nIcVnHyGh1Fpue3aRHjbEef1d2AIP2lieaEfSuCa
 Emhg==
X-Gm-Message-State: AOJu0YzJJaBm1STPFgP1fhJNMYU/I4/4Ed+o3PmQkfo6zVuVbLT+mlWN
 Q/6uUKezk8h5a293zW2aMQcWsYgMwMrHxD3Si6uWQd9Fij5iaiNu6Acpj3RMPurqjJMYk7J+PoE
 Ky24/eZXBn6OHeuEXJ7QHZhyzw+hZ7cKjiYFRAqmM
X-Google-Smtp-Source: AGHT+IFI+96UW2fzwRLT+FXmJsMS7EF54LqF1dcWn3R4DGiynZh8uEatFSMZv6NN1VpWHkXSgV6IJLGS0Zsp
X-Received: by 2002:a05:6870:71cc:b0:259:8371:513f with SMTP id
 586e51a60fabf-2648ea642cfmr3083490fac.21.1721923427333; 
 Thu, 25 Jul 2024 09:03:47 -0700 (PDT)
Received: from postal.iol.unh.edu (postal.iol.unh.edu. [132.177.123.84])
 by smtp-relay.gmail.com with ESMTPS id
 586e51a60fabf-2653cfd01bdsm132352fac.5.2024.07.25.09.03.47
 (version=TLS1_2 cipher=ECDHE-ECDSA-AES128-GCM-SHA256 bits=128/128);
 Thu, 25 Jul 2024 09:03:47 -0700 (PDT)
X-Relaying-Domain: iol.unh.edu
Date: Thu, 25 Jul 2024 09:03:47 -0700 (PDT)
Message-ID: <66a27763.050a0220.2019d.4ebfSMTPIN_ADDED_MISSING@mx.google.com>
Received: from [172.21.0.6] (unknown [172.18.0.240])
 by postal.iol.unh.edu (Postfix) with ESMTP id AE27960526E2;
 Thu, 25 Jul 2024 12:03:46 -0400 (EDT)
Subject: |PENDING| pw142713 [PATCH] eal/linux: clear asan after allocation an
From: dpdklab@iol.unh.edu
To: Test Report <test-report@dpdk.org>
Cc: dpdk-test-reports@iol.unh.edu
In-Reply-To: <20240723083419.12435-1-amichon@kalrayinc.com>
References: <20240723083419.12435-1-amichon@kalrayinc.com>
Content-Type: text/plain
X-BeenThere: test-report@dpdk.org
X-Mailman-Version: 2.1.29
Precedence: list
List-Id: automatic DPDK test reports <test-report.dpdk.org>
List-Unsubscribe: <https://mails.dpdk.org/options/test-report>,
 <mailto:test-report-request@dpdk.org?subject=unsubscribe>
List-Archive: <http://mails.dpdk.org/archives/test-report/>
List-Post: <mailto:test-report@dpdk.org>
List-Help: <mailto:test-report-request@dpdk.org?subject=help>
List-Subscribe: <https://mails.dpdk.org/listinfo/test-report>,
 <mailto:test-report-request@dpdk.org?subject=subscribe>
Errors-To: test-report-bounces@dpdk.org

Test-Label: iol-unit-amd64-testing
Test-Status: PENDING
http://dpdk.org/patch/142713

_Testing pending_

Submitter: Alex Michon <amichon@kalrayinc.com>
Date: Tuesday, July 23 2024 08:34:19 
DPDK git baseline: Repo:dpdk
  Branch: master
  CommitID:82c47f005b9a0a1e3a649664b7713443d18abe43

142713 --> testing pending

Upstream job id: Generic-Unit-Test-DPDK#244837

Test environment and result as below:

+---------------------+----------------+
|     Environment     | dpdk_unit_test |
+=====================+================+
| CentOS Stream 8     | PASS           |
+---------------------+----------------+
| CentOS Stream 9     | PASS           |
+---------------------+----------------+
| Debian 12           | PASS           |
+---------------------+----------------+
| Debian Bullseye     | PASS           |
+---------------------+----------------+
| Fedora 37           | PASS           |
+---------------------+----------------+
| Fedora 38           | PASS           |
+---------------------+----------------+
| Fedora 38 (Clang)   | PASS           |
+---------------------+----------------+
| Fedora 39           | PASS           |
+---------------------+----------------+
| Fedora 39 (Clang)   | PASS           |
+---------------------+----------------+
| Windows Server 2022 | PASS           |
+---------------------+----------------+
| Fedora 40           | PASS           |
+---------------------+----------------+
| Fedora 40 (Clang)   | PEND           |
+---------------------+----------------+
| Ubuntu 22.04        | PASS           |
+---------------------+----------------+
| RHEL9               | PEND           |
+---------------------+----------------+
| RHEL8               | PEND           |
+---------------------+----------------+
| openSUSE Leap 15    | PEND           |
+---------------------+----------------+
| Ubuntu 20.04        | PEND           |
+---------------------+----------------+
| Ubuntu 24.04        | PEND           |
+---------------------+----------------+
| Windows Server 2019 | PASS           |
+---------------------+----------------+


CentOS Stream 8
	Kernel: 5.4.0-167-generic
	Compiler: gcc 8.5.0 20210514

CentOS Stream 9
	Kernel: 5.4.0-167-generic
	Compiler: gcc 11.4.1 20230605

Debian 12
	Kernel: Container Host Kernel
	Compiler: gcc 12.2.0

Debian Bullseye
	Kernel: 5.4.0-167-generic
	Compiler: gcc 10.2.1-6

Fedora 37
	Kernel: Depends on container host system
	Compiler: gcc 12.3.1

Fedora 38
	Kernel: Depends on container host
	Compiler: gcc 13.2.1

Fedora 38 (Clang)
	Kernel: Depends on container host
	Compiler: clang 16.0.6

Fedora 39
	Kernel: Depends on container host
	Compiler: gcc 13.2.1

Fedora 39 (Clang)
	Kernel: Depends on container host
	Compiler: clang 17.0.6

Windows Server 2022
	Kernel: 10.0.20348.2031
	Compiler: clang 15.0.7, gcc 8.1.0 (MinGW), and MSVC VS 17.9

Fedora 40
	Kernel: Depends on container host
	Compiler: gcc 14.1.1

Fedora 40 (Clang)
	Kernel: Depends on container host
	Compiler: clang 18.1.6

Ubuntu 22.04
	Kernel: 5.4.0-167-generic
	Compiler: gcc 11.4.0

RHEL9
	Kernel: Depends on container host
	Compiler: gcc 11.4.1

RHEL8
	Kernel: 5.4.0-167-generic
	Compiler: gcc 8.5.0 20210514 (Red Hat 8.5.0-20)

openSUSE Leap 15
	Kernel: 5.4.0-167-generic
	Compiler: gcc 7.5.0

Ubuntu 20.04
	Kernel: 5.4.0-167-generic
	Compiler: gcc 9.4.0-1ubuntu1~20.04.1

Ubuntu 24.04
	Kernel: 5.4.0-167-generic
	Compiler: gcc 13.2.0

Windows Server 2019
	Kernel: 10.0.17763
	Compiler: clang 14.0 and gcc 8.1.0 (MinGW)

To view detailed results, visit:
https://lab.dpdk.org/results/dashboard/patchsets/30617/

UNH-IOL DPDK Community Lab

To manage your email subscriptions, visit: 
https://lab.dpdk.org/results/dashboard/preferences/subscriptions/