From mboxrd@z Thu Jan  1 00:00:00 1970
Return-Path: <test-report-bounces@dpdk.org>
Received: from mails.dpdk.org (mails.dpdk.org [217.70.189.124])
	by inbox.dpdk.org (Postfix) with ESMTP id B0972456AC
	for <public@inbox.dpdk.org>; Thu, 25 Jul 2024 18:51:07 +0200 (CEST)
Received: from mails.dpdk.org (localhost [127.0.0.1])
	by mails.dpdk.org (Postfix) with ESMTP id 232CC43336;
	Thu, 25 Jul 2024 18:51:07 +0200 (CEST)
Received: from mail-qv1-f97.google.com (mail-qv1-f97.google.com
 [209.85.219.97]) by mails.dpdk.org (Postfix) with ESMTP id BB548402AB
 for <test-report@dpdk.org>; Thu, 25 Jul 2024 18:33:26 +0200 (CEST)
Received: by mail-qv1-f97.google.com with SMTP id
 6a1803df08f44-6b79fc76d03so6906756d6.1
 for <test-report@dpdk.org>; Thu, 25 Jul 2024 09:33:26 -0700 (PDT)
DKIM-Signature: v=1; a=rsa-sha256; c=relaxed/relaxed;
 d=iol.unh.edu; s=unh-iol; t=1721925206; x=1722530006; darn=dpdk.org;
 h=references:in-reply-to:cc:to:from:subject:message-id:date:from:to
 :cc:subject:date:message-id:reply-to;
 bh=aGV64/a8qhpMTcB2hGAramJWAY6OktfjlRNMOdLICy0=;
 b=TAYC/aJgjMnNLyJTYPQlEVIkk9l21BYwQcplH8BU+iMUugCK7O2YTWQfgO3syJ/MPN
 po5na0xH25U/ASlfjhwuNkaPozurgoW2wnG/8w0A0S96NBiDQj/nqOUjTGd7A/2ExZwp
 fKfaCEpv+QnjLYKA86k4TG0xwlwgVfasVz4dk=
X-Google-DKIM-Signature: v=1; a=rsa-sha256; c=relaxed/relaxed;
 d=1e100.net; s=20230601; t=1721925206; x=1722530006;
 h=references:in-reply-to:cc:to:from:subject:message-id:date
 :x-gm-message-state:from:to:cc:subject:date:message-id:reply-to;
 bh=aGV64/a8qhpMTcB2hGAramJWAY6OktfjlRNMOdLICy0=;
 b=nDzRsdFNbOzSJRXzEKdCBj1zQsLsfwFumquIkxHRh9pGuRPNkQdIqzq7Ykxm3oJpZD
 gOgeP6PPRiGqcY+RBH9RYVxA9BPtqp2rq8oBWZLB42zTLirI6wP+HIXqX/eSA7mEsXLK
 XD/cOMadsnwqxEqJYdM5TFVGi8axRPQQXR2THdtxjueV7leEPMAzYFhSl9nf52DKsH57
 U/dzn7lohfbfW//FVkuZK0UYAg8TawKoKl0hihuCAmqirmhFrwEo81uGcjpoyHv+k93l
 F7j+lErGe1mlWCSMY2AfL6mYTTMlAnoBJ5xqurtVbfHKv84nENQHR3IUuxCOyMpw4ymw
 hpLA==
X-Gm-Message-State: AOJu0YywGhoERYcnpMZEBgN0FLrnyK+vcjxyLFCb0okTiGYzakupz4Zd
 SVzk5NG9bQGWd/rFTGd3Ne7VTO8KqgrjC0RsR96z3Hdx1EvWrGdcFrwl55XLrKPsKP5XSqrRCO6
 l2T4NTavPQ5XStyuI2BthzKyRqtuKo542EK1kGc9DFhcgsemA2hucUKMq
X-Google-Smtp-Source: AGHT+IFi4jOqJ/ccD+LaGLbXaIZrgr4oWTzeI3WjzgIAuZGKkYbLfmM1Yy+w4tdHYxu8LshasUKfYqp7iqhg
X-Received: by 2002:a05:6214:b67:b0:6b5:e3ba:5251 with SMTP id
 6a1803df08f44-6bb3c9d10bcmr52603786d6.8.1721925205980; 
 Thu, 25 Jul 2024 09:33:25 -0700 (PDT)
Received: from postal.iol.unh.edu (postal.iol.unh.edu.
 [2606:4100:3880:1234::84]) by smtp-relay.gmail.com with ESMTPS id
 6a1803df08f44-6bb3f8ddb0asm1147226d6.3.2024.07.25.09.33.25
 (version=TLS1_2 cipher=ECDHE-ECDSA-AES128-GCM-SHA256 bits=128/128);
 Thu, 25 Jul 2024 09:33:25 -0700 (PDT)
X-Relaying-Domain: iol.unh.edu
Date: Thu, 25 Jul 2024 09:33:25 -0700 (PDT)
Message-ID: <66a27e55.050a0220.2b9420.4a5aSMTPIN_ADDED_MISSING@mx.google.com>
Received: from [172.21.0.6] (unknown [172.18.0.240])
 by postal.iol.unh.edu (Postfix) with ESMTP id AE6C760526E2;
 Thu, 25 Jul 2024 12:33:25 -0400 (EDT)
Subject: |WARNING| pw142675 [PATCH] net/gve: Fix TX/RX queue setup and stop f
From: dpdklab@iol.unh.edu
To: Test Report <test-report@dpdk.org>
Cc: dpdk-test-reports@iol.unh.edu
In-Reply-To: <1721800736-2392953-1-git-send-email-tathagat.dpdk@gmail.com>
References: <1721800736-2392953-1-git-send-email-tathagat.dpdk@gmail.com>
Content-Type: text/plain
X-BeenThere: test-report@dpdk.org
X-Mailman-Version: 2.1.29
Precedence: list
List-Id: automatic DPDK test reports <test-report.dpdk.org>
List-Unsubscribe: <https://mails.dpdk.org/options/test-report>,
 <mailto:test-report-request@dpdk.org?subject=unsubscribe>
List-Archive: <http://mails.dpdk.org/archives/test-report/>
List-Post: <mailto:test-report@dpdk.org>
List-Help: <mailto:test-report-request@dpdk.org?subject=help>
List-Subscribe: <https://mails.dpdk.org/listinfo/test-report>,
 <mailto:test-report-request@dpdk.org?subject=subscribe>
Errors-To: test-report-bounces@dpdk.org

Test-Label: iol-sample-apps-testing
Test-Status: WARNING
http://dpdk.org/patch/142675

_Testing issues_

Submitter: Tathagat Priyadarshi <tathagat.dpdk@gmail.com>
Date: Wednesday, July 24 2024 05:58:56 
DPDK git baseline: Repo:dpdk
  Branch: master
  CommitID:9cad88310860ad99f9133af39f9cf98e524de9ac

142675 --> testing issues

Upstream job id: ACVP-FIPS-testing#6391

Test environment and result as below:

+--------------------+----------------------+----------------------+
|    Environment     | compressdev_zlib_pmd | dpdk_fips_validation |
+====================+======================+======================+
| Ubuntu 22.04 (ARM) | PASS                 | SKIPPED              |
+--------------------+----------------------+----------------------+
| Ubuntu 22.04       | PASS                 | SKIPPED              |
+--------------------+----------------------+----------------------+
| Ubuntu 20.04       | SKIPPED              | WARN                 |
+--------------------+----------------------+----------------------+

==== 20 line log output for Ubuntu 20.04 (dpdk_fips_validation): ====
|   ^~
cc1: all warnings being treated as errors
[1469/2966] Compiling C object 'drivers/a715181@@tmp_rte_net_gve@sta/net_gve_gve_rx.c.o'.
[1470/2966] Compiling C object 'drivers/a715181@@tmp_rte_net_fm10k@sta/net_fm10k_fm10k_ethdev.c.o'.
[1471/2966] Generating rte_net_failsafe.pmd.c with a custom command.
[1472/2966] Compiling C object 'drivers/net/hinic/base/12a4447@@hinic_base@sta/hinic_pmd_cmdq.c.o'.
[1473/2966] Generating symbol file 'drivers/a715181@@rte_net_dpaa2@sha/librte_net_dpaa2.so.24.2.symbols'.
[1474/2966] Compiling C object 'drivers/net/hinic/base/12a4447@@hinic_base@sta/hinic_pmd_eqs.c.o'.
[1475/2966] Compiling C object 'drivers/net/hinic/base/12a4447@@hinic_base@sta/hinic_pmd_api_cmd.c.o'.
[1476/2966] Compiling C object 'drivers/a715181@@tmp_rte_net_gve@sta/net_gve_gve_tx.c.o'.
[1477/2966] Compiling C object 'drivers/net/hinic/base/12a4447@@hinic_base@sta/hinic_pmd_hwif.c.o'.
[1478/2966] Compiling C object 'drivers/net/hinic/base/12a4447@@hinic_base@sta/hinic_pmd_mgmt.c.o'.
[1479/2966] Compiling C object 'drivers/net/hinic/base/12a4447@@hinic_base@sta/hinic_pmd_nicio.c.o'.
[1480/2966] Compiling C object 'drivers/a715181@@tmp_rte_net_hns3@sta/net_hns3_hns3_cmd.c.o'.
[1481/2966] Compiling C object 'drivers/net/hinic/base/12a4447@@hinic_base@sta/hinic_pmd_hwdev.c.o'.
[1482/2966] Compiling C object 'drivers/net/hinic/base/12a4447@@hinic_base@sta/hinic_pmd_niccfg.c.o'.
[1483/2966] Compiling C object 'drivers/a715181@@tmp_rte_net_hinic@sta/net_hinic_hinic_pmd_ethdev.c.o'.
[1484/2966] Generating rte_common_sfc_efx.sym_chk with a meson_exe.py custom command.
[1485/2966] Generating rte_common_cnxk.sym_chk with a meson_exe.py custom command.
ninja: build stopped: subcommand failed.
==== End log output ====

Ubuntu 22.04 (ARM)
	Kernel: 5.15.0-97-generic
	Compiler: gcc gcc (Ubuntu 11.4.0-1ubuntu1~22.04) 11.4.0

Ubuntu 22.04
	Kernel: 5.15.0-100-generic
	Compiler: gcc gcc (Ubuntu 11.4.0-1ubuntu1~22.04) 11.4.0

Ubuntu 20.04
	Kernel: 5.4.0-167-generic
	Compiler: gcc 9.4.0-1ubuntu1~20.04.1

To view detailed results, visit:
https://lab.dpdk.org/results/dashboard/patchsets/30601/

UNH-IOL DPDK Community Lab

To manage your email subscriptions, visit: 
https://lab.dpdk.org/results/dashboard/preferences/subscriptions/