From mboxrd@z Thu Jan  1 00:00:00 1970
Return-Path: <test-report-bounces@dpdk.org>
Received: from mails.dpdk.org (mails.dpdk.org [217.70.189.124])
	by inbox.dpdk.org (Postfix) with ESMTP id 1F9FF456AC
	for <public@inbox.dpdk.org>; Thu, 25 Jul 2024 19:55:55 +0200 (CEST)
Received: from mails.dpdk.org (localhost [127.0.0.1])
	by mails.dpdk.org (Postfix) with ESMTP id 1A8034363D;
	Thu, 25 Jul 2024 19:55:55 +0200 (CEST)
Received: from mail-io1-f100.google.com (mail-io1-f100.google.com
 [209.85.166.100])
 by mails.dpdk.org (Postfix) with ESMTP id DA1A84340B
 for <test-report@dpdk.org>; Thu, 25 Jul 2024 19:55:47 +0200 (CEST)
Received: by mail-io1-f100.google.com with SMTP id
 ca18e2360f4ac-8036ce6631bso16228739f.1
 for <test-report@dpdk.org>; Thu, 25 Jul 2024 10:55:47 -0700 (PDT)
DKIM-Signature: v=1; a=rsa-sha256; c=relaxed/relaxed;
 d=iol.unh.edu; s=unh-iol; t=1721930147; x=1722534947; darn=dpdk.org;
 h=references:in-reply-to:cc:to:from:subject:message-id:date:from:to
 :cc:subject:date:message-id:reply-to;
 bh=7cMSRmrBjA6Q3xS5dYJ7LCZnJtJIp1kSrCcFvkT6+NQ=;
 b=fngtby7xy14G2RAp37a/woTSnW5hR7P0yzaTKHe0JbYNh97OKlLmrr42gX/D7Zc1QW
 sMDdpjSygdKmlbjCBhYIFH3+8kHYJGRI/0FBM5qOwjg7HPpgegWw/DhNB19hRFCm4Wlc
 8EvM8dE6dwWbR1zBVbSub0qOshjt3VBs7LlT8=
X-Google-DKIM-Signature: v=1; a=rsa-sha256; c=relaxed/relaxed;
 d=1e100.net; s=20230601; t=1721930147; x=1722534947;
 h=references:in-reply-to:cc:to:from:subject:message-id:date
 :x-gm-message-state:from:to:cc:subject:date:message-id:reply-to;
 bh=7cMSRmrBjA6Q3xS5dYJ7LCZnJtJIp1kSrCcFvkT6+NQ=;
 b=CIFiZsOzY9J1rwespeFGJLT+8v+f4aknavWWSpMvqWXzE73jKmdjB8TU17B4+kK82V
 N8QMJa6/QH1w4Q0GrRMvyDDnw346gd8eBxNDp9ebgYxnaSMNcnib0h+qdUEu8aI54yYb
 vgU2aFryC+ezNfP53QPRNRZjJxQu9ZBXa5DBDFWWoeXdq8s6XZy25ijsDAn/dv/fnoi6
 lk+YJRMahTzEP5UuvIXoDJMAkPsUwvMjYGPZDQMiy403uPPq3rtiN4a2Ld65Azgfzfvk
 nJctvKbKgu1vln2yz7IDpfJU3VNxA51+cv87+9upIZdA5lsiY6gj6gFDerGMf1Myfc+v
 aqdA==
X-Gm-Message-State: AOJu0YwzyTrrVM/7r3b0BnBClw1gBiSo4RCjC6BasmJQHkJdU79xJeez
 p8mEMFmWXBiXzy0EHdnIqd4GmCNL699toGPL1HbK1DSjwDnXpdKZYIVWoxKpML8DlGjOvtsWGjq
 qf7RvnEYs1K+q4LIv3m0f4en1ELIL/+zD3D3BS2WH
X-Google-Smtp-Source: AGHT+IHsKeYdQkRH0xE17MHJrXyuh3B1N23N7XRECrbmxaLHQBaxvcm6uNrlgulQWpPx4sX4Mewk2KPULfoF
X-Received: by 2002:a05:6e02:1a0a:b0:398:f174:ea4 with SMTP id
 e9e14a558f8ab-39a21804a40mr40958675ab.15.1721930147134; 
 Thu, 25 Jul 2024 10:55:47 -0700 (PDT)
Received: from postal.iol.unh.edu (postal.iol.unh.edu. [132.177.123.84])
 by smtp-relay.gmail.com with ESMTPS id
 8926c6da1cb9f-4c29fc35f1fsm101371173.72.2024.07.25.10.55.47
 (version=TLS1_2 cipher=ECDHE-ECDSA-AES128-GCM-SHA256 bits=128/128);
 Thu, 25 Jul 2024 10:55:47 -0700 (PDT)
X-Relaying-Domain: iol.unh.edu
Date: Thu, 25 Jul 2024 10:55:47 -0700 (PDT)
Message-ID: <66a291a3.050a0220.11e3b9.3ffcSMTPIN_ADDED_MISSING@mx.google.com>
Received: from [172.21.0.8] (unknown [172.18.0.240])
 by postal.iol.unh.edu (Postfix) with ESMTP id B7E19605C351;
 Thu, 25 Jul 2024 13:55:46 -0400 (EDT)
Subject: |PENDING| pw142715-142717 [PATCH] [RFC,v1,3/3] dts: conf schema VXLA
From: dpdklab@iol.unh.edu
To: Test Report <test-report@dpdk.org>
Cc: dpdk-test-reports@iol.unh.edu
In-Reply-To: <20240725162325.20933-4-dmarx@iol.unh.edu>
References: <20240725162325.20933-4-dmarx@iol.unh.edu>
Content-Type: text/plain
X-BeenThere: test-report@dpdk.org
X-Mailman-Version: 2.1.29
Precedence: list
List-Id: automatic DPDK test reports <test-report.dpdk.org>
List-Unsubscribe: <https://mails.dpdk.org/options/test-report>,
 <mailto:test-report-request@dpdk.org?subject=unsubscribe>
List-Archive: <http://mails.dpdk.org/archives/test-report/>
List-Post: <mailto:test-report@dpdk.org>
List-Help: <mailto:test-report-request@dpdk.org?subject=help>
List-Subscribe: <https://mails.dpdk.org/listinfo/test-report>,
 <mailto:test-report-request@dpdk.org?subject=subscribe>
Errors-To: test-report-bounces@dpdk.org

Test-Label: iol-compile-arm64-testing
Test-Status: PENDING
http://dpdk.org/patch/142717

_Testing pending_

Submitter: Dean Marx <dmarx@iol.unh.edu>
Date: Thursday, July 25 2024 16:23:25 
DPDK git baseline: Repo:dpdk
  Branch: master
  CommitID:82c47f005b9a0a1e3a649664b7713443d18abe43

142715-142717 --> testing pending

Upstream job id: Generic-DPDK-Compile-Meson#279983

Test environment and result as below:

+----------------------------------------+--------------------+
|              Environment               | dpdk_meson_compile |
+========================================+====================+
| RHEL9 (ARM)                            | PASS               |
+----------------------------------------+--------------------+
| Ubuntu 20.04 ARM GCC Cross Compile     | PEND               |
+----------------------------------------+--------------------+
| Debian 12 with MUSDK                   | PASS               |
+----------------------------------------+--------------------+
| Ubuntu 20.04 ARM SVE                   | PASS               |
+----------------------------------------+--------------------+
| Fedora 39 (ARM)                        | PASS               |
+----------------------------------------+--------------------+
| Fedora 38 (ARM)                        | PASS               |
+----------------------------------------+--------------------+
| Fedora 38 (ARM Clang)                  | PEND               |
+----------------------------------------+--------------------+
| Fedora 39 (ARM Clang)                  | PEND               |
+----------------------------------------+--------------------+
| Fedora 40 (ARM Clang)                  | PEND               |
+----------------------------------------+--------------------+
| Ubuntu 20.04 (ARM)                     | PASS               |
+----------------------------------------+--------------------+
| Fedora 40 (ARM)                        | PASS               |
+----------------------------------------+--------------------+
| Ubuntu 22.04 (ARM)                     | PASS               |
+----------------------------------------+--------------------+
| Ubuntu 24.04 (ARM)                     | PASS               |
+----------------------------------------+--------------------+
| CentOS Stream 9 (ARM)                  | PASS               |
+----------------------------------------+--------------------+
| Debian 11 (Buster) (ARM)               | PASS               |
+----------------------------------------+--------------------+
| Ubuntu 20.04 aarch32 GCC Cross Compile | PEND               |
+----------------------------------------+--------------------+
| Debian 12 (arm)                        | PASS               |
+----------------------------------------+--------------------+
| Ubuntu 20.04 ARM Clang Cross Compile   | PEND               |
+----------------------------------------+--------------------+


RHEL9 (ARM)
	Kernel: Depends on container host
	Compiler: gcc 11.4.1

Ubuntu 20.04 ARM GCC Cross Compile
	Kernel: 5.4.0-167-generic
	Compiler: aarch64-linux-gnu-gcc (Ubuntu 9.4.0-1ubuntu1~20.04.2) 9.4.0

Debian 12 with MUSDK
	Kernel: Container Host Kernel
	Compiler: gcc 12.2.0

Ubuntu 20.04 ARM SVE
	Kernel: 5.4.0-167-generic
	Compiler: gcc (Ubuntu 10.5.0-1ubuntu1~20.04) 10.5.0

Fedora 39 (ARM)
	Kernel: Depends on container host
	Compiler: gcc 13.2.1

Fedora 38 (ARM)
	Kernel: Depends on container host
	Compiler: gcc 13.2.1

Fedora 38 (ARM Clang)
	Kernel: Depends on container host
	Compiler: clang 16.0.6

Fedora 39 (ARM Clang)
	Kernel: Depends on container host
	Compiler: clang 17.0.6

Fedora 40 (ARM Clang)
	Kernel: Depends on container host
	Compiler: clang 18.1.6

Ubuntu 20.04 (ARM)
	Kernel: Container Host Kernel
	Compiler: gcc 9.4.0

Fedora 40 (ARM)
	Kernel: Depends on container host
	Compiler: gcc 14.1.1

Ubuntu 22.04 (ARM)
	Kernel: Container Host Kernel
	Compiler: gcc 11.4.0

Ubuntu 24.04 (ARM)
	Kernel: 5.4.0-167-generic
	Compiler: gcc 13.2.0

CentOS Stream 9 (ARM)
	Kernel: Container Host Kernel
	Compiler: gcc 11.4.1

Debian 11 (Buster) (ARM)
	Kernel: Container Host Kernel
	Compiler: gcc 10.2.1

Ubuntu 20.04 aarch32 GCC Cross Compile
	Kernel: 5.4.0-167-generic
	Compiler: gcc 9.4.0

Debian 12 (arm)
	Kernel: Container Host Kernel
	Compiler: gcc 12.2.0

Ubuntu 20.04 ARM Clang Cross Compile
	Kernel: 5.4.0-72-generic
	Compiler: clang 10.0.0-4ubuntu1

To view detailed results, visit:
https://lab.dpdk.org/results/dashboard/patchsets/30619/

UNH-IOL DPDK Community Lab

To manage your email subscriptions, visit: 
https://lab.dpdk.org/results/dashboard/preferences/subscriptions/