From mboxrd@z Thu Jan  1 00:00:00 1970
Return-Path: <test-report-bounces@dpdk.org>
Received: from mails.dpdk.org (mails.dpdk.org [217.70.189.124])
	by inbox.dpdk.org (Postfix) with ESMTP id 5D794456B1
	for <public@inbox.dpdk.org>; Thu, 25 Jul 2024 20:32:05 +0200 (CEST)
Received: from mails.dpdk.org (localhost [127.0.0.1])
	by mails.dpdk.org (Postfix) with ESMTP id 3CA4140EF0;
	Thu, 25 Jul 2024 20:32:05 +0200 (CEST)
Received: from mail-yw1-f226.google.com (mail-yw1-f226.google.com
 [209.85.128.226])
 by mails.dpdk.org (Postfix) with ESMTP id B34B540B98
 for <test-report@dpdk.org>; Thu, 25 Jul 2024 20:32:03 +0200 (CEST)
Received: by mail-yw1-f226.google.com with SMTP id
 00721157ae682-65f9e25fffaso13035297b3.3
 for <test-report@dpdk.org>; Thu, 25 Jul 2024 11:32:03 -0700 (PDT)
DKIM-Signature: v=1; a=rsa-sha256; c=relaxed/relaxed;
 d=iol.unh.edu; s=unh-iol; t=1721932323; x=1722537123; darn=dpdk.org;
 h=references:in-reply-to:cc:to:from:subject:message-id:date:from:to
 :cc:subject:date:message-id:reply-to;
 bh=d3BUqFzTYUWatKHWtj325LDMlPzSvj3Zgr3TGCWjOdA=;
 b=Z3p6Qljoq/El+v0ngnzVCMpJVzCxN0dQRk5fWSA1BweiYxpPTWFLD1GZlD2KtW8qtI
 NivcFkwXMtIKXDvpiewwuZN63usyhv5yREGG+4dmojFUIuiE0MZdgIzMCp2HmzxqWmoU
 ipOs5q9UsVgy/4G/5qpOXNDHLN+c6cTOcDqmw=
X-Google-DKIM-Signature: v=1; a=rsa-sha256; c=relaxed/relaxed;
 d=1e100.net; s=20230601; t=1721932323; x=1722537123;
 h=references:in-reply-to:cc:to:from:subject:message-id:date
 :x-gm-message-state:from:to:cc:subject:date:message-id:reply-to;
 bh=d3BUqFzTYUWatKHWtj325LDMlPzSvj3Zgr3TGCWjOdA=;
 b=FYnj5Ge52UV14jpV+mirynLnDiJpWmjJJkmiaXacoB8pY+bPdgCv8AI/ZTokczTgdl
 UKHJH8PwRX+k6Y8jnIwKfZvN6rGuhRUlIqlUFuFnqI2FildqLcRlim9ovtiFaN8fQE1A
 Kin0llNeeQHZHapwFx2JNbJ1ivken0RlbOfT78BkEBK5IiZzeTVn2f0nLWlF6UV9JJRk
 C8e4VANMSIMVplsB9WtjiaVGzM8aY35VTLVYalPe49rY6YtZYYLDdgjwq+ezZcsjADXl
 ctJdi96d3xnkwO1pe+/mz2EAdiVSINAWUlTzN4LL5MOlkBYoYG7Yvoi5L9lkTlNfTbv1
 kSjw==
X-Gm-Message-State: AOJu0YwL1qyaAe8Fr4OuhDv8Kacx+q9RNnzy8Nz5k8MWRhqnRMtRj76Z
 v5qQKVr4OIs8LqUpURn0og0s/xXuatgl7ct6aHP+p1Iq9x4i2+aF09XCWk5zU9KsWE9SoLgXSM3
 dwWLhlW1NSCuAgVXBnpYIKqRF6G0nUh3P+mD4BiCx
X-Google-Smtp-Source: AGHT+IFbq/SuhWj3uoS2+5k9/omtZsMQCqQoBkzol07iajOkeCJPBOuQEE9vYZLux1SGkbFx24i4a6fmSdGs
X-Received: by 2002:a05:690c:dcb:b0:627:d23a:4505 with SMTP id
 00721157ae682-675111c7a44mr43047857b3.3.1721932323036; 
 Thu, 25 Jul 2024 11:32:03 -0700 (PDT)
Received: from postal.iol.unh.edu (postal.iol.unh.edu. [132.177.123.84])
 by smtp-relay.gmail.com with ESMTPS id
 00721157ae682-6756b8c8e5bsm1906397b3.65.2024.07.25.11.32.02
 (version=TLS1_2 cipher=ECDHE-ECDSA-AES128-GCM-SHA256 bits=128/128);
 Thu, 25 Jul 2024 11:32:03 -0700 (PDT)
X-Relaying-Domain: iol.unh.edu
Date: Thu, 25 Jul 2024 11:32:03 -0700 (PDT)
Message-ID: <66a29a23.810a0220.3b2914.8907SMTPIN_ADDED_MISSING@mx.google.com>
Received: from [172.21.0.9] (unknown [172.18.0.240])
 by postal.iol.unh.edu (Postfix) with ESMTP id AE5E6605C364;
 Thu, 25 Jul 2024 14:32:02 -0400 (EDT)
Subject: |PENDING| pw142715-142717 [PATCH] [RFC,v1,3/3] dts: conf schema VXLA
From: dpdklab@iol.unh.edu
To: Test Report <test-report@dpdk.org>
Cc: dpdk-test-reports@iol.unh.edu
In-Reply-To: <20240725162325.20933-4-dmarx@iol.unh.edu>
References: <20240725162325.20933-4-dmarx@iol.unh.edu>
Content-Type: text/plain
X-BeenThere: test-report@dpdk.org
X-Mailman-Version: 2.1.29
Precedence: list
List-Id: automatic DPDK test reports <test-report.dpdk.org>
List-Unsubscribe: <https://mails.dpdk.org/options/test-report>,
 <mailto:test-report-request@dpdk.org?subject=unsubscribe>
List-Archive: <http://mails.dpdk.org/archives/test-report/>
List-Post: <mailto:test-report@dpdk.org>
List-Help: <mailto:test-report-request@dpdk.org?subject=help>
List-Subscribe: <https://mails.dpdk.org/listinfo/test-report>,
 <mailto:test-report-request@dpdk.org?subject=subscribe>
Errors-To: test-report-bounces@dpdk.org

Test-Label: iol-unit-arm64-testing
Test-Status: PENDING
http://dpdk.org/patch/142717

_Testing pending_

Submitter: Dean Marx <dmarx@iol.unh.edu>
Date: Thursday, July 25 2024 16:23:25 
DPDK git baseline: Repo:dpdk
  Branch: master
  CommitID:82c47f005b9a0a1e3a649664b7713443d18abe43

142715-142717 --> testing pending

Upstream job id: Generic-Unit-Test-DPDK#244878

Test environment and result as below:

+-----------------------------+----------------+--------------+---------------------------+------------------------------+
|         Environment         | dpdk_unit_test | lpm_autotest | cryptodev_sw_zuc_autotest | cryptodev_sw_snow3g_autotest |
+=============================+================+==============+===========================+==============================+
| 32-bit Ubuntu 20.04.4 (ARM) | PASS           | SKIPPED      | SKIPPED                   | SKIPPED                      |
+-----------------------------+----------------+--------------+---------------------------+------------------------------+
| CentOS Stream 9 (ARM)       | PASS           | SKIPPED      | SKIPPED                   | SKIPPED                      |
+-----------------------------+----------------+--------------+---------------------------+------------------------------+
| Debian 11 (Buster) (ARM)    | PASS           | SKIPPED      | SKIPPED                   | SKIPPED                      |
+-----------------------------+----------------+--------------+---------------------------+------------------------------+
| Debian 12 (arm)             | PASS           | SKIPPED      | PASS                      | PASS                         |
+-----------------------------+----------------+--------------+---------------------------+------------------------------+
| Fedora 38 (ARM Clang)       | PASS           | SKIPPED      | SKIPPED                   | SKIPPED                      |
+-----------------------------+----------------+--------------+---------------------------+------------------------------+
| Fedora 37 (ARM)             | PASS           | SKIPPED      | SKIPPED                   | SKIPPED                      |
+-----------------------------+----------------+--------------+---------------------------+------------------------------+
| Fedora 38 (ARM)             | PASS           | SKIPPED      | SKIPPED                   | SKIPPED                      |
+-----------------------------+----------------+--------------+---------------------------+------------------------------+
| Fedora 39 (ARM Clang)       | PEND           | SKIPPED      | SKIPPED                   | SKIPPED                      |
+-----------------------------+----------------+--------------+---------------------------+------------------------------+
| Fedora 39 (ARM)             | PASS           | SKIPPED      | SKIPPED                   | SKIPPED                      |
+-----------------------------+----------------+--------------+---------------------------+------------------------------+
| Fedora 40 (ARM)             | PASS           | SKIPPED      | SKIPPED                   | SKIPPED                      |
+-----------------------------+----------------+--------------+---------------------------+------------------------------+
| Fedora 40 (ARM Clang)       | PEND           | SKIPPED      | SKIPPED                   | SKIPPED                      |
+-----------------------------+----------------+--------------+---------------------------+------------------------------+
| RHEL9 (ARM)                 | PASS           | SKIPPED      | SKIPPED                   | SKIPPED                      |
+-----------------------------+----------------+--------------+---------------------------+------------------------------+
| Ubuntu 24.04 (ARM)          | PEND           | SKIPPED      | SKIPPED                   | SKIPPED                      |
+-----------------------------+----------------+--------------+---------------------------+------------------------------+
| Ubuntu 20.04 (ARM)          | PEND           | SKIPPED      | SKIPPED                   | SKIPPED                      |
+-----------------------------+----------------+--------------+---------------------------+------------------------------+
| Ubuntu 22.04 (ARM)          | PEND           | SKIPPED      | SKIPPED                   | SKIPPED                      |
+-----------------------------+----------------+--------------+---------------------------+------------------------------+
| Ubuntu 20.04 ARM SVE        | SKIPPED        | PASS         | SKIPPED                   | SKIPPED                      |
+-----------------------------+----------------+--------------+---------------------------+------------------------------+


32-bit Ubuntu 20.04.4 (ARM)
	Kernel: 5.4.0-155-generic aarch64
	Compiler: gcc 9.4

CentOS Stream 9 (ARM)
	Kernel: Container Host Kernel
	Compiler: gcc 11.4.1

Debian 11 (Buster) (ARM)
	Kernel: Container Host Kernel
	Compiler: gcc 10.2.1

Debian 12 (arm)
	Kernel: Container Host Kernel
	Compiler: gcc 12.2.0

Fedora 38 (ARM Clang)
	Kernel: Depends on container host
	Compiler: clang 16.0.6

Fedora 37 (ARM)
	Kernel: Depends on container host
	Compiler: gcc 12.3.1

Fedora 38 (ARM)
	Kernel: Depends on container host
	Compiler: gcc 13.2.1

Fedora 39 (ARM Clang)
	Kernel: Depends on container host
	Compiler: clang 17.0.6

Fedora 39 (ARM)
	Kernel: Depends on container host
	Compiler: gcc 13.2.1

Fedora 40 (ARM)
	Kernel: Depends on container host
	Compiler: gcc 14.1.1

Fedora 40 (ARM Clang)
	Kernel: Depends on container host
	Compiler: clang 18.1.6

RHEL9 (ARM)
	Kernel: Depends on container host
	Compiler: gcc 11.4.1

Ubuntu 24.04 (ARM)
	Kernel: 5.4.0-167-generic
	Compiler: gcc 13.2.0

Ubuntu 20.04 (ARM)
	Kernel: Container Host Kernel
	Compiler: gcc 9.4.0

Ubuntu 22.04 (ARM)
	Kernel: Container Host Kernel
	Compiler: gcc 11.4.0

Ubuntu 20.04 ARM SVE
	Kernel: 5.4.0-167-generic
	Compiler: gcc (Ubuntu 10.5.0-1ubuntu1~20.04) 10.5.0

To view detailed results, visit:
https://lab.dpdk.org/results/dashboard/patchsets/30619/

UNH-IOL DPDK Community Lab

To manage your email subscriptions, visit: 
https://lab.dpdk.org/results/dashboard/preferences/subscriptions/