From mboxrd@z Thu Jan  1 00:00:00 1970
Return-Path: <test-report-bounces@dpdk.org>
Received: from mails.dpdk.org (mails.dpdk.org [217.70.189.124])
	by inbox.dpdk.org (Postfix) with ESMTP id C4EDD45689
	for <public@inbox.dpdk.org>; Thu, 25 Jul 2024 20:42:57 +0200 (CEST)
Received: from mails.dpdk.org (localhost [127.0.0.1])
	by mails.dpdk.org (Postfix) with ESMTP id BF49D40EF0;
	Thu, 25 Jul 2024 20:42:57 +0200 (CEST)
Received: from mail-vk1-f228.google.com (mail-vk1-f228.google.com
 [209.85.221.228])
 by mails.dpdk.org (Postfix) with ESMTP id E6D0B40B98
 for <test-report@dpdk.org>; Thu, 25 Jul 2024 20:42:55 +0200 (CEST)
Received: by mail-vk1-f228.google.com with SMTP id
 71dfb90a1353d-4ef12e5658bso374721e0c.2
 for <test-report@dpdk.org>; Thu, 25 Jul 2024 11:42:55 -0700 (PDT)
DKIM-Signature: v=1; a=rsa-sha256; c=relaxed/relaxed;
 d=iol.unh.edu; s=unh-iol; t=1721932975; x=1722537775; darn=dpdk.org;
 h=references:in-reply-to:cc:to:from:subject:message-id:date:from:to
 :cc:subject:date:message-id:reply-to;
 bh=vbOAiYGjYaDzmmvvfA+fCcxtzICDzbhU5J2dwJBKX4E=;
 b=LdPwRmiAnM0/ma3/fG64H68OhBMQercPKUre0sWsJvcXUWQVdTHZM32FtynCiweB94
 fasjkxoBOUcsrzE5Kq1da9PZ1PWGN2kahA3pyKyjAby51tQ1AVrF9XDdyROJomD3/mhm
 irxAtRjA5E3VBNmakFL4r+cdmapjevYyIpsqY=
X-Google-DKIM-Signature: v=1; a=rsa-sha256; c=relaxed/relaxed;
 d=1e100.net; s=20230601; t=1721932975; x=1722537775;
 h=references:in-reply-to:cc:to:from:subject:message-id:date
 :x-gm-message-state:from:to:cc:subject:date:message-id:reply-to;
 bh=vbOAiYGjYaDzmmvvfA+fCcxtzICDzbhU5J2dwJBKX4E=;
 b=QtJTlL9dMj0xy85JaR7xvBRuHDtpVHhSx1ktmEIJEkaxGvulaL+Lab+YXlfj/zDq0f
 tg16fsymASatszFl6azIGrKAdxSTYZT4VmsqrVR+/gxCU397SfAdGxcExCvwhg0WDOo8
 Mg7fsKFq889V5MGw60PAp32F+e6EQp0drAtTdJu9zxFGLk6JMlNVLciitzERUpklQgD1
 mhYZPBShv228AebkEa4Ns4aFEQnbHiFfnsnukJ3noxEcBmwWcGqZwf2OfoNgRKP2FUju
 Ys28w6VJ+edAAvL4wGJ7NbuHSQYkCPt5H/1DcxfbX2NZzKfwA8W6HXgo2oFr0LrAenjD
 QhaQ==
X-Gm-Message-State: AOJu0YywcgpTgz/FccyaX4fhgTXqDXlZiA8lKp1FxJAEs2RepK7MB50H
 OGX4capzUdTOpBnmkc4Wa02VBQt44aGAQWxJ4WBtAtdjZcSvYt+ubPojnEiylFe/rgb+3RTBT8a
 xDgRvIf9+y1miqYnPrLh+I6hpDONWUE9gwr2aWCmt
X-Google-Smtp-Source: AGHT+IHewa/RPxPlr4EprjP1QHfkkOP7cEIqblCH2TxXSuNhAz002RkvsbrgPEV2ckr5XkNnB1fB/33lhVWO
X-Received: by 2002:a05:6122:3192:b0:4f5:202b:6220 with SMTP id
 71dfb90a1353d-4f6c9fe5b07mr3671994e0c.0.1721932975279; 
 Thu, 25 Jul 2024 11:42:55 -0700 (PDT)
Received: from postal.iol.unh.edu (postal.iol.unh.edu. [132.177.123.84])
 by smtp-relay.gmail.com with ESMTPS id
 71dfb90a1353d-4f6c897a434sm166138e0c.12.2024.07.25.11.42.55
 (version=TLS1_2 cipher=ECDHE-ECDSA-AES128-GCM-SHA256 bits=128/128);
 Thu, 25 Jul 2024 11:42:55 -0700 (PDT)
X-Relaying-Domain: iol.unh.edu
Date: Thu, 25 Jul 2024 11:42:55 -0700 (PDT)
Message-ID: <66a29caf.050a0220.9d1dd.6953SMTPIN_ADDED_MISSING@mx.google.com>
Received: from [172.17.0.4] (unknown [172.18.0.217])
 by postal.iol.unh.edu (Postfix) with ESMTP id F3A96605C351;
 Thu, 25 Jul 2024 14:42:54 -0400 (EDT)
Subject: |PENDING| pw142715-142717 [PATCH] [RFC,v1,3/3] dts: conf schema VXLA
From: dpdklab@iol.unh.edu
To: Test Report <test-report@dpdk.org>
Cc: dpdk-test-reports@iol.unh.edu
In-Reply-To: <20240725162325.20933-4-dmarx@iol.unh.edu>
References: <20240725162325.20933-4-dmarx@iol.unh.edu>
Content-Type: text/plain
X-BeenThere: test-report@dpdk.org
X-Mailman-Version: 2.1.29
Precedence: list
List-Id: automatic DPDK test reports <test-report.dpdk.org>
List-Unsubscribe: <https://mails.dpdk.org/options/test-report>,
 <mailto:test-report-request@dpdk.org?subject=unsubscribe>
List-Archive: <http://mails.dpdk.org/archives/test-report/>
List-Post: <mailto:test-report@dpdk.org>
List-Help: <mailto:test-report-request@dpdk.org?subject=help>
List-Subscribe: <https://mails.dpdk.org/listinfo/test-report>,
 <mailto:test-report-request@dpdk.org?subject=subscribe>
Errors-To: test-report-bounces@dpdk.org

Test-Label: iol-unit-amd64-testing
Test-Status: PENDING
http://dpdk.org/patch/142717

_Testing pending_

Submitter: Dean Marx <dmarx@iol.unh.edu>
Date: Thursday, July 25 2024 16:23:25 
DPDK git baseline: Repo:dpdk
  Branch: master
  CommitID:82c47f005b9a0a1e3a649664b7713443d18abe43

142715-142717 --> testing pending

Upstream job id: Generic-Unit-Test-DPDK#244902

Test environment and result as below:

+---------------------+----------------+
|     Environment     | dpdk_unit_test |
+=====================+================+
| Windows Server 2022 | PASS           |
+---------------------+----------------+
| Windows Server 2019 | PASS           |
+---------------------+----------------+
| CentOS Stream 8     | PASS           |
+---------------------+----------------+
| CentOS Stream 9     | PASS           |
+---------------------+----------------+
| Debian Bullseye     | PASS           |
+---------------------+----------------+
| Debian 12           | PASS           |
+---------------------+----------------+
| Fedora 37           | PASS           |
+---------------------+----------------+
| Fedora 39           | PASS           |
+---------------------+----------------+
| Fedora 38 (Clang)   | PASS           |
+---------------------+----------------+
| Fedora 39 (Clang)   | PASS           |
+---------------------+----------------+
| Fedora 40           | PASS           |
+---------------------+----------------+
| Fedora 40 (Clang)   | PEND           |
+---------------------+----------------+
| openSUSE Leap 15    | PASS           |
+---------------------+----------------+
| RHEL8               | PEND           |
+---------------------+----------------+
| RHEL9               | PEND           |
+---------------------+----------------+
| Ubuntu 20.04        | PEND           |
+---------------------+----------------+
| Ubuntu 22.04        | PEND           |
+---------------------+----------------+
| Ubuntu 24.04        | PEND           |
+---------------------+----------------+
| Fedora 38           | PEND           |
+---------------------+----------------+


Windows Server 2022
	Kernel: 10.0.20348.2031
	Compiler: clang 15.0.7, gcc 8.1.0 (MinGW), and MSVC VS 17.9

Windows Server 2019
	Kernel: 10.0.17763
	Compiler: clang 14.0 and gcc 8.1.0 (MinGW)

CentOS Stream 8
	Kernel: 5.4.0-167-generic
	Compiler: gcc 8.5.0 20210514

CentOS Stream 9
	Kernel: 5.4.0-167-generic
	Compiler: gcc 11.4.1 20230605

Debian Bullseye
	Kernel: 5.4.0-167-generic
	Compiler: gcc 10.2.1-6

Debian 12
	Kernel: Container Host Kernel
	Compiler: gcc 12.2.0

Fedora 37
	Kernel: Depends on container host system
	Compiler: gcc 12.3.1

Fedora 39
	Kernel: Depends on container host
	Compiler: gcc 13.2.1

Fedora 38 (Clang)
	Kernel: Depends on container host
	Compiler: clang 16.0.6

Fedora 39 (Clang)
	Kernel: Depends on container host
	Compiler: clang 17.0.6

Fedora 40
	Kernel: Depends on container host
	Compiler: gcc 14.1.1

Fedora 40 (Clang)
	Kernel: Depends on container host
	Compiler: clang 18.1.6

openSUSE Leap 15
	Kernel: 5.4.0-167-generic
	Compiler: gcc 7.5.0

RHEL8
	Kernel: 5.4.0-167-generic
	Compiler: gcc 8.5.0 20210514 (Red Hat 8.5.0-20)

RHEL9
	Kernel: Depends on container host
	Compiler: gcc 11.4.1

Ubuntu 20.04
	Kernel: 5.4.0-167-generic
	Compiler: gcc 9.4.0-1ubuntu1~20.04.1

Ubuntu 22.04
	Kernel: 5.4.0-167-generic
	Compiler: gcc 11.4.0

Ubuntu 24.04
	Kernel: 5.4.0-167-generic
	Compiler: gcc 13.2.0

Fedora 38
	Kernel: Depends on container host
	Compiler: gcc 13.2.1

To view detailed results, visit:
https://lab.dpdk.org/results/dashboard/patchsets/30619/

UNH-IOL DPDK Community Lab

To manage your email subscriptions, visit: 
https://lab.dpdk.org/results/dashboard/preferences/subscriptions/