From mboxrd@z Thu Jan  1 00:00:00 1970
Return-Path: <test-report-bounces@dpdk.org>
Received: from mails.dpdk.org (mails.dpdk.org [217.70.189.124])
	by inbox.dpdk.org (Postfix) with ESMTP id 3533445689
	for <public@inbox.dpdk.org>; Thu, 25 Jul 2024 20:44:18 +0200 (CEST)
Received: from mails.dpdk.org (localhost [127.0.0.1])
	by mails.dpdk.org (Postfix) with ESMTP id 2937540EF0;
	Thu, 25 Jul 2024 20:44:18 +0200 (CEST)
Received: from mail-io1-f98.google.com (mail-io1-f98.google.com
 [209.85.166.98]) by mails.dpdk.org (Postfix) with ESMTP id 1C80840B98
 for <test-report@dpdk.org>; Thu, 25 Jul 2024 20:44:09 +0200 (CEST)
Received: by mail-io1-f98.google.com with SMTP id
 ca18e2360f4ac-80a2939265cso17076939f.3
 for <test-report@dpdk.org>; Thu, 25 Jul 2024 11:44:09 -0700 (PDT)
DKIM-Signature: v=1; a=rsa-sha256; c=relaxed/relaxed;
 d=iol.unh.edu; s=unh-iol; t=1721933048; x=1722537848; darn=dpdk.org;
 h=references:in-reply-to:cc:to:from:subject:message-id:date:from:to
 :cc:subject:date:message-id:reply-to;
 bh=JVv/XOiUzB//87/OMftYhkrQRQS7D8zvGhuxKrmLBQY=;
 b=RN4RGo52mWOUBsTCC46A+aiP7n4uRds7Wb4aO0cEgaGFeL5McbrWLfaz9LsxJ75+/1
 to9/CR76TsiPaWde9Q3u/VPDvfVln5Kg28t/3Q/OLcKoXS5XRutnuleP1B9wbKcmMvrv
 gTCwqlQIzp9e+f5YzyTRcW0l8agBUf7Jp7YA4=
X-Google-DKIM-Signature: v=1; a=rsa-sha256; c=relaxed/relaxed;
 d=1e100.net; s=20230601; t=1721933048; x=1722537848;
 h=references:in-reply-to:cc:to:from:subject:message-id:date
 :x-gm-message-state:from:to:cc:subject:date:message-id:reply-to;
 bh=JVv/XOiUzB//87/OMftYhkrQRQS7D8zvGhuxKrmLBQY=;
 b=IjtQBhZtqP3VxA4YQwTWGVdCzt6bxlMQurk3Rkv6/jnZJFdpw3BCovQc5o8pQGwK1/
 gfF6r+OPJHq6inBzworHg8giNt1o6D+Ap1M4b4lMLn5AcV/acL0BuZSG6vqRXIUhq04p
 74RHf/+YeVI8c2a9WAI+vqK+Yjpx3vufDA1/P4MERxcvwIC0/riXVPykJ4jGWiIpN4WD
 qm7fhAHuuOC6jQ751AD/rqnunrRPOsZb0Z6xEBV7ZgjETc+H130eAtvhKz9Iw/AMonxs
 Tp80yMGsjRJnwcc+5gRpETpdSZb9FDcpWuNGmXVi1Lfi1ijG6dou+gYIoq2C0nKYnM3K
 A87A==
X-Gm-Message-State: AOJu0YzKwANTktSwg74w43DIOH4bf5o2pu9REEpcZt8qbfOZuOQmcXSn
 GY5u5AVP+GFnE1R3Rcfbn/jccW54mh+Zwtqv3ErqrvJ4Pmt5AKiT5f/cLEVVHshDU0E5fsvb/xX
 8vcEhjMgQntjphsKjeGpB5XKqGs9Sd6rnBet/vxHLxbv+oPRjIf8dK343
X-Google-Smtp-Source: AGHT+IG7lnID7IldKLohfHzVPdJLeT/HrW21AgUM8AnvdmV/N/4LxfI/G7aZjCh5GP2n9iUC4GxLwuRRiNC+
X-Received: by 2002:a05:6602:160b:b0:81f:881f:1f17 with SMTP id
 ca18e2360f4ac-81f881f21afmr187303639f.7.1721933048464; 
 Thu, 25 Jul 2024 11:44:08 -0700 (PDT)
Received: from postal.iol.unh.edu (postal.iol.unh.edu.
 [2606:4100:3880:1234::84]) by smtp-relay.gmail.com with ESMTPS id
 8926c6da1cb9f-4c29fc35a58sm109424173.74.2024.07.25.11.44.08
 (version=TLS1_2 cipher=ECDHE-ECDSA-AES128-GCM-SHA256 bits=128/128);
 Thu, 25 Jul 2024 11:44:08 -0700 (PDT)
X-Relaying-Domain: iol.unh.edu
Date: Thu, 25 Jul 2024 11:44:08 -0700 (PDT)
Message-ID: <66a29cf8.050a0220.1d36a.4a5bSMTPIN_ADDED_MISSING@mx.google.com>
Received: from [172.17.0.4] (unknown [172.18.0.217])
 by postal.iol.unh.edu (Postfix) with ESMTP id BFBFC605C351;
 Thu, 25 Jul 2024 14:44:07 -0400 (EDT)
Subject: |PENDING| pw142715-142717 [PATCH] [RFC,v1,3/3] dts: conf schema VXLA
From: dpdklab@iol.unh.edu
To: Test Report <test-report@dpdk.org>
Cc: dpdk-test-reports@iol.unh.edu
In-Reply-To: <20240725162325.20933-4-dmarx@iol.unh.edu>
References: <20240725162325.20933-4-dmarx@iol.unh.edu>
Content-Type: text/plain
X-BeenThere: test-report@dpdk.org
X-Mailman-Version: 2.1.29
Precedence: list
List-Id: automatic DPDK test reports <test-report.dpdk.org>
List-Unsubscribe: <https://mails.dpdk.org/options/test-report>,
 <mailto:test-report-request@dpdk.org?subject=unsubscribe>
List-Archive: <http://mails.dpdk.org/archives/test-report/>
List-Post: <mailto:test-report@dpdk.org>
List-Help: <mailto:test-report-request@dpdk.org?subject=help>
List-Subscribe: <https://mails.dpdk.org/listinfo/test-report>,
 <mailto:test-report-request@dpdk.org?subject=subscribe>
Errors-To: test-report-bounces@dpdk.org

Test-Label: iol-unit-amd64-testing
Test-Status: PENDING
http://dpdk.org/patch/142717

_Testing pending_

Submitter: Dean Marx <dmarx@iol.unh.edu>
Date: Thursday, July 25 2024 16:23:25 
DPDK git baseline: Repo:dpdk
  Branch: master
  CommitID:82c47f005b9a0a1e3a649664b7713443d18abe43

142715-142717 --> testing pending

Upstream job id: Generic-Unit-Test-DPDK#244900

Test environment and result as below:

+---------------------+----------------+
|     Environment     | dpdk_unit_test |
+=====================+================+
| Windows Server 2022 | PASS           |
+---------------------+----------------+
| Windows Server 2019 | PASS           |
+---------------------+----------------+
| CentOS Stream 8     | PASS           |
+---------------------+----------------+
| CentOS Stream 9     | PASS           |
+---------------------+----------------+
| Debian Bullseye     | PASS           |
+---------------------+----------------+
| Debian 12           | PASS           |
+---------------------+----------------+
| Fedora 37           | PASS           |
+---------------------+----------------+
| Fedora 39           | PASS           |
+---------------------+----------------+
| Fedora 38 (Clang)   | PASS           |
+---------------------+----------------+
| Fedora 39 (Clang)   | PASS           |
+---------------------+----------------+
| Fedora 40           | PASS           |
+---------------------+----------------+
| Fedora 40 (Clang)   | PASS           |
+---------------------+----------------+
| openSUSE Leap 15    | PASS           |
+---------------------+----------------+
| RHEL8               | PEND           |
+---------------------+----------------+
| RHEL9               | PEND           |
+---------------------+----------------+
| Ubuntu 20.04        | PEND           |
+---------------------+----------------+
| Ubuntu 22.04        | PEND           |
+---------------------+----------------+
| Ubuntu 24.04        | PEND           |
+---------------------+----------------+
| Fedora 38           | PEND           |
+---------------------+----------------+


Windows Server 2022
	Kernel: 10.0.20348.2031
	Compiler: clang 15.0.7, gcc 8.1.0 (MinGW), and MSVC VS 17.9

Windows Server 2019
	Kernel: 10.0.17763
	Compiler: clang 14.0 and gcc 8.1.0 (MinGW)

CentOS Stream 8
	Kernel: 5.4.0-167-generic
	Compiler: gcc 8.5.0 20210514

CentOS Stream 9
	Kernel: 5.4.0-167-generic
	Compiler: gcc 11.4.1 20230605

Debian Bullseye
	Kernel: 5.4.0-167-generic
	Compiler: gcc 10.2.1-6

Debian 12
	Kernel: Container Host Kernel
	Compiler: gcc 12.2.0

Fedora 37
	Kernel: Depends on container host system
	Compiler: gcc 12.3.1

Fedora 39
	Kernel: Depends on container host
	Compiler: gcc 13.2.1

Fedora 38 (Clang)
	Kernel: Depends on container host
	Compiler: clang 16.0.6

Fedora 39 (Clang)
	Kernel: Depends on container host
	Compiler: clang 17.0.6

Fedora 40
	Kernel: Depends on container host
	Compiler: gcc 14.1.1

Fedora 40 (Clang)
	Kernel: Depends on container host
	Compiler: clang 18.1.6

openSUSE Leap 15
	Kernel: 5.4.0-167-generic
	Compiler: gcc 7.5.0

RHEL8
	Kernel: 5.4.0-167-generic
	Compiler: gcc 8.5.0 20210514 (Red Hat 8.5.0-20)

RHEL9
	Kernel: Depends on container host
	Compiler: gcc 11.4.1

Ubuntu 20.04
	Kernel: 5.4.0-167-generic
	Compiler: gcc 9.4.0-1ubuntu1~20.04.1

Ubuntu 22.04
	Kernel: 5.4.0-167-generic
	Compiler: gcc 11.4.0

Ubuntu 24.04
	Kernel: 5.4.0-167-generic
	Compiler: gcc 13.2.0

Fedora 38
	Kernel: Depends on container host
	Compiler: gcc 13.2.1

To view detailed results, visit:
https://lab.dpdk.org/results/dashboard/patchsets/30619/

UNH-IOL DPDK Community Lab

To manage your email subscriptions, visit: 
https://lab.dpdk.org/results/dashboard/preferences/subscriptions/