From mboxrd@z Thu Jan  1 00:00:00 1970
Return-Path: <test-report-bounces@dpdk.org>
Received: from mails.dpdk.org (mails.dpdk.org [217.70.189.124])
	by inbox.dpdk.org (Postfix) with ESMTP id 0809645689
	for <public@inbox.dpdk.org>; Thu, 25 Jul 2024 20:50:11 +0200 (CEST)
Received: from mails.dpdk.org (localhost [127.0.0.1])
	by mails.dpdk.org (Postfix) with ESMTP id 001AD40EF0;
	Thu, 25 Jul 2024 20:50:10 +0200 (CEST)
Received: from mail-pl1-f228.google.com (mail-pl1-f228.google.com
 [209.85.214.228])
 by mails.dpdk.org (Postfix) with ESMTP id 282F640B98
 for <test-report@dpdk.org>; Thu, 25 Jul 2024 20:50:10 +0200 (CEST)
Received: by mail-pl1-f228.google.com with SMTP id
 d9443c01a7336-1fc65329979so10668735ad.0
 for <test-report@dpdk.org>; Thu, 25 Jul 2024 11:50:10 -0700 (PDT)
DKIM-Signature: v=1; a=rsa-sha256; c=relaxed/relaxed;
 d=iol.unh.edu; s=unh-iol; t=1721933409; x=1722538209; darn=dpdk.org;
 h=references:in-reply-to:cc:to:from:subject:message-id:date:from:to
 :cc:subject:date:message-id:reply-to;
 bh=olwwdfuSTlUzBcZ0rdzLLVMEWi3moYvt0jjhAMIAJ5Y=;
 b=XLSBdC1UAYKbjNktaGy2XifSo7Anu0mEONfgoosZ24pgV6pHCiKtbhbX9hOSK5xOPm
 o6bCpiKSNTKyxvh700lDYJhUT5RrS9lkxivqsZtGkJDE474B328JK3pY+EQQqmfbvwQu
 LGDI1APARfn1CXSP6zqY96BkXOJNaCCatVXVA=
X-Google-DKIM-Signature: v=1; a=rsa-sha256; c=relaxed/relaxed;
 d=1e100.net; s=20230601; t=1721933409; x=1722538209;
 h=references:in-reply-to:cc:to:from:subject:message-id:date
 :x-gm-message-state:from:to:cc:subject:date:message-id:reply-to;
 bh=olwwdfuSTlUzBcZ0rdzLLVMEWi3moYvt0jjhAMIAJ5Y=;
 b=W7tYD608U9x3vQY+h3QQdpYRoxasvInq3jGoi+619hE0qlLwEOq0HXSqHvasXUoIwy
 xdrcoy4ivn55d8cwObpGzdg7QMxAAdCspDLKkz+7K+6xmJTOh8n5iyGwZlJcO6Ml6V9u
 HkhmsxlLmPPVE744g+wTjHbSVbDjCMCHCCh913tQ05XDC4d0aeVfW3qoTJb2qbq3aUCR
 /OhZMTTTS/4FCkNp++2btySXLUy8m4/bNwlpEicr6yMrfPPkL8PevmPmwmH4AxIQILMh
 ORI6lMk2zNwMPF/q9kOciI7aEb3+SFE/ek1bYh9L/fHmLeYshEGmOBXZjAd76d5uJsy8
 Zd9Q==
X-Gm-Message-State: AOJu0YykJlL5mq8rET7wBF46ivhjPiRPrCGnPB36VfpD7APaigVwY5Q+
 07Gw5Ry5gPFQO8uLROD1UEPiT9LbQP2WOlAK01sg713jkevg0C6xeBHm7FT3NoJiRfiJsakYeYW
 fIrkQ7VLlTcB668cBMOF/4l3ceGutTUkzCB8s+IQL
X-Google-Smtp-Source: AGHT+IGtOhTZdbr0m2DgHLXCGVB13KE8LQyNqRWfxqYlCznYZoELg0IFwIiE2BEDaSEtoFczV3WS8Cu03FnQ
X-Received: by 2002:a17:902:ec83:b0:1fd:876f:ed79 with SMTP id
 d9443c01a7336-1fed93abaa3mr37462115ad.65.1721933409418; 
 Thu, 25 Jul 2024 11:50:09 -0700 (PDT)
Received: from postal.iol.unh.edu (postal.iol.unh.edu. [132.177.123.84])
 by smtp-relay.gmail.com with ESMTPS id
 d9443c01a7336-1fed7c91dc6sm369185ad.43.2024.07.25.11.50.09
 (version=TLS1_2 cipher=ECDHE-ECDSA-AES128-GCM-SHA256 bits=128/128);
 Thu, 25 Jul 2024 11:50:09 -0700 (PDT)
X-Relaying-Domain: iol.unh.edu
Date: Thu, 25 Jul 2024 11:50:09 -0700 (PDT)
Message-ID: <66a29e61.170a0220.2bb550.1cc8SMTPIN_ADDED_MISSING@mx.google.com>
Received: from [172.17.0.3] (unknown [172.18.0.217])
 by postal.iol.unh.edu (Postfix) with ESMTP id DCB1D605C351;
 Thu, 25 Jul 2024 14:50:08 -0400 (EDT)
Subject: |SUCCESS| pw142715-142717 [PATCH] [RFC,v1,3/3] dts: conf schema VXLA
From: dpdklab@iol.unh.edu
To: Test Report <test-report@dpdk.org>
Cc: dpdk-test-reports@iol.unh.edu
In-Reply-To: <20240725162325.20933-4-dmarx@iol.unh.edu>
References: <20240725162325.20933-4-dmarx@iol.unh.edu>
Content-Type: text/plain
X-BeenThere: test-report@dpdk.org
X-Mailman-Version: 2.1.29
Precedence: list
List-Id: automatic DPDK test reports <test-report.dpdk.org>
List-Unsubscribe: <https://mails.dpdk.org/options/test-report>,
 <mailto:test-report-request@dpdk.org?subject=unsubscribe>
List-Archive: <http://mails.dpdk.org/archives/test-report/>
List-Post: <mailto:test-report@dpdk.org>
List-Help: <mailto:test-report-request@dpdk.org?subject=help>
List-Subscribe: <https://mails.dpdk.org/listinfo/test-report>,
 <mailto:test-report-request@dpdk.org?subject=subscribe>
Errors-To: test-report-bounces@dpdk.org

Test-Label: iol-unit-amd64-testing
Test-Status: SUCCESS
http://dpdk.org/patch/142717

_Testing PASS_

Submitter: Dean Marx <dmarx@iol.unh.edu>
Date: Thursday, July 25 2024 16:23:25 
DPDK git baseline: Repo:dpdk
  Branch: master
  CommitID:82c47f005b9a0a1e3a649664b7713443d18abe43

142715-142717 --> testing pass

Upstream job id: Generic-Unit-Test-DPDK#244910

Test environment and result as below:

+---------------------+----------------+
|     Environment     | dpdk_unit_test |
+=====================+================+
| Windows Server 2022 | PASS           |
+---------------------+----------------+
| Windows Server 2019 | PASS           |
+---------------------+----------------+
| CentOS Stream 8     | PASS           |
+---------------------+----------------+
| CentOS Stream 9     | PASS           |
+---------------------+----------------+
| Debian Bullseye     | PASS           |
+---------------------+----------------+
| Debian 12           | PASS           |
+---------------------+----------------+
| Fedora 37           | PASS           |
+---------------------+----------------+
| Fedora 39           | PASS           |
+---------------------+----------------+
| Fedora 38 (Clang)   | PASS           |
+---------------------+----------------+
| Fedora 39 (Clang)   | PASS           |
+---------------------+----------------+
| Fedora 40           | PASS           |
+---------------------+----------------+
| Fedora 40 (Clang)   | PASS           |
+---------------------+----------------+
| openSUSE Leap 15    | PASS           |
+---------------------+----------------+
| RHEL8               | PASS           |
+---------------------+----------------+
| RHEL9               | PASS           |
+---------------------+----------------+
| Ubuntu 20.04        | PASS           |
+---------------------+----------------+
| Ubuntu 22.04        | PASS           |
+---------------------+----------------+
| Ubuntu 24.04        | PASS           |
+---------------------+----------------+
| Fedora 38           | PASS           |
+---------------------+----------------+


Windows Server 2022
	Kernel: 10.0.20348.2031
	Compiler: clang 15.0.7, gcc 8.1.0 (MinGW), and MSVC VS 17.9

Windows Server 2019
	Kernel: 10.0.17763
	Compiler: clang 14.0 and gcc 8.1.0 (MinGW)

CentOS Stream 8
	Kernel: 5.4.0-167-generic
	Compiler: gcc 8.5.0 20210514

CentOS Stream 9
	Kernel: 5.4.0-167-generic
	Compiler: gcc 11.4.1 20230605

Debian Bullseye
	Kernel: 5.4.0-167-generic
	Compiler: gcc 10.2.1-6

Debian 12
	Kernel: Container Host Kernel
	Compiler: gcc 12.2.0

Fedora 37
	Kernel: Depends on container host system
	Compiler: gcc 12.3.1

Fedora 39
	Kernel: Depends on container host
	Compiler: gcc 13.2.1

Fedora 38 (Clang)
	Kernel: Depends on container host
	Compiler: clang 16.0.6

Fedora 39 (Clang)
	Kernel: Depends on container host
	Compiler: clang 17.0.6

Fedora 40
	Kernel: Depends on container host
	Compiler: gcc 14.1.1

Fedora 40 (Clang)
	Kernel: Depends on container host
	Compiler: clang 18.1.6

openSUSE Leap 15
	Kernel: 5.4.0-167-generic
	Compiler: gcc 7.5.0

RHEL8
	Kernel: 5.4.0-167-generic
	Compiler: gcc 8.5.0 20210514 (Red Hat 8.5.0-20)

RHEL9
	Kernel: Depends on container host
	Compiler: gcc 11.4.1

Ubuntu 20.04
	Kernel: 5.4.0-167-generic
	Compiler: gcc 9.4.0-1ubuntu1~20.04.1

Ubuntu 22.04
	Kernel: 5.4.0-167-generic
	Compiler: gcc 11.4.0

Ubuntu 24.04
	Kernel: 5.4.0-167-generic
	Compiler: gcc 13.2.0

Fedora 38
	Kernel: Depends on container host
	Compiler: gcc 13.2.1

To view detailed results, visit:
https://lab.dpdk.org/results/dashboard/patchsets/30619/

UNH-IOL DPDK Community Lab

To manage your email subscriptions, visit: 
https://lab.dpdk.org/results/dashboard/preferences/subscriptions/