From mboxrd@z Thu Jan  1 00:00:00 1970
Return-Path: <test-report-bounces@dpdk.org>
Received: from mails.dpdk.org (mails.dpdk.org [217.70.189.124])
	by inbox.dpdk.org (Postfix) with ESMTP id 6205C456B2
	for <public@inbox.dpdk.org>; Fri, 26 Jul 2024 00:50:44 +0200 (CEST)
Received: from mails.dpdk.org (localhost [127.0.0.1])
	by mails.dpdk.org (Postfix) with ESMTP id 1CC5C4027B;
	Fri, 26 Jul 2024 00:50:44 +0200 (CEST)
Received: from mail-pl1-f228.google.com (mail-pl1-f228.google.com
 [209.85.214.228])
 by mails.dpdk.org (Postfix) with ESMTP id D398640273
 for <test-report@dpdk.org>; Fri, 26 Jul 2024 00:50:41 +0200 (CEST)
Received: by mail-pl1-f228.google.com with SMTP id
 d9443c01a7336-1fc52394c92so751215ad.1
 for <test-report@dpdk.org>; Thu, 25 Jul 2024 15:50:41 -0700 (PDT)
DKIM-Signature: v=1; a=rsa-sha256; c=relaxed/relaxed;
 d=iol.unh.edu; s=unh-iol; t=1721947841; x=1722552641; darn=dpdk.org;
 h=references:in-reply-to:cc:to:from:subject:message-id:date:from:to
 :cc:subject:date:message-id:reply-to;
 bh=2slcO2Wrqv3mJzsrfGRlfNkSRGX67RxgL/tZD0N49sQ=;
 b=E9TzJroHvAqcd7+sF60x3nVANAwTFl819HGddEBiO2vS4Vhq4H90EatqNPf7JQRTYl
 HGKGB5V9VKXW7wklf3XUyW78g8k8oYrJ5aMCljI7wa2vymN6CGCOIk4SnpxHoHKAzdZM
 Tdm/bzrYMu8VyRFuek2to6KEqH7l0PAnUNkvU=
X-Google-DKIM-Signature: v=1; a=rsa-sha256; c=relaxed/relaxed;
 d=1e100.net; s=20230601; t=1721947841; x=1722552641;
 h=references:in-reply-to:cc:to:from:subject:message-id:date
 :x-gm-message-state:from:to:cc:subject:date:message-id:reply-to;
 bh=2slcO2Wrqv3mJzsrfGRlfNkSRGX67RxgL/tZD0N49sQ=;
 b=NUtdDp4ccg1ahVes7D111Dk/+ca7EH7RHXYEz9DiN/t8ZPJZed0PrhDSfMXGWTLvRQ
 IMmVSuC7Kx3gH3XGIBoZmAidkfAOvdFI2CcYS8HEInt0o8RUUE5rHBHA/K4RWWiDKZ/5
 aQASRSmrsVbqzfh5Ee3bI4D/BrgK3ph9fFRn8ChYMvEcvbhP9mWLDmNlrdT9aqOFhjbG
 K3Y84X4vhZDiI4I/c9uLk+MY5tuO92oCWaatblnW2nrZPnUxp6uYY2P+qjQnsT1c8krJ
 Iy9vMWgbuJW+7zzEYq1MZzh0keAIvOayAf6hfp6RayE8ZYAaS6RPs5Mv8vHlFBGS41wz
 ZlTw==
X-Gm-Message-State: AOJu0YzwTz32OfgA/RveWc3EzsJhSB29B0kOxSt0HnvphfY/em7HXkCd
 feFUmVE5wCSRjXCNxs/y3CyQlDFPQqU1ea+qrOTcpLT4mXdEC9XngEwnLj2iMNsWQJ4oQaM3FXA
 3Luy18CrtGE/SPp8PLM4BCxgIsQG3ab3QSfK4Ot5jvfA7dWhkboNef96E
X-Google-Smtp-Source: AGHT+IGxtfCemse2LYM/l3wijFb14IMW5S/2rtlWk1GuLPHNHNMOxHrpQArpL3mcGshNfXlGj7mIgHfYajiX
X-Received: by 2002:a17:902:ea11:b0:1fb:6663:b647 with SMTP id
 d9443c01a7336-1fed3870ecbmr56660745ad.3.1721947840863; 
 Thu, 25 Jul 2024 15:50:40 -0700 (PDT)
Received: from postal.iol.unh.edu (postal.iol.unh.edu.
 [2606:4100:3880:1234::84]) by smtp-relay.gmail.com with ESMTPS id
 d9443c01a7336-1fed7c6bd0bsm490275ad.11.2024.07.25.15.50.40
 (version=TLS1_2 cipher=ECDHE-ECDSA-AES128-GCM-SHA256 bits=128/128);
 Thu, 25 Jul 2024 15:50:40 -0700 (PDT)
X-Relaying-Domain: iol.unh.edu
Date: Thu, 25 Jul 2024 15:50:40 -0700 (PDT)
Message-ID: <66a2d6c0.170a0220.10e899.2a93SMTPIN_ADDED_MISSING@mx.google.com>
Received: from [172.17.0.2] (unknown [172.18.0.217])
 by postal.iol.unh.edu (Postfix) with ESMTP id 0692D605C351;
 Thu, 25 Jul 2024 18:50:40 -0400 (EDT)
Subject: |SUCCESS| pw142686 [PATCH] [v1] net/ntnic: add missing SPDX tag
From: dpdklab@iol.unh.edu
To: Test Report <test-report@dpdk.org>
Cc: dpdk-test-reports@iol.unh.edu
In-Reply-To: <20240724131445.510743-1-mko-plv@napatech.com>
References: <20240724131445.510743-1-mko-plv@napatech.com>
Content-Type: text/plain
X-BeenThere: test-report@dpdk.org
X-Mailman-Version: 2.1.29
Precedence: list
List-Id: automatic DPDK test reports <test-report.dpdk.org>
List-Unsubscribe: <https://mails.dpdk.org/options/test-report>,
 <mailto:test-report-request@dpdk.org?subject=unsubscribe>
List-Archive: <http://mails.dpdk.org/archives/test-report/>
List-Post: <mailto:test-report@dpdk.org>
List-Help: <mailto:test-report-request@dpdk.org?subject=help>
List-Subscribe: <https://mails.dpdk.org/listinfo/test-report>,
 <mailto:test-report-request@dpdk.org?subject=subscribe>
Errors-To: test-report-bounces@dpdk.org

Test-Label: iol-sample-apps-testing
Test-Status: SUCCESS
http://dpdk.org/patch/142686

_Testing PASS_

Submitter: Mykola Kostenok <mko-plv@napatech.com>
Date: Wednesday, July 24 2024 13:14:43 
DPDK git baseline: Repo:dpdk
  Branch: master
  CommitID:82c47f005b9a0a1e3a649664b7713443d18abe43

142686 --> testing pass

Upstream job id: ACVP-FIPS-testing#6403

Test environment and result as below:

+--------------------+----------------------+----------------------+
|    Environment     | compressdev_zlib_pmd | dpdk_fips_validation |
+====================+======================+======================+
| Ubuntu 22.04 (ARM) | PASS                 | SKIPPED              |
+--------------------+----------------------+----------------------+
| Ubuntu 22.04       | PASS                 | SKIPPED              |
+--------------------+----------------------+----------------------+
| Ubuntu 20.04       | SKIPPED              | PASS                 |
+--------------------+----------------------+----------------------+


Ubuntu 22.04 (ARM)
	Kernel: 5.15.0-97-generic
	Compiler: gcc gcc (Ubuntu 11.4.0-1ubuntu1~22.04) 11.4.0

Ubuntu 22.04
	Kernel: 5.15.0-100-generic
	Compiler: gcc gcc (Ubuntu 11.4.0-1ubuntu1~22.04) 11.4.0

Ubuntu 20.04
	Kernel: 5.4.0-167-generic
	Compiler: gcc 9.4.0-1ubuntu1~20.04.1

To view detailed results, visit:
https://lab.dpdk.org/results/dashboard/patchsets/30606/

UNH-IOL DPDK Community Lab

To manage your email subscriptions, visit: 
https://lab.dpdk.org/results/dashboard/preferences/subscriptions/