From mboxrd@z Thu Jan  1 00:00:00 1970
Return-Path: <test-report-bounces@dpdk.org>
Received: from mails.dpdk.org (mails.dpdk.org [217.70.189.124])
	by inbox.dpdk.org (Postfix) with ESMTP id EF890456B8
	for <public@inbox.dpdk.org>; Fri, 26 Jul 2024 16:01:23 +0200 (CEST)
Received: from mails.dpdk.org (localhost [127.0.0.1])
	by mails.dpdk.org (Postfix) with ESMTP id E4D2340DFD;
	Fri, 26 Jul 2024 16:01:23 +0200 (CEST)
Received: from mail-io1-f99.google.com (mail-io1-f99.google.com
 [209.85.166.99]) by mails.dpdk.org (Postfix) with ESMTP id 1637040281
 for <test-report@dpdk.org>; Fri, 26 Jul 2024 16:01:23 +0200 (CEST)
Received: by mail-io1-f99.google.com with SMTP id
 ca18e2360f4ac-8111f946f04so49464039f.3
 for <test-report@dpdk.org>; Fri, 26 Jul 2024 07:01:23 -0700 (PDT)
DKIM-Signature: v=1; a=rsa-sha256; c=relaxed/relaxed;
 d=iol.unh.edu; s=unh-iol; t=1722002482; x=1722607282; darn=dpdk.org;
 h=references:in-reply-to:cc:to:from:subject:message-id:date:from:to
 :cc:subject:date:message-id:reply-to;
 bh=e9cLUTD+/xWCPTRYWuT+CMNftJNT0ShehX+NuXYLVQM=;
 b=Oe7oNZcLVxsIUhQIe3lpb0MzmLlnA4btHEDk8ubHmEYCOu5XW1kaBG0+O6Jb18B9sS
 Ka8JlPIStrk4Vu6tFB7dEW5meO3wgz3KsI1jFmITS0dYvjfdpyH1F9a93qPXYXCYmhtD
 vuPT+oECmv1wrclVXHUh14ZONnwWTwcBEcgS8=
X-Google-DKIM-Signature: v=1; a=rsa-sha256; c=relaxed/relaxed;
 d=1e100.net; s=20230601; t=1722002482; x=1722607282;
 h=references:in-reply-to:cc:to:from:subject:message-id:date
 :x-gm-message-state:from:to:cc:subject:date:message-id:reply-to;
 bh=e9cLUTD+/xWCPTRYWuT+CMNftJNT0ShehX+NuXYLVQM=;
 b=f8JMGeOdVww4FZglCKi953AXndNnoXyFBR7S9+Cqf9rWhG8lCPVAiC81pJ46NXsoKP
 EHAhCRZyvAtBpuknkEbuZi8ylYT73dtQdhi5zdN5GkYBaF+IV2MSIycCVMr8IL1CHS31
 fDalrxhg+jDhik+POpy6N2IJ7OCks8x+4E/ByfcrxjQ3znr3Q9TGbwzMpD5p6MmFoDTa
 DLU7xUhEIBBCvDM2cB0fCLb6uZgw/X+OKDLeC8R144fMXbn2vqguCdUF8GPc6pNwTESv
 KKB428jvvb2XLIYePjhdjx/tdlhoBTWTHfm2AwFyVT4Bhl9Ofy5AOqRWPpg+blhiKZXA
 CubQ==
X-Gm-Message-State: AOJu0YzX6LzL7EF1M5k6zGh3YHiBOPRBGWsYe8vAKzoJ4VWH2k7Czg3y
 JgpwVOlSFdHmB2U8HqIUGybWXHLWyKtJeOIoNvzLXoSE7KBaYueItR0YWrbG79Ca1oZcEzvclzk
 kVsnRF48LBH6W2Pp1bZzkxQryri6xS7GIi0HhL/N2
X-Google-Smtp-Source: AGHT+IFR0p31feJVLWKDAToqTaMsMYDQGWVnzpT1TQbPlGlhvrzYqonUqnAlkrIPWI1RrH9RSFqkch3r+YRi
X-Received: by 2002:a05:6602:15cc:b0:81b:d692:9da0 with SMTP id
 ca18e2360f4ac-81f7e40063emr673739739f.5.1722002478491; 
 Fri, 26 Jul 2024 07:01:18 -0700 (PDT)
Received: from postal.iol.unh.edu (postal.iol.unh.edu. [132.177.123.84])
 by smtp-relay.gmail.com with ESMTPS id
 8926c6da1cb9f-4c29fb25452sm155356173.48.2024.07.26.07.01.18
 (version=TLS1_2 cipher=ECDHE-ECDSA-AES128-GCM-SHA256 bits=128/128);
 Fri, 26 Jul 2024 07:01:18 -0700 (PDT)
X-Relaying-Domain: iol.unh.edu
Date: Fri, 26 Jul 2024 07:01:18 -0700 (PDT)
Message-ID: <66a3ac2e.050a0220.2942a8.86a1SMTPIN_ADDED_MISSING@mx.google.com>
Received: from [172.17.0.2] (unknown [172.18.0.217])
 by postal.iol.unh.edu (Postfix) with ESMTP id 020516050A6B;
 Fri, 26 Jul 2024 10:01:18 -0400 (EDT)
Subject: |PENDING| pw142723 [PATCH] [V2] doc: add tested Intel platforms with
From: dpdklab@iol.unh.edu
To: Test Report <test-report@dpdk.org>
Cc: dpdk-test-reports@iol.unh.edu
In-Reply-To: <20240726162315.2670803-1-linglix.chen@intel.com>
References: <20240726162315.2670803-1-linglix.chen@intel.com>
Content-Type: text/plain
X-BeenThere: test-report@dpdk.org
X-Mailman-Version: 2.1.29
Precedence: list
List-Id: automatic DPDK test reports <test-report.dpdk.org>
List-Unsubscribe: <https://mails.dpdk.org/options/test-report>,
 <mailto:test-report-request@dpdk.org?subject=unsubscribe>
List-Archive: <http://mails.dpdk.org/archives/test-report/>
List-Post: <mailto:test-report@dpdk.org>
List-Help: <mailto:test-report-request@dpdk.org?subject=help>
List-Subscribe: <https://mails.dpdk.org/listinfo/test-report>,
 <mailto:test-report-request@dpdk.org?subject=subscribe>
Errors-To: test-report-bounces@dpdk.org

Test-Label: iol-unit-amd64-testing
Test-Status: PENDING
http://dpdk.org/patch/142723

_Testing pending_

Submitter: Lingli Chen <linglix.chen@intel.com>
Date: Friday, July 26 2024 16:23:15 
DPDK git baseline: Repo:dpdk
  Branch: master
  CommitID:82c47f005b9a0a1e3a649664b7713443d18abe43

142723 --> testing pending

Upstream job id: Generic-Unit-Test-DPDK#245221

Test environment and result as below:

+---------------------+----------------+
|     Environment     | dpdk_unit_test |
+=====================+================+
| CentOS Stream 8     | PASS           |
+---------------------+----------------+
| CentOS Stream 9     | PASS           |
+---------------------+----------------+
| Debian Bullseye     | PASS           |
+---------------------+----------------+
| Windows Server 2022 | PASS           |
+---------------------+----------------+
| Debian 12           | PASS           |
+---------------------+----------------+
| Fedora 37           | PASS           |
+---------------------+----------------+
| Windows Server 2019 | PASS           |
+---------------------+----------------+
| Fedora 38           | PASS           |
+---------------------+----------------+
| Fedora 39           | PASS           |
+---------------------+----------------+
| Fedora 39 (Clang)   | PASS           |
+---------------------+----------------+
| Fedora 40           | PASS           |
+---------------------+----------------+
| Fedora 40 (Clang)   | PEND           |
+---------------------+----------------+
| openSUSE Leap 15    | PASS           |
+---------------------+----------------+
| RHEL8               | PASS           |
+---------------------+----------------+
| Ubuntu 20.04        | PASS           |
+---------------------+----------------+
| RHEL9               | PASS           |
+---------------------+----------------+
| Ubuntu 22.04        | PASS           |
+---------------------+----------------+
| Ubuntu 24.04        | PASS           |
+---------------------+----------------+
| Fedora 38 (Clang)   | PASS           |
+---------------------+----------------+


CentOS Stream 8
	Kernel: 5.4.0-167-generic
	Compiler: gcc 8.5.0 20210514

CentOS Stream 9
	Kernel: 5.4.0-167-generic
	Compiler: gcc 11.4.1 20230605

Debian Bullseye
	Kernel: 5.4.0-167-generic
	Compiler: gcc 10.2.1-6

Windows Server 2022
	Kernel: 10.0.20348.2031
	Compiler: clang 15.0.7, gcc 8.1.0 (MinGW), and MSVC VS 17.9

Debian 12
	Kernel: Container Host Kernel
	Compiler: gcc 12.2.0

Fedora 37
	Kernel: Depends on container host system
	Compiler: gcc 12.3.1

Windows Server 2019
	Kernel: 10.0.17763
	Compiler: clang 14.0 and gcc 8.1.0 (MinGW)

Fedora 38
	Kernel: Depends on container host
	Compiler: gcc 13.2.1

Fedora 39
	Kernel: Depends on container host
	Compiler: gcc 13.2.1

Fedora 39 (Clang)
	Kernel: Depends on container host
	Compiler: clang 17.0.6

Fedora 40
	Kernel: Depends on container host
	Compiler: gcc 14.1.1

Fedora 40 (Clang)
	Kernel: Depends on container host
	Compiler: clang 18.1.6

openSUSE Leap 15
	Kernel: 5.4.0-167-generic
	Compiler: gcc 7.5.0

RHEL8
	Kernel: 5.4.0-167-generic
	Compiler: gcc 8.5.0 20210514 (Red Hat 8.5.0-20)

Ubuntu 20.04
	Kernel: 5.4.0-167-generic
	Compiler: gcc 9.4.0-1ubuntu1~20.04.1

RHEL9
	Kernel: Depends on container host
	Compiler: gcc 11.4.1

Ubuntu 22.04
	Kernel: 5.4.0-167-generic
	Compiler: gcc 11.4.0

Ubuntu 24.04
	Kernel: 5.4.0-167-generic
	Compiler: gcc 13.2.0

Fedora 38 (Clang)
	Kernel: Depends on container host
	Compiler: clang 16.0.6

To view detailed results, visit:
https://lab.dpdk.org/results/dashboard/patchsets/30625/

UNH-IOL DPDK Community Lab

To manage your email subscriptions, visit: 
https://lab.dpdk.org/results/dashboard/preferences/subscriptions/