From mboxrd@z Thu Jan  1 00:00:00 1970
Return-Path: <test-report-bounces@dpdk.org>
Received: from mails.dpdk.org (mails.dpdk.org [217.70.189.124])
	by inbox.dpdk.org (Postfix) with ESMTP id 9B2D8456C1
	for <public@inbox.dpdk.org>; Fri, 26 Jul 2024 23:08:42 +0200 (CEST)
Received: from mails.dpdk.org (localhost [127.0.0.1])
	by mails.dpdk.org (Postfix) with ESMTP id 9355940E12;
	Fri, 26 Jul 2024 23:08:42 +0200 (CEST)
Received: from mail-ot1-f97.google.com (mail-ot1-f97.google.com
 [209.85.210.97]) by mails.dpdk.org (Postfix) with ESMTP id 2620040DD6
 for <test-report@dpdk.org>; Fri, 26 Jul 2024 23:08:42 +0200 (CEST)
Received: by mail-ot1-f97.google.com with SMTP id
 46e09a7af769-708cf5138b6so1065737a34.0
 for <test-report@dpdk.org>; Fri, 26 Jul 2024 14:08:42 -0700 (PDT)
DKIM-Signature: v=1; a=rsa-sha256; c=relaxed/relaxed;
 d=iol.unh.edu; s=unh-iol; t=1722028121; x=1722632921; darn=dpdk.org;
 h=references:in-reply-to:cc:to:from:subject:message-id:date:from:to
 :cc:subject:date:message-id:reply-to;
 bh=pcvD++aDUxkOKLe4Vgfn8Ih4Ll/tISeH1czd5fEJSWM=;
 b=L3sGSdWMxdDdkaVvCH9x3rg7m9yvzV7AbPjGa6XFfh3VDloIyeN+IZ/oQwnvn4aftd
 z0LrcOMb6ntjLCVhHwhif4IaxQpM7XiD0N5C8csHz9rFS+P/GwzTmY2OggdBBTl5roXt
 pz1oqAvoU76aOz15BkjPAD4UBMQLpSelZI2X0=
X-Google-DKIM-Signature: v=1; a=rsa-sha256; c=relaxed/relaxed;
 d=1e100.net; s=20230601; t=1722028121; x=1722632921;
 h=references:in-reply-to:cc:to:from:subject:message-id:date
 :x-gm-message-state:from:to:cc:subject:date:message-id:reply-to;
 bh=pcvD++aDUxkOKLe4Vgfn8Ih4Ll/tISeH1czd5fEJSWM=;
 b=AQPCoD9MkCzNCoYMfoOU7zUwlGHDfvM1WP/9VAIuJ7RCFEqCWod/jVNajQkX7QdOLH
 VosRvF/wLXsywlBs1l2gTLVL0NxZ5a4VslEMzfp9l2omUcrcOEVuyzH7lh2fEFT7N03H
 vRgNgW5Jki9pk9WNTQmw9uFTSs44ueEswN4kLH5mYH0HdHH0L+fAyEjOQ7Ey+Zi8mw8q
 /dX8KWaTKaL8N7+9xXlIXCxVLF144kvBMviXvqZzepNBkzzVaBn0kmD89DwKlzgszdK8
 5qIKXg9NCnavubO6HKmufh2JuLN+6DD9b7/9BZeTueRCWRzNLU12t/BQje+JfSlbJKUi
 +psg==
X-Gm-Message-State: AOJu0YxJ/Sxk8K9ZfY8Uo5EWrIhs0ESbz/g4NyrqFSgEga6PBGdMo8tS
 UuGIqEEQjbLXALVxcGTul3IBTQINV2DE3j+ZJdeX97Z9aAfVYGlHGvAhfkc3tF7CVYwslJztDlB
 njlo4cmnNU9lp292GmRty9/tCiVZQa/BqAjYk8nCN
X-Google-Smtp-Source: AGHT+IFLaRljZx3i/kbonMmBtvLBjkDeJ+GfNuyO0Ah748012G9T7KxYKsjM5sQ0TfFOGCfcq7VZY09+71oy
X-Received: by 2002:a05:6830:490d:b0:709:4065:63e4 with SMTP id
 46e09a7af769-70940c610e7mr994820a34.25.1722028121267; 
 Fri, 26 Jul 2024 14:08:41 -0700 (PDT)
Received: from postal.iol.unh.edu (postal.iol.unh.edu. [132.177.123.84])
 by smtp-relay.gmail.com with ESMTPS id
 46e09a7af769-7093034a9b9sm134339a34.0.2024.07.26.14.08.41
 (version=TLS1_2 cipher=ECDHE-ECDSA-AES128-GCM-SHA256 bits=128/128);
 Fri, 26 Jul 2024 14:08:41 -0700 (PDT)
X-Relaying-Domain: iol.unh.edu
Date: Fri, 26 Jul 2024 14:08:41 -0700 (PDT)
Message-ID: <66a41059.050a0220.199c7f.7235SMTPIN_ADDED_MISSING@mx.google.com>
Received: from [172.21.0.6] (unknown [172.18.0.240])
 by postal.iol.unh.edu (Postfix) with ESMTP id B7664605C380;
 Fri, 26 Jul 2024 17:08:40 -0400 (EDT)
Subject: |PENDING| pw142740 [PATCH] examples/l3fwd: fix read beyond array bon
From: dpdklab@iol.unh.edu
To: Test Report <test-report@dpdk.org>
Cc: dpdk-test-reports@iol.unh.edu
In-Reply-To: <20240726194302.920-1-konstantin.v.ananyev@yandex.ru>
References: <20240726194302.920-1-konstantin.v.ananyev@yandex.ru>
Content-Type: text/plain
X-BeenThere: test-report@dpdk.org
X-Mailman-Version: 2.1.29
Precedence: list
List-Id: automatic DPDK test reports <test-report.dpdk.org>
List-Unsubscribe: <https://mails.dpdk.org/options/test-report>,
 <mailto:test-report-request@dpdk.org?subject=unsubscribe>
List-Archive: <http://mails.dpdk.org/archives/test-report/>
List-Post: <mailto:test-report@dpdk.org>
List-Help: <mailto:test-report-request@dpdk.org?subject=help>
List-Subscribe: <https://mails.dpdk.org/listinfo/test-report>,
 <mailto:test-report-request@dpdk.org?subject=subscribe>
Errors-To: test-report-bounces@dpdk.org

Test-Label: iol-unit-amd64-testing
Test-Status: PENDING
http://dpdk.org/patch/142740

_Testing pending_

Submitter: Konstantin Ananyev <konstantin.v.ananyev@yandex.ru>
Date: Friday, July 26 2024 19:43:02 
DPDK git baseline: Repo:dpdk
  Branch: master
  CommitID:82c47f005b9a0a1e3a649664b7713443d18abe43

142740 --> testing pending

Upstream job id: Generic-Unit-Test-DPDK#245232

Test environment and result as below:

+---------------------+----------------+
|     Environment     | dpdk_unit_test |
+=====================+================+
| Windows Server 2019 | PASS           |
+---------------------+----------------+
| Windows Server 2022 | PASS           |
+---------------------+----------------+
| CentOS Stream 8     | PEND           |
+---------------------+----------------+
| CentOS Stream 9     | PEND           |
+---------------------+----------------+
| Debian Bullseye     | PASS           |
+---------------------+----------------+
| Debian 12           | PEND           |
+---------------------+----------------+
| Fedora 37           | PEND           |
+---------------------+----------------+
| Fedora 38 (Clang)   | PEND           |
+---------------------+----------------+
| Fedora 38           | PEND           |
+---------------------+----------------+
| Fedora 40           | PEND           |
+---------------------+----------------+
| Fedora 39           | PEND           |
+---------------------+----------------+
| openSUSE Leap 15    | PEND           |
+---------------------+----------------+
| RHEL8               | PEND           |
+---------------------+----------------+
| Ubuntu 20.04        | PEND           |
+---------------------+----------------+
| RHEL9               | PEND           |
+---------------------+----------------+
| Ubuntu 22.04        | PEND           |
+---------------------+----------------+
| Ubuntu 24.04        | PEND           |
+---------------------+----------------+


Windows Server 2019
	Kernel: 10.0.17763
	Compiler: clang 14.0 and gcc 8.1.0 (MinGW)

Windows Server 2022
	Kernel: 10.0.20348.2031
	Compiler: clang 15.0.7, gcc 8.1.0 (MinGW), and MSVC VS 17.9

CentOS Stream 8
	Kernel: 5.4.0-167-generic
	Compiler: gcc 8.5.0 20210514

CentOS Stream 9
	Kernel: 5.4.0-167-generic
	Compiler: gcc 11.4.1 20230605

Debian Bullseye
	Kernel: 5.4.0-167-generic
	Compiler: gcc 10.2.1-6

Debian 12
	Kernel: Container Host Kernel
	Compiler: gcc 12.2.0

Fedora 37
	Kernel: Depends on container host system
	Compiler: gcc 12.3.1

Fedora 38 (Clang)
	Kernel: Depends on container host
	Compiler: clang 16.0.6

Fedora 38
	Kernel: Depends on container host
	Compiler: gcc 13.2.1

Fedora 40
	Kernel: Depends on container host
	Compiler: gcc 14.1.1

Fedora 39
	Kernel: Depends on container host
	Compiler: gcc 13.2.1

openSUSE Leap 15
	Kernel: 5.4.0-167-generic
	Compiler: gcc 7.5.0

RHEL8
	Kernel: 5.4.0-167-generic
	Compiler: gcc 8.5.0 20210514 (Red Hat 8.5.0-20)

Ubuntu 20.04
	Kernel: 5.4.0-167-generic
	Compiler: gcc 9.4.0-1ubuntu1~20.04.1

RHEL9
	Kernel: Depends on container host
	Compiler: gcc 11.4.1

Ubuntu 22.04
	Kernel: 5.4.0-167-generic
	Compiler: gcc 11.4.0

Ubuntu 24.04
	Kernel: 5.4.0-167-generic
	Compiler: gcc 13.2.0

To view detailed results, visit:
https://lab.dpdk.org/results/dashboard/patchsets/30636/

UNH-IOL DPDK Community Lab

To manage your email subscriptions, visit: 
https://lab.dpdk.org/results/dashboard/preferences/subscriptions/