From mboxrd@z Thu Jan  1 00:00:00 1970
Return-Path: <test-report-bounces@dpdk.org>
Received: from mails.dpdk.org (mails.dpdk.org [217.70.189.124])
	by inbox.dpdk.org (Postfix) with ESMTP id 8057E456C1
	for <public@inbox.dpdk.org>; Fri, 26 Jul 2024 23:17:17 +0200 (CEST)
Received: from mails.dpdk.org (localhost [127.0.0.1])
	by mails.dpdk.org (Postfix) with ESMTP id 7B87A40E12;
	Fri, 26 Jul 2024 23:17:17 +0200 (CEST)
Received: from mail-il1-f227.google.com (mail-il1-f227.google.com
 [209.85.166.227])
 by mails.dpdk.org (Postfix) with ESMTP id EA76140DD6
 for <test-report@dpdk.org>; Fri, 26 Jul 2024 23:17:14 +0200 (CEST)
Received: by mail-il1-f227.google.com with SMTP id
 e9e14a558f8ab-3960e73653fso9701945ab.0
 for <test-report@dpdk.org>; Fri, 26 Jul 2024 14:17:14 -0700 (PDT)
DKIM-Signature: v=1; a=rsa-sha256; c=relaxed/relaxed;
 d=iol.unh.edu; s=unh-iol; t=1722028634; x=1722633434; darn=dpdk.org;
 h=references:in-reply-to:cc:to:from:subject:message-id:date:from:to
 :cc:subject:date:message-id:reply-to;
 bh=2Lt6oQO/l7kYy7jpYZrqiF4X+/dMgFcn6i19m1xfP2I=;
 b=JYGOMC1fbdVlvZZAEotBSCQQ3Oh9gHFj8VTAtv/wOnW39eASzNIkfHzbEzTSxAgL38
 lVgzqUGXtA+R+KrWYpI/9RQ0zjj5yUAsv5eU3w+eWHMpyhU6uTeSleIA4bzVSX04bWxe
 YVUTwWX8DDcVqGr/bQ8CEnoIRPkTHj6x2EY34=
X-Google-DKIM-Signature: v=1; a=rsa-sha256; c=relaxed/relaxed;
 d=1e100.net; s=20230601; t=1722028634; x=1722633434;
 h=references:in-reply-to:cc:to:from:subject:message-id:date
 :x-gm-message-state:from:to:cc:subject:date:message-id:reply-to;
 bh=2Lt6oQO/l7kYy7jpYZrqiF4X+/dMgFcn6i19m1xfP2I=;
 b=FcB+rt4CawLy1AT+dB1dvm288AHG2QxqQceUzEK+9XHIYTlTQICmrdu734gL04gbBo
 rcs4f9vnzC1MGTR8r/9489tUoAElwGO4UCWeOU5xZ/m+c7eWMrAEWh6XZZz2GvP6PKxk
 Jn74XTzcsxBCM3Sx/tGfQH3zmUskYN17wfUQRZrDr7DqpmLhjejJa+ic2GeBktSALwvD
 c1qCUbUvC9cN0GUmoXXYRlwPEfX0AlrhyuyjGRYMBGb9NvrK3ye6H/EdUt8dFXG2yd89
 O2oqaoxeq9e29+rMNzqduzVRT/f/kngkmpal/AhyifNi9dfNEr6hcVzqyLUz5WcPuZGJ
 H+wQ==
X-Gm-Message-State: AOJu0YzwVaw4zxDuDNckZZWDD6LPGFZqhm5AcCb5wMzdmzAMrS+g1qlp
 QPrCmhhq0g39tdsnucvnsFGSzPzXp1siW2cVhSQF00atYgMaxS4MWNdg3r9jeSPmBDCMSjGN9hv
 Hj0oVdd6PSwxUo8CNPGXmQkb7HvJd0ywQvuj5ea4B
X-Google-Smtp-Source: AGHT+IG1Kivf7ii42kxqkF/NoBbJqXlktNrxiFOq74SvSdJQFwOyXQ+g31lkgBTPFxmhP+8Vn4BsLWZovLen
X-Received: by 2002:a05:6e02:13af:b0:39a:eaca:24bf with SMTP id
 e9e14a558f8ab-39aec2e9dbbmr7723235ab.15.1722028634246; 
 Fri, 26 Jul 2024 14:17:14 -0700 (PDT)
Received: from postal.iol.unh.edu (postal.iol.unh.edu. [132.177.123.84])
 by smtp-relay.gmail.com with ESMTPS id
 e9e14a558f8ab-39a22e9ca2esm2702845ab.29.2024.07.26.14.17.14
 (version=TLS1_2 cipher=ECDHE-ECDSA-AES128-GCM-SHA256 bits=128/128);
 Fri, 26 Jul 2024 14:17:14 -0700 (PDT)
X-Relaying-Domain: iol.unh.edu
Date: Fri, 26 Jul 2024 14:17:14 -0700 (PDT)
Message-ID: <66a4125a.050a0220.16a135.e9fbSMTPIN_ADDED_MISSING@mx.google.com>
Received: from [172.17.0.3] (unknown [172.18.0.217])
 by postal.iol.unh.edu (Postfix) with ESMTP id C26DD605C380;
 Fri, 26 Jul 2024 17:17:13 -0400 (EDT)
Subject: |PENDING| pw142740 [PATCH] examples/l3fwd: fix read beyond array bon
From: dpdklab@iol.unh.edu
To: Test Report <test-report@dpdk.org>
Cc: dpdk-test-reports@iol.unh.edu
In-Reply-To: <20240726194302.920-1-konstantin.v.ananyev@yandex.ru>
References: <20240726194302.920-1-konstantin.v.ananyev@yandex.ru>
Content-Type: text/plain
X-BeenThere: test-report@dpdk.org
X-Mailman-Version: 2.1.29
Precedence: list
List-Id: automatic DPDK test reports <test-report.dpdk.org>
List-Unsubscribe: <https://mails.dpdk.org/options/test-report>,
 <mailto:test-report-request@dpdk.org?subject=unsubscribe>
List-Archive: <http://mails.dpdk.org/archives/test-report/>
List-Post: <mailto:test-report@dpdk.org>
List-Help: <mailto:test-report-request@dpdk.org?subject=help>
List-Subscribe: <https://mails.dpdk.org/listinfo/test-report>,
 <mailto:test-report-request@dpdk.org?subject=subscribe>
Errors-To: test-report-bounces@dpdk.org

Test-Label: iol-unit-amd64-testing
Test-Status: PENDING
http://dpdk.org/patch/142740

_Testing pending_

Submitter: Konstantin Ananyev <konstantin.v.ananyev@yandex.ru>
Date: Friday, July 26 2024 19:43:02 
DPDK git baseline: Repo:dpdk
  Branch: master
  CommitID:82c47f005b9a0a1e3a649664b7713443d18abe43

142740 --> testing pending

Upstream job id: Generic-Unit-Test-DPDK#245239

Test environment and result as below:

+---------------------+----------------+
|     Environment     | dpdk_unit_test |
+=====================+================+
| Windows Server 2019 | PASS           |
+---------------------+----------------+
| Windows Server 2022 | PASS           |
+---------------------+----------------+
| CentOS Stream 8     | PASS           |
+---------------------+----------------+
| CentOS Stream 9     | PEND           |
+---------------------+----------------+
| Debian Bullseye     | PASS           |
+---------------------+----------------+
| Debian 12           | PASS           |
+---------------------+----------------+
| Fedora 37           | PASS           |
+---------------------+----------------+
| Fedora 38 (Clang)   | PEND           |
+---------------------+----------------+
| Fedora 38           | PASS           |
+---------------------+----------------+
| Fedora 40           | PASS           |
+---------------------+----------------+
| Fedora 39           | PEND           |
+---------------------+----------------+
| openSUSE Leap 15    | PEND           |
+---------------------+----------------+
| RHEL8               | PEND           |
+---------------------+----------------+
| Ubuntu 20.04        | PEND           |
+---------------------+----------------+
| RHEL9               | PEND           |
+---------------------+----------------+
| Ubuntu 22.04        | PEND           |
+---------------------+----------------+
| Ubuntu 24.04        | PEND           |
+---------------------+----------------+
| Fedora 39 (Clang)   | PEND           |
+---------------------+----------------+


Windows Server 2019
	Kernel: 10.0.17763
	Compiler: clang 14.0 and gcc 8.1.0 (MinGW)

Windows Server 2022
	Kernel: 10.0.20348.2031
	Compiler: clang 15.0.7, gcc 8.1.0 (MinGW), and MSVC VS 17.9

CentOS Stream 8
	Kernel: 5.4.0-167-generic
	Compiler: gcc 8.5.0 20210514

CentOS Stream 9
	Kernel: 5.4.0-167-generic
	Compiler: gcc 11.4.1 20230605

Debian Bullseye
	Kernel: 5.4.0-167-generic
	Compiler: gcc 10.2.1-6

Debian 12
	Kernel: Container Host Kernel
	Compiler: gcc 12.2.0

Fedora 37
	Kernel: Depends on container host system
	Compiler: gcc 12.3.1

Fedora 38 (Clang)
	Kernel: Depends on container host
	Compiler: clang 16.0.6

Fedora 38
	Kernel: Depends on container host
	Compiler: gcc 13.2.1

Fedora 40
	Kernel: Depends on container host
	Compiler: gcc 14.1.1

Fedora 39
	Kernel: Depends on container host
	Compiler: gcc 13.2.1

openSUSE Leap 15
	Kernel: 5.4.0-167-generic
	Compiler: gcc 7.5.0

RHEL8
	Kernel: 5.4.0-167-generic
	Compiler: gcc 8.5.0 20210514 (Red Hat 8.5.0-20)

Ubuntu 20.04
	Kernel: 5.4.0-167-generic
	Compiler: gcc 9.4.0-1ubuntu1~20.04.1

RHEL9
	Kernel: Depends on container host
	Compiler: gcc 11.4.1

Ubuntu 22.04
	Kernel: 5.4.0-167-generic
	Compiler: gcc 11.4.0

Ubuntu 24.04
	Kernel: 5.4.0-167-generic
	Compiler: gcc 13.2.0

Fedora 39 (Clang)
	Kernel: Depends on container host
	Compiler: clang 17.0.6

To view detailed results, visit:
https://lab.dpdk.org/results/dashboard/patchsets/30636/

UNH-IOL DPDK Community Lab

To manage your email subscriptions, visit: 
https://lab.dpdk.org/results/dashboard/preferences/subscriptions/