From mboxrd@z Thu Jan  1 00:00:00 1970
Return-Path: <test-report-bounces@dpdk.org>
Received: from mails.dpdk.org (mails.dpdk.org [217.70.189.124])
	by inbox.dpdk.org (Postfix) with ESMTP id 34C10456C1
	for <public@inbox.dpdk.org>; Fri, 26 Jul 2024 23:58:35 +0200 (CEST)
Received: from mails.dpdk.org (localhost [127.0.0.1])
	by mails.dpdk.org (Postfix) with ESMTP id 2C4B940DD6;
	Fri, 26 Jul 2024 23:58:35 +0200 (CEST)
Received: from mail-yw1-f227.google.com (mail-yw1-f227.google.com
 [209.85.128.227])
 by mails.dpdk.org (Postfix) with ESMTP id 85BCB402AB
 for <test-report@dpdk.org>; Fri, 26 Jul 2024 23:58:29 +0200 (CEST)
Received: by mail-yw1-f227.google.com with SMTP id
 00721157ae682-6512866fa87so1443207b3.2
 for <test-report@dpdk.org>; Fri, 26 Jul 2024 14:58:29 -0700 (PDT)
DKIM-Signature: v=1; a=rsa-sha256; c=relaxed/relaxed;
 d=iol.unh.edu; s=unh-iol; t=1722031109; x=1722635909; darn=dpdk.org;
 h=references:in-reply-to:cc:to:from:subject:message-id:date:from:to
 :cc:subject:date:message-id:reply-to;
 bh=78iKoJwq+u9OpCjpC2/exfSPSve/z3TYAh5UeoWXOQM=;
 b=fb0S6mq24ZMZbyfmD2eKwV7twW3RY3M4/2rc2XFcdWJJEa03dqS797jx8zCne166XC
 fz0M1Dq5PQUTOiYL8/YPiRv6Cyb0fmsvYdMrUghR0Teq9U5rzMC7tRZNw62T1V5JYgxm
 8lfEi5Ewl5/BCvsWtRjOTQwcA/+zLd5rIYR6U=
X-Google-DKIM-Signature: v=1; a=rsa-sha256; c=relaxed/relaxed;
 d=1e100.net; s=20230601; t=1722031109; x=1722635909;
 h=references:in-reply-to:cc:to:from:subject:message-id:date
 :x-gm-message-state:from:to:cc:subject:date:message-id:reply-to;
 bh=78iKoJwq+u9OpCjpC2/exfSPSve/z3TYAh5UeoWXOQM=;
 b=ePwPjBmTmmWKPQhqxpx+cm03rBOIcWb4u3+5TA+lXoUHRV4IVgJyJcySU2jE+YYu8P
 7xqNv2ZQWRUd186jmRKyweSVuIrEEWqF3BsCxgIBBeDux/1LGRAqWW0GuEpmZxgE7PzK
 0/lmXg7z23vc/ga/K4mYS7WQ5ktWIdhJvtX7MM2aOhUbJg8SZQXQuD0wzj47kFwMDqy1
 3ExXfxq1OXBrvkRg/+FXUlbPPKNDbp4kaUw0i1hWTV3CFlvV0RNQ+aKX76X4091P9VoW
 GumBAKzRaSn9Rf52oJo5MEKXtRbREIJCgfv1/Jb20jYQMu2iIHhOp/QfcVU3+Ynr8DXL
 d0XQ==
X-Gm-Message-State: AOJu0Yx5A1sl3Hhpmv6jAsei91CzhzOt2Aq2lGtMnHQToodfY5J8cDZo
 S76ZJJybCNwMoCu2va9xuFJ6B/jY97egVW5Jv7iXXeiyT1CQoyYoNb/lTr4b/z4EmGtu0pKtf6u
 C/yi9ChxeZzmuXECpaSL6728B16D5siXqFwuJG6uGAe1RcBRJe5GM31FW
X-Google-Smtp-Source: AGHT+IGvNRMna/rtFkBdnbOo+rs5xtGAbkbV7RQJJmm9QQ3Xa2T4OLFlCI+EnTTwN43iZubgODIN1N8OP6I4
X-Received: by 2002:a81:8181:0:b0:65f:d27d:3f6a with SMTP id
 00721157ae682-67a04ffe729mr15191487b3.7.1722031108953; 
 Fri, 26 Jul 2024 14:58:28 -0700 (PDT)
Received: from postal.iol.unh.edu (postal.iol.unh.edu.
 [2606:4100:3880:1234::84]) by smtp-relay.gmail.com with ESMTPS id
 00721157ae682-67566fc764dsm3203307b3.11.2024.07.26.14.58.28
 (version=TLS1_2 cipher=ECDHE-ECDSA-AES128-GCM-SHA256 bits=128/128);
 Fri, 26 Jul 2024 14:58:28 -0700 (PDT)
X-Relaying-Domain: iol.unh.edu
Date: Fri, 26 Jul 2024 14:58:28 -0700 (PDT)
Message-ID: <66a41c04.810a0220.3bd9e9.2582SMTPIN_ADDED_MISSING@mx.google.com>
Received: from [172.21.0.8] (unknown [172.18.0.240])
 by postal.iol.unh.edu (Postfix) with ESMTP id 99759605C380;
 Fri, 26 Jul 2024 17:58:28 -0400 (EDT)
Subject: |PENDING| pw142740 [PATCH] examples/l3fwd: fix read beyond array bon
From: dpdklab@iol.unh.edu
To: Test Report <test-report@dpdk.org>
Cc: dpdk-test-reports@iol.unh.edu
In-Reply-To: <20240726194302.920-1-konstantin.v.ananyev@yandex.ru>
References: <20240726194302.920-1-konstantin.v.ananyev@yandex.ru>
Content-Type: text/plain
X-BeenThere: test-report@dpdk.org
X-Mailman-Version: 2.1.29
Precedence: list
List-Id: automatic DPDK test reports <test-report.dpdk.org>
List-Unsubscribe: <https://mails.dpdk.org/options/test-report>,
 <mailto:test-report-request@dpdk.org?subject=unsubscribe>
List-Archive: <http://mails.dpdk.org/archives/test-report/>
List-Post: <mailto:test-report@dpdk.org>
List-Help: <mailto:test-report-request@dpdk.org?subject=help>
List-Subscribe: <https://mails.dpdk.org/listinfo/test-report>,
 <mailto:test-report-request@dpdk.org?subject=subscribe>
Errors-To: test-report-bounces@dpdk.org

Test-Label: iol-compile-arm64-testing
Test-Status: PENDING
http://dpdk.org/patch/142740

_Testing pending_

Submitter: Konstantin Ananyev <konstantin.v.ananyev@yandex.ru>
Date: Friday, July 26 2024 19:43:02 
DPDK git baseline: Repo:dpdk
  Branch: master
  CommitID:82c47f005b9a0a1e3a649664b7713443d18abe43

142740 --> testing pending

Upstream job id: Generic-DPDK-Compile-Meson#280382

Test environment and result as below:

+----------------------------------------+--------------------+
|              Environment               | dpdk_meson_compile |
+========================================+====================+
| RHEL9 (ARM)                            | PASS               |
+----------------------------------------+--------------------+
| Debian 12 with MUSDK                   | PASS               |
+----------------------------------------+--------------------+
| Ubuntu 20.04 ARM SVE                   | PASS               |
+----------------------------------------+--------------------+
| Ubuntu 20.04 ARM GCC Cross Compile     | PASS               |
+----------------------------------------+--------------------+
| Fedora 38 (ARM)                        | PASS               |
+----------------------------------------+--------------------+
| Fedora 38 (ARM Clang)                  | PEND               |
+----------------------------------------+--------------------+
| Fedora 37 (ARM)                        | PASS               |
+----------------------------------------+--------------------+
| Fedora 40 (ARM)                        | PASS               |
+----------------------------------------+--------------------+
| Fedora 39 (ARM)                        | PASS               |
+----------------------------------------+--------------------+
| Fedora 39 (ARM Clang)                  | PASS               |
+----------------------------------------+--------------------+
| Fedora 40 (ARM Clang)                  | PASS               |
+----------------------------------------+--------------------+
| Ubuntu 20.04 (ARM)                     | PASS               |
+----------------------------------------+--------------------+
| Ubuntu 22.04 (ARM)                     | PASS               |
+----------------------------------------+--------------------+
| Ubuntu 24.04 (ARM)                     | PASS               |
+----------------------------------------+--------------------+
| CentOS Stream 9 (ARM)                  | PASS               |
+----------------------------------------+--------------------+
| Debian 12 (arm)                        | PASS               |
+----------------------------------------+--------------------+
| Debian 11 (Buster) (ARM)               | PASS               |
+----------------------------------------+--------------------+
| Ubuntu 20.04 ARM Clang Cross Compile   | PASS               |
+----------------------------------------+--------------------+
| Ubuntu 20.04 aarch32 GCC Cross Compile | PASS               |
+----------------------------------------+--------------------+


RHEL9 (ARM)
	Kernel: Depends on container host
	Compiler: gcc 11.4.1

Debian 12 with MUSDK
	Kernel: Container Host Kernel
	Compiler: gcc 12.2.0

Ubuntu 20.04 ARM SVE
	Kernel: 5.4.0-167-generic
	Compiler: gcc (Ubuntu 10.5.0-1ubuntu1~20.04) 10.5.0

Ubuntu 20.04 ARM GCC Cross Compile
	Kernel: 5.4.0-167-generic
	Compiler: aarch64-linux-gnu-gcc (Ubuntu 9.4.0-1ubuntu1~20.04.2) 9.4.0

Fedora 38 (ARM)
	Kernel: Depends on container host
	Compiler: gcc 13.2.1

Fedora 38 (ARM Clang)
	Kernel: Depends on container host
	Compiler: clang 16.0.6

Fedora 37 (ARM)
	Kernel: Depends on container host
	Compiler: gcc 12.3.1

Fedora 40 (ARM)
	Kernel: Depends on container host
	Compiler: gcc 14.1.1

Fedora 39 (ARM)
	Kernel: Depends on container host
	Compiler: gcc 13.2.1

Fedora 39 (ARM Clang)
	Kernel: Depends on container host
	Compiler: clang 17.0.6

Fedora 40 (ARM Clang)
	Kernel: Depends on container host
	Compiler: clang 18.1.6

Ubuntu 20.04 (ARM)
	Kernel: Container Host Kernel
	Compiler: gcc 9.4.0

Ubuntu 22.04 (ARM)
	Kernel: Container Host Kernel
	Compiler: gcc 11.4.0

Ubuntu 24.04 (ARM)
	Kernel: 5.4.0-167-generic
	Compiler: gcc 13.2.0

CentOS Stream 9 (ARM)
	Kernel: Container Host Kernel
	Compiler: gcc 11.4.1

Debian 12 (arm)
	Kernel: Container Host Kernel
	Compiler: gcc 12.2.0

Debian 11 (Buster) (ARM)
	Kernel: Container Host Kernel
	Compiler: gcc 10.2.1

Ubuntu 20.04 ARM Clang Cross Compile
	Kernel: 5.4.0-72-generic
	Compiler: clang 10.0.0-4ubuntu1

Ubuntu 20.04 aarch32 GCC Cross Compile
	Kernel: 5.4.0-167-generic
	Compiler: gcc 9.4.0

To view detailed results, visit:
https://lab.dpdk.org/results/dashboard/patchsets/30636/

UNH-IOL DPDK Community Lab

To manage your email subscriptions, visit: 
https://lab.dpdk.org/results/dashboard/preferences/subscriptions/