From mboxrd@z Thu Jan  1 00:00:00 1970
Return-Path: <test-report-bounces@dpdk.org>
Received: from mails.dpdk.org (mails.dpdk.org [217.70.189.124])
	by inbox.dpdk.org (Postfix) with ESMTP id 1924D456C1
	for <public@inbox.dpdk.org>; Sat, 27 Jul 2024 00:20:54 +0200 (CEST)
Received: from mails.dpdk.org (localhost [127.0.0.1])
	by mails.dpdk.org (Postfix) with ESMTP id 14165402E2;
	Sat, 27 Jul 2024 00:20:54 +0200 (CEST)
Received: from mail-pf1-f225.google.com (mail-pf1-f225.google.com
 [209.85.210.225])
 by mails.dpdk.org (Postfix) with ESMTP id 62596402C4
 for <test-report@dpdk.org>; Sat, 27 Jul 2024 00:20:43 +0200 (CEST)
Received: by mail-pf1-f225.google.com with SMTP id
 d2e1a72fcca58-70d1cbbeeaeso1213404b3a.0
 for <test-report@dpdk.org>; Fri, 26 Jul 2024 15:20:43 -0700 (PDT)
DKIM-Signature: v=1; a=rsa-sha256; c=relaxed/relaxed;
 d=iol.unh.edu; s=unh-iol; t=1722032442; x=1722637242; darn=dpdk.org;
 h=references:in-reply-to:cc:to:from:subject:message-id:date:from:to
 :cc:subject:date:message-id:reply-to;
 bh=h97xNUqdcp2xz1M2C+tbSbzEUOVabe3gv7zgR5B4Qq0=;
 b=EHYnqIfoR5rx5KNC+UQ1Bgy8hpWIU2vHMNEworH1NIqKdG3LrAfuPBVJudF134NF5o
 MKcCBLuY+dxFj01lu+PFpo2bZF0j+zOEShlZNHpO5otq5ogUf9vzUZrSYHMynKIALOt1
 DSMf5kZVXOVjQ52kw3U4Pz++0ZXdMeDsNgjKE=
X-Google-DKIM-Signature: v=1; a=rsa-sha256; c=relaxed/relaxed;
 d=1e100.net; s=20230601; t=1722032442; x=1722637242;
 h=references:in-reply-to:cc:to:from:subject:message-id:date
 :x-gm-message-state:from:to:cc:subject:date:message-id:reply-to;
 bh=h97xNUqdcp2xz1M2C+tbSbzEUOVabe3gv7zgR5B4Qq0=;
 b=pzcxYHYOixfWSogXhz6kvRYRy5NQFgdzYDJQHmXnsVFfJpYBNe6Fg9GsMlZpQ0Dekd
 Xe8rlBEmv7W9/B4/ekT+iPPcfYPMzbgOhW1FEkKfgPGdzmy3iMt/nsA50WZoyCB5Jvj5
 rtvZzy+PFpHiiJMViYFtpschdh1cqhUs4a0lZgtjhaTG2CKONMq0wlwJLzYKXiZfR1wF
 S29AFsaap55gPJTvZNGf72I3JAGcnJief82c2BGbTkT0mv54i5Ag98aanwtVo3KYE+xu
 BfM9f/6uYXPfrIll2p8q/zcLDBrvpFUhS0VG3hnaM48P/1C0XC6KIsunUmNxxVLI+YIH
 hCwQ==
X-Gm-Message-State: AOJu0YyGELA8gv9J+QgzXunhzrf5Llv0B/S4ggY5tiDokCaGjk3/siv8
 kN1tFzE2siNh8LGN9273OUeqtIg7azAdcf4I+cOrIdyz3RtGxWq5WbNT9+0rwkHTIAb8MhreN+E
 36IaO4pNNHixoA6bEsE8cRgGZ484E3nkUFvLXhSp4
X-Google-Smtp-Source: AGHT+IH6IVTT680uGmNmazR5uagAjfpFgLuZhZQA4vUj3ERDeLxHYeUChbxRfKWtjIAsr+C9slHbEod8n6iA
X-Received: by 2002:a05:6a20:8413:b0:1bd:2a8d:e25d with SMTP id
 adf61e73a8af0-1c4a14ef4d1mr1084099637.47.1722032442477; 
 Fri, 26 Jul 2024 15:20:42 -0700 (PDT)
Received: from postal.iol.unh.edu (postal.iol.unh.edu. [132.177.123.84])
 by smtp-relay.gmail.com with ESMTPS id
 98e67ed59e1d1-2cdb6515997sm375816a91.0.2024.07.26.15.20.42
 (version=TLS1_2 cipher=ECDHE-ECDSA-AES128-GCM-SHA256 bits=128/128);
 Fri, 26 Jul 2024 15:20:42 -0700 (PDT)
X-Relaying-Domain: iol.unh.edu
Date: Fri, 26 Jul 2024 15:20:42 -0700 (PDT)
Message-ID: <66a4213a.170a0220.30fe3d.633cSMTPIN_ADDED_MISSING@mx.google.com>
Received: from [172.21.0.6] (unknown [172.18.0.240])
 by postal.iol.unh.edu (Postfix) with ESMTP id 8CF74605C380;
 Fri, 26 Jul 2024 18:20:41 -0400 (EDT)
Subject: |PENDING| pw142739-142738 [PATCH] [v4,4/4] eal: describe Arm CPU fea
From: dpdklab@iol.unh.edu
To: Test Report <test-report@dpdk.org>
Cc: dpdk-test-reports@iol.unh.edu
In-Reply-To: <20240726171528.2245682-4-wathsala.vithanage@arm.com>
References: <20240726171528.2245682-4-wathsala.vithanage@arm.com>
Content-Type: text/plain
X-BeenThere: test-report@dpdk.org
X-Mailman-Version: 2.1.29
Precedence: list
List-Id: automatic DPDK test reports <test-report.dpdk.org>
List-Unsubscribe: <https://mails.dpdk.org/options/test-report>,
 <mailto:test-report-request@dpdk.org?subject=unsubscribe>
List-Archive: <http://mails.dpdk.org/archives/test-report/>
List-Post: <mailto:test-report@dpdk.org>
List-Help: <mailto:test-report-request@dpdk.org?subject=help>
List-Subscribe: <https://mails.dpdk.org/listinfo/test-report>,
 <mailto:test-report-request@dpdk.org?subject=subscribe>
Errors-To: test-report-bounces@dpdk.org

Test-Label: iol-compile-arm64-testing
Test-Status: PENDING
http://dpdk.org/patch/142738

_Testing pending_

Submitter: Wathsala Wathawana Vithanage <wathsala.vithanage@arm.com>
Date: Friday, July 26 2024 17:15:27 
DPDK git baseline: Repo:dpdk
  Branch: master
  CommitID:82c47f005b9a0a1e3a649664b7713443d18abe43

142739-142738 --> testing pending

Upstream job id: Generic-DPDK-Compile-Meson#280422

Test environment and result as below:

+----------------------------------------+--------------------+
|              Environment               | dpdk_meson_compile |
+========================================+====================+
| RHEL9 (ARM)                            | PASS               |
+----------------------------------------+--------------------+
| Ubuntu 20.04 ARM GCC Cross Compile     | PEND               |
+----------------------------------------+--------------------+
| Debian 12 with MUSDK                   | PASS               |
+----------------------------------------+--------------------+
| Ubuntu 20.04 ARM SVE                   | PASS               |
+----------------------------------------+--------------------+
| Fedora 37 (ARM)                        | PASS               |
+----------------------------------------+--------------------+
| Fedora 38 (ARM)                        | PASS               |
+----------------------------------------+--------------------+
| Fedora 38 (ARM Clang)                  | PEND               |
+----------------------------------------+--------------------+
| Fedora 39 (ARM)                        | PASS               |
+----------------------------------------+--------------------+
| Fedora 39 (ARM Clang)                  | PEND               |
+----------------------------------------+--------------------+
| Fedora 40 (ARM Clang)                  | PEND               |
+----------------------------------------+--------------------+
| Fedora 40 (ARM)                        | PEND               |
+----------------------------------------+--------------------+
| Ubuntu 20.04 (ARM)                     | PASS               |
+----------------------------------------+--------------------+
| Ubuntu 22.04 (ARM)                     | PASS               |
+----------------------------------------+--------------------+
| CentOS Stream 9 (ARM)                  | PEND               |
+----------------------------------------+--------------------+
| Debian 11 (Buster) (ARM)               | PASS               |
+----------------------------------------+--------------------+
| Ubuntu 20.04 ARM Clang Cross Compile   | PEND               |
+----------------------------------------+--------------------+
| Ubuntu 24.04 (ARM)                     | PEND               |
+----------------------------------------+--------------------+
| Ubuntu 20.04 aarch32 GCC Cross Compile | PEND               |
+----------------------------------------+--------------------+
| Debian 12 (arm)                        | PEND               |
+----------------------------------------+--------------------+


RHEL9 (ARM)
	Kernel: Depends on container host
	Compiler: gcc 11.4.1

Ubuntu 20.04 ARM GCC Cross Compile
	Kernel: 5.4.0-167-generic
	Compiler: aarch64-linux-gnu-gcc (Ubuntu 9.4.0-1ubuntu1~20.04.2) 9.4.0

Debian 12 with MUSDK
	Kernel: Container Host Kernel
	Compiler: gcc 12.2.0

Ubuntu 20.04 ARM SVE
	Kernel: 5.4.0-167-generic
	Compiler: gcc (Ubuntu 10.5.0-1ubuntu1~20.04) 10.5.0

Fedora 37 (ARM)
	Kernel: Depends on container host
	Compiler: gcc 12.3.1

Fedora 38 (ARM)
	Kernel: Depends on container host
	Compiler: gcc 13.2.1

Fedora 38 (ARM Clang)
	Kernel: Depends on container host
	Compiler: clang 16.0.6

Fedora 39 (ARM)
	Kernel: Depends on container host
	Compiler: gcc 13.2.1

Fedora 39 (ARM Clang)
	Kernel: Depends on container host
	Compiler: clang 17.0.6

Fedora 40 (ARM Clang)
	Kernel: Depends on container host
	Compiler: clang 18.1.6

Fedora 40 (ARM)
	Kernel: Depends on container host
	Compiler: gcc 14.1.1

Ubuntu 20.04 (ARM)
	Kernel: Container Host Kernel
	Compiler: gcc 9.4.0

Ubuntu 22.04 (ARM)
	Kernel: Container Host Kernel
	Compiler: gcc 11.4.0

CentOS Stream 9 (ARM)
	Kernel: Container Host Kernel
	Compiler: gcc 11.4.1

Debian 11 (Buster) (ARM)
	Kernel: Container Host Kernel
	Compiler: gcc 10.2.1

Ubuntu 20.04 ARM Clang Cross Compile
	Kernel: 5.4.0-72-generic
	Compiler: clang 10.0.0-4ubuntu1

Ubuntu 24.04 (ARM)
	Kernel: 5.4.0-167-generic
	Compiler: gcc 13.2.0

Ubuntu 20.04 aarch32 GCC Cross Compile
	Kernel: 5.4.0-167-generic
	Compiler: gcc 9.4.0

Debian 12 (arm)
	Kernel: Container Host Kernel
	Compiler: gcc 12.2.0

To view detailed results, visit:
https://lab.dpdk.org/results/dashboard/patchsets/30635/

UNH-IOL DPDK Community Lab

To manage your email subscriptions, visit: 
https://lab.dpdk.org/results/dashboard/preferences/subscriptions/